Workbook

Sheet Bilan thermique
A1: Bilan thermique par zone
A2: ID zone | B2: Nom de la zone | C2: Ville | D2: Responsable | E2: Surface chauffée (m²) | F2: Hauteur sous plafond (m) | G2: Volume (m³) | H2: Température intérieure (°C) | I2: Température extérieure de base (°C) | J2: Écart de température ΔT (K) | K2: Surface des murs (m²) | L2: U murs (W/m²·K) | M2: Surface toiture/plafond (m²) | N2: U toiture (W/m²·K) | O2: Surface plancher (m²) | P2: U plancher (W/m²·K) | Q2: Surface vitrages (m²) | R2: U vitrages (W/m²·K) | S2: Surface portes (m²) | T2: U portes (W/m²·K) | U2: Taux de renouvellement d’air (vol/h) | V2: Déperditions murs (W) | W2: Déperditions toiture (W) | X2: Déperditions plancher (W) | Y2: Déperditions vitrages (W) | Z2: Déperditions portes (W) | AA2: Déperditions ventilation (W) | AB2: Déperditions totales (W) | AC2: Marge de sécurité (%) | AD2: Puissance de chauffage recommandée (W) | AE2: Part de la zone dans le total (%) | AF2: Statut
A3: ZT-001 | B3: Séjour | C3: Lyon | D3: Camille | E3: 35 | F3: 2.5 | G3: =IF(OR('Bilan thermique'!E3="",'Bilan thermique'!F3=""),"",'Bilan thermique'!E3*'Bilan thermique'!F3) | H3: =IF('Bilan thermique'!B3="","",'Paramètres'!$B$9) | I3: =IF('Bilan thermique'!C3="","",IFERROR(VLOOKUP('Bilan thermique'!C3,'Paramètres'!$A$15:$B$23,2,FALSE),-5)) | J3: =IF(OR('Bilan thermique'!H3="",'Bilan thermique'!I3=""),"",'Bilan thermique'!H3-'Bilan thermique'!I3) | K3: 45 | L3: =IF('Bilan thermique'!B3="","",IFERROR(VLOOKUP('Paramètres'!$D$15,'Paramètres'!$D$15:$E$19,2,FALSE),0)) | M3: 35 | N3: =IF('Bilan thermique'!B3="","",IFERROR(VLOOKUP('Paramètres'!$D$16,'Paramètres'!$D$15:$E$19,2,FALSE),0)) | O3: 35 | P3: =IF('Bilan thermique'!B3="","",IFERROR(VLOOKUP('Paramètres'!$D$17,'Paramètres'!$D$15:$E$19,2,FALSE),0)) | Q3: 6.5 | R3: =IF('Bilan thermique'!B3="","",IFERROR(VLOOKUP('Paramètres'!$D$18,'Paramètres'!$D$15:$E$19,2,FALSE),0)) | S3: 2 | T3: =IF('Bilan thermique'!B3="","",IFERROR(VLOOKUP('Paramètres'!$D$19,'Paramètres'!$D$15:$E$19,2,FALSE),0)) | U3: 0.45 | V3: =IF(OR('Bilan thermique'!K3="",'Bilan thermique'!L3="",'Bilan thermique'!J3=""),"",'Bilan thermique'!K3*'Bilan thermique'!L3*'Bilan thermique'!J3) | W3: =IF(OR('Bilan thermique'!M3="",'Bilan thermique'!N3="",'Bilan thermique'!J3=""),"",'Bilan thermique'!M3*'Bilan thermique'!N3*'Bilan thermique'!J3) | X3: =IF(OR('Bilan thermique'!O3="",'Bilan thermique'!P3="",'Bilan thermique'!J3=""),"",'Bilan thermique'!O3*'Bilan thermique'!P3*'Bilan thermique'!J3) | Y3: =IF(OR('Bilan thermique'!Q3="",'Bilan thermique'!R3="",'Bilan thermique'!J3=""),"",'Bilan thermique'!Q3*'Bilan thermique'!R3*'Bilan thermique'!J3) | Z3: =IF(OR('Bilan thermique'!S3="",'Bilan thermique'!T3="",'Bilan thermique'!J3=""),"",'Bilan thermique'!S3*'Bilan thermique'!T3*'Bilan thermique'!J3) | AA3: =IF(OR('Bilan thermique'!G3="",'Bilan thermique'!U3="",'Bilan thermique'!J3=""),"",'Paramètres'!$B$10*'Bilan thermique'!G3*'Bilan thermique'!U3*'Bilan thermique'!J3) | AB3: =IF(COUNTA('Bilan thermique'!C3,'Bilan thermique'!E3,'Bilan thermique'!F3,'Bilan thermique'!K3,'Bilan thermique'!M3,'Bilan thermique'!O3,'Bilan thermique'!Q3,'Bilan thermique'!S3,'Bilan thermique'!U3)<9,"",SUM('Bilan thermique'!V3:AA3)) | AC3: =IF('Bilan thermique'!B3="","",'Paramètres'!$B$11) | AD3: =IF(OR('Bilan thermique'!AB3="",'Bilan thermique'!AC3=""),"",'Bilan thermique'!AB3*(1+'Bilan thermique'!AC3)) | AE3: =IF('Bilan thermique'!AB3="","",IFERROR('Bilan thermique'!AB3/SUM('Bilan thermique'!$AB$3:$AB$102),0)) | AF3: =IF('Bilan thermique'!AD3="","",IF('Bilan thermique'!AD3>15000,"À vérifier",IF('Bilan thermique'!AD3>8000,"Élevée","Normale")))
A4: ZT-002 | B4: Cuisine | C4: Lyon | D4: Julien | E4: 14 | F4: 2.5 | G4: =IF(OR('Bilan thermique'!E4="",'Bilan thermique'!F4=""),"",'Bilan thermique'!E4*'Bilan thermique'!F4) | H4: =IF('Bilan thermique'!B4="","",'Paramètres'!$B$9) | I4: =IF('Bilan thermique'!C4="","",IFERROR(VLOOKUP('Bilan thermique'!C4,'Paramètres'!$A$15:$B$23,2,FALSE),-5)) | J4: =IF(OR('Bilan thermique'!H4="",'Bilan thermique'!I4=""),"",'Bilan thermique'!H4-'Bilan thermique'!I4) | K4: 28 | L4: =IF('Bilan thermique'!B4="","",IFERROR(VLOOKUP('Paramètres'!$D$15,'Paramètres'!$D$15:$E$19,2,FALSE),0)) | M4: 14 | N4: =IF('Bilan thermique'!B4="","",IFERROR(VLOOKUP('Paramètres'!$D$16,'Paramètres'!$D$15:$E$19,2,FALSE),0)) | O4: 14 | P4: =IF('Bilan thermique'!B4="","",IFERROR(VLOOKUP('Paramètres'!$D$17,'Paramètres'!$D$15:$E$19,2,FALSE),0)) | Q4: 2.5 | R4: =IF('Bilan thermique'!B4="","",IFERROR(VLOOKUP('Paramètres'!$D$18,'Paramètres'!$D$15:$E$19,2,FALSE),0)) | S4: 1.8 | T4: =IF('Bilan thermique'!B4="","",IFERROR(VLOOKUP('Paramètres'!$D$19,'Paramètres'!$D$15:$E$19,2,FALSE),0)) | U4: 0.55 | V4: =IF(OR('Bilan thermique'!K4="",'Bilan thermique'!L4="",'Bilan thermique'!J4=""),"",'Bilan thermique'!K4*'Bilan thermique'!L4*'Bilan thermique'!J4) | W4: =IF(OR('Bilan thermique'!M4="",'Bilan thermique'!N4="",'Bilan thermique'!J4=""),"",'Bilan thermique'!M4*'Bilan thermique'!N4*'Bilan thermique'!J4) | X4: =IF(OR('Bilan thermique'!O4="",'Bilan thermique'!P4="",'Bilan thermique'!J4=""),"",'Bilan thermique'!O4*'Bilan thermique'!P4*'Bilan thermique'!J4) | Y4: =IF(OR('Bilan thermique'!Q4="",'Bilan thermique'!R4="",'Bilan thermique'!J4=""),"",'Bilan thermique'!Q4*'Bilan thermique'!R4*'Bilan thermique'!J4) | Z4: =IF(OR('Bilan thermique'!S4="",'Bilan thermique'!T4="",'Bilan thermique'!J4=""),"",'Bilan thermique'!S4*'Bilan thermique'!T4*'Bilan thermique'!J4) | AA4: =IF(OR('Bilan thermique'!G4="",'Bilan thermique'!U4="",'Bilan thermique'!J4=""),"",'Paramètres'!$B$10*'Bilan thermique'!G4*'Bilan thermique'!U4*'Bilan thermique'!J4) | AB4: =IF(COUNTA('Bilan thermique'!C4,'Bilan thermique'!E4,'Bilan thermique'!F4,'Bilan thermique'!K4,'Bilan thermique'!M4,'Bilan thermique'!O4,'Bilan thermique'!Q4,'Bilan thermique'!S4,'Bilan thermique'!U4)<9,"",SUM('Bilan thermique'!V4:AA4)) | AC4: =IF('Bilan thermique'!B4="","",'Paramètres'!$B$11) | AD4: =IF(OR('Bilan thermique'!AB4="",'Bilan thermique'!AC4=""),"",'Bilan thermique'!AB4*(1+'Bilan thermique'!AC4)) | AE4: =IF('Bilan thermique'!AB4="","",IFERROR('Bilan thermique'!AB4/SUM('Bilan thermique'!$AB$3:$AB$102),0)) | AF4: =IF('Bilan thermique'!AD4="","",IF('Bilan thermique'!AD4>15000,"À vérifier",IF('Bilan thermique'!AD4>8000,"Élevée","Normale")))
A5: ZT-003 | B5: Chambre 1 | C5: Lyon | D5: Léa | E5: 13 | F5: 2.5 | G5: =IF(OR('Bilan thermique'!E5="",'Bilan thermique'!F5=""),"",'Bilan thermique'!E5*'Bilan thermique'!F5) | H5: =IF('Bilan thermique'!B5="","",'Paramètres'!$B$9) | I5: =IF('Bilan thermique'!C5="","",IFERROR(VLOOKUP('Bilan thermique'!C5,'Paramètres'!$A$15:$B$23,2,FALSE),-5)) | J5: =IF(OR('Bilan thermique'!H5="",'Bilan thermique'!I5=""),"",'Bilan thermique'!H5-'Bilan thermique'!I5) | K5: 27 | L5: =IF('Bilan thermique'!B5="","",IFERROR(VLOOKUP('Paramètres'!$D$15,'Paramètres'!$D$15:$E$19,2,FALSE),0)) | M5: 13 | N5: =IF('Bilan thermique'!B5="","",IFERROR(VLOOKUP('Paramètres'!$D$16,'Paramètres'!$D$15:$E$19,2,FALSE),0)) | O5: 13 | P5: =IF('Bilan thermique'!B5="","",IFERROR(VLOOKUP('Paramètres'!$D$17,'Paramètres'!$D$15:$E$19,2,FALSE),0)) | Q5: 2.2 | R5: =IF('Bilan thermique'!B5="","",IFERROR(VLOOKUP('Paramètres'!$D$18,'Paramètres'!$D$15:$E$19,2,FALSE),0)) | S5: 0.8 | T5: =IF('Bilan thermique'!B5="","",IFERROR(VLOOKUP('Paramètres'!$D$19,'Paramètres'!$D$15:$E$19,2,FALSE),0)) | U5: 0.4 | V5: =IF(OR('Bilan thermique'!K5="",'Bilan thermique'!L5="",'Bilan thermique'!J5=""),"",'Bilan thermique'!K5*'Bilan thermique'!L5*'Bilan thermique'!J5) | W5: =IF(OR('Bilan thermique'!M5="",'Bilan thermique'!N5="",'Bilan thermique'!J5=""),"",'Bilan thermique'!M5*'Bilan thermique'!N5*'Bilan thermique'!J5) | X5: =IF(OR('Bilan thermique'!O5="",'Bilan thermique'!P5="",'Bilan thermique'!J5=""),"",'Bilan thermique'!O5*'Bilan thermique'!P5*'Bilan thermique'!J5) | Y5: =IF(OR('Bilan thermique'!Q5="",'Bilan thermique'!R5="",'Bilan thermique'!J5=""),"",'Bilan thermique'!Q5*'Bilan thermique'!R5*'Bilan thermique'!J5) | Z5: =IF(OR('Bilan thermique'!S5="",'Bilan thermique'!T5="",'Bilan thermique'!J5=""),"",'Bilan thermique'!S5*'Bilan thermique'!T5*'Bilan thermique'!J5) | AA5: =IF(OR('Bilan thermique'!G5="",'Bilan thermique'!U5="",'Bilan thermique'!J5=""),"",'Paramètres'!$B$10*'Bilan thermique'!G5*'Bilan thermique'!U5*'Bilan thermique'!J5) | AB5: =IF(COUNTA('Bilan thermique'!C5,'Bilan thermique'!E5,'Bilan thermique'!F5,'Bilan thermique'!K5,'Bilan thermique'!M5,'Bilan thermique'!O5,'Bilan thermique'!Q5,'Bilan thermique'!S5,'Bilan thermique'!U5)<9,"",SUM('Bilan thermique'!V5:AA5)) | AC5: =IF('Bilan thermique'!B5="","",'Paramètres'!$B$11) | AD5: =IF(OR('Bilan thermique'!AB5="",'Bilan thermique'!AC5=""),"",'Bilan thermique'!AB5*(1+'Bilan thermique'!AC5)) | AE5: =IF('Bilan thermique'!AB5="","",IFERROR('Bilan thermique'!AB5/SUM('Bilan thermique'!$AB$3:$AB$102),0)) | AF5: =IF('Bilan thermique'!AD5="","",IF('Bilan thermique'!AD5>15000,"À vérifier",IF('Bilan thermique'!AD5>8000,"Élevée","Normale")))
A6: ZT-004 | B6: Chambre 2 | C6: Lyon | D6: Thomas | E6: 12 | F6: 2.5 | G6: =IF(OR('Bilan thermique'!E6="",'Bilan thermique'!F6=""),"",'Bilan thermique'!E6*'Bilan thermique'!F6) | H6: =IF('Bilan thermique'!B6="","",'Paramètres'!$B$9) | I6: =IF('Bilan thermique'!C6="","",IFERROR(VLOOKUP('Bilan thermique'!C6,'Paramètres'!$A$15:$B$23,2,FALSE),-5)) | J6: =IF(OR('Bilan thermique'!H6="",'Bilan thermique'!I6=""),"",'Bilan thermique'!H6-'Bilan thermique'!I6) | K6: 25 | L6: =IF('Bilan thermique'!B6="","",IFERROR(VLOOKUP('Paramètres'!$D$15,'Paramètres'!$D$15:$E$19,2,FALSE),0)) | M6: 12 | N6: =IF('Bilan thermique'!B6="","",IFERROR(VLOOKUP('Paramètres'!$D$16,'Paramètres'!$D$15:$E$19,2,FALSE),0)) | O6: 12 | P6: =IF('Bilan thermique'!B6="","",IFERROR(VLOOKUP('Paramètres'!$D$17,'Paramètres'!$D$15:$E$19,2,FALSE),0)) | Q6: 2 | R6: =IF('Bilan thermique'!B6="","",IFERROR(VLOOKUP('Paramètres'!$D$18,'Paramètres'!$D$15:$E$19,2,FALSE),0)) | S6: 0.8 | T6: =IF('Bilan thermique'!B6="","",IFERROR(VLOOKUP('Paramètres'!$D$19,'Paramètres'!$D$15:$E$19,2,FALSE),0)) | U6: 0.4 | V6: =IF(OR('Bilan thermique'!K6="",'Bilan thermique'!L6="",'Bilan thermique'!J6=""),"",'Bilan thermique'!K6*'Bilan thermique'!L6*'Bilan thermique'!J6) | W6: =IF(OR('Bilan thermique'!M6="",'Bilan thermique'!N6="",'Bilan thermique'!J6=""),"",'Bilan thermique'!M6*'Bilan thermique'!N6*'Bilan thermique'!J6) | X6: =IF(OR('Bilan thermique'!O6="",'Bilan thermique'!P6="",'Bilan thermique'!J6=""),"",'Bilan thermique'!O6*'Bilan thermique'!P6*'Bilan thermique'!J6) | Y6: =IF(OR('Bilan thermique'!Q6="",'Bilan thermique'!R6="",'Bilan thermique'!J6=""),"",'Bilan thermique'!Q6*'Bilan thermique'!R6*'Bilan thermique'!J6) | Z6: =IF(OR('Bilan thermique'!S6="",'Bilan thermique'!T6="",'Bilan thermique'!J6=""),"",'Bilan thermique'!S6*'Bilan thermique'!T6*'Bilan thermique'!J6) | AA6: =IF(OR('Bilan thermique'!G6="",'Bilan thermique'!U6="",'Bilan thermique'!J6=""),"",'Paramètres'!$B$10*'Bilan thermique'!G6*'Bilan thermique'!U6*'Bilan thermique'!J6) | AB6: =IF(COUNTA('Bilan thermique'!C6,'Bilan thermique'!E6,'Bilan thermique'!F6,'Bilan thermique'!K6,'Bilan thermique'!M6,'Bilan thermique'!O6,'Bilan thermique'!Q6,'Bilan thermique'!S6,'Bilan thermique'!U6)<9,"",SUM('Bilan thermique'!V6:AA6)) | AC6: =IF('Bilan thermique'!B6="","",'Paramètres'!$B$11) | AD6: =IF(OR('Bilan thermique'!AB6="",'Bilan thermique'!AC6=""),"",'Bilan thermique'!AB6*(1+'Bilan thermique'!AC6)) | AE6: =IF('Bilan thermique'!AB6="","",IFERROR('Bilan thermique'!AB6/SUM('Bilan thermique'!$AB$3:$AB$102),0)) | AF6: =IF('Bilan thermique'!AD6="","",IF('Bilan thermique'!AD6>15000,"À vérifier",IF('Bilan thermique'!AD6>8000,"Élevée","Normale")))
A7: ZT-005 | B7: Bureau | C7: Lyon | D7: Chloé | E7: 10 | F7: 2.5 | G7: =IF(OR('Bilan thermique'!E7="",'Bilan thermique'!F7=""),"",'Bilan thermique'!E7*'Bilan thermique'!F7) | H7: =IF('Bilan thermique'!B7="","",'Paramètres'!$B$9) | I7: =IF('Bilan thermique'!C7="","",IFERROR(VLOOKUP('Bilan thermique'!C7,'Paramètres'!$A$15:$B$23,2,FALSE),-5)) | J7: =IF(OR('Bilan thermique'!H7="",'Bilan thermique'!I7=""),"",'Bilan thermique'!H7-'Bilan thermique'!I7) | K7: 22 | L7: =IF('Bilan thermique'!B7="","",IFERROR(VLOOKUP('Paramètres'!$D$15,'Paramètres'!$D$15:$E$19,2,FALSE),0)) | M7: 10 | N7: =IF('Bilan thermique'!B7="","",IFERROR(VLOOKUP('Paramètres'!$D$16,'Paramètres'!$D$15:$E$19,2,FALSE),0)) | O7: 10 | P7: =IF('Bilan thermique'!B7="","",IFERROR(VLOOKUP('Paramètres'!$D$17,'Paramètres'!$D$15:$E$19,2,FALSE),0)) | Q7: 2.8 | R7: =IF('Bilan thermique'!B7="","",IFERROR(VLOOKUP('Paramètres'!$D$18,'Paramètres'!$D$15:$E$19,2,FALSE),0)) | S7: 0.8 | T7: =IF('Bilan thermique'!B7="","",IFERROR(VLOOKUP('Paramètres'!$D$19,'Paramètres'!$D$15:$E$19,2,FALSE),0)) | U7: 0.45 | V7: =IF(OR('Bilan thermique'!K7="",'Bilan thermique'!L7="",'Bilan thermique'!J7=""),"",'Bilan thermique'!K7*'Bilan thermique'!L7*'Bilan thermique'!J7) | W7: =IF(OR('Bilan thermique'!M7="",'Bilan thermique'!N7="",'Bilan thermique'!J7=""),"",'Bilan thermique'!M7*'Bilan thermique'!N7*'Bilan thermique'!J7) | X7: =IF(OR('Bilan thermique'!O7="",'Bilan thermique'!P7="",'Bilan thermique'!J7=""),"",'Bilan thermique'!O7*'Bilan thermique'!P7*'Bilan thermique'!J7) | Y7: =IF(OR('Bilan thermique'!Q7="",'Bilan thermique'!R7="",'Bilan thermique'!J7=""),"",'Bilan thermique'!Q7*'Bilan thermique'!R7*'Bilan thermique'!J7) | Z7: =IF(OR('Bilan thermique'!S7="",'Bilan thermique'!T7="",'Bilan thermique'!J7=""),"",'Bilan thermique'!S7*'Bilan thermique'!T7*'Bilan thermique'!J7) | AA7: =IF(OR('Bilan thermique'!G7="",'Bilan thermique'!U7="",'Bilan thermique'!J7=""),"",'Paramètres'!$B$10*'Bilan thermique'!G7*'Bilan thermique'!U7*'Bilan thermique'!J7) | AB7: =IF(COUNTA('Bilan thermique'!C7,'Bilan thermique'!E7,'Bilan thermique'!F7,'Bilan thermique'!K7,'Bilan thermique'!M7,'Bilan thermique'!O7,'Bilan thermique'!Q7,'Bilan thermique'!S7,'Bilan thermique'!U7)<9,"",SUM('Bilan thermique'!V7:AA7)) | AC7: =IF('Bilan thermique'!B7="","",'Paramètres'!$B$11) | AD7: =IF(OR('Bilan thermique'!AB7="",'Bilan thermique'!AC7=""),"",'Bilan thermique'!AB7*(1+'Bilan thermique'!AC7)) | AE7: =IF('Bilan thermique'!AB7="","",IFERROR('Bilan thermique'!AB7/SUM('Bilan thermique'!$AB$3:$AB$102),0)) | AF7: =IF('Bilan thermique'!AD7="","",IF('Bilan thermique'!AD7>15000,"À vérifier",IF('Bilan thermique'!AD7>8000,"Élevée","Normale")))
A8: ZT-006 | B8: Salle de bains | C8: Lyon | D8: Nicolas | E8: 7 | F8: 2.4 | G8: =IF(OR('Bilan thermique'!E8="",'Bilan thermique'!F8=""),"",'Bilan thermique'!E8*'Bilan thermique'!F8) | H8: =IF('Bilan thermique'!B8="","",'Paramètres'!$B$9) | I8: =IF('Bilan thermique'!C8="","",IFERROR(VLOOKUP('Bilan thermique'!C8,'Paramètres'!$A$15:$B$23,2,FALSE),-5)) | J8: =IF(OR('Bilan thermique'!H8="",'Bilan thermique'!I8=""),"",'Bilan thermique'!H8-'Bilan thermique'!I8) | K8: 17 | L8: =IF('Bilan thermique'!B8="","",IFERROR(VLOOKUP('Paramètres'!$D$15,'Paramètres'!$D$15:$E$19,2,FALSE),0)) | M8: 7 | N8: =IF('Bilan thermique'!B8="","",IFERROR(VLOOKUP('Paramètres'!$D$16,'Paramètres'!$D$15:$E$19,2,FALSE),0)) | O8: 7 | P8: =IF('Bilan thermique'!B8="","",IFERROR(VLOOKUP('Paramètres'!$D$17,'Paramètres'!$D$15:$E$19,2,FALSE),0)) | Q8: 1 | R8: =IF('Bilan thermique'!B8="","",IFERROR(VLOOKUP('Paramètres'!$D$18,'Paramètres'!$D$15:$E$19,2,FALSE),0)) | S8: 0.8 | T8: =IF('Bilan thermique'!B8="","",IFERROR(VLOOKUP('Paramètres'!$D$19,'Paramètres'!$D$15:$E$19,2,FALSE),0)) | U8: 0.6 | V8: =IF(OR('Bilan thermique'!K8="",'Bilan thermique'!L8="",'Bilan thermique'!J8=""),"",'Bilan thermique'!K8*'Bilan thermique'!L8*'Bilan thermique'!J8) | W8: =IF(OR('Bilan thermique'!M8="",'Bilan thermique'!N8="",'Bilan thermique'!J8=""),"",'Bilan thermique'!M8*'Bilan thermique'!N8*'Bilan thermique'!J8) | X8: =IF(OR('Bilan thermique'!O8="",'Bilan thermique'!P8="",'Bilan thermique'!J8=""),"",'Bilan thermique'!O8*'Bilan thermique'!P8*'Bilan thermique'!J8) | Y8: =IF(OR('Bilan thermique'!Q8="",'Bilan thermique'!R8="",'Bilan thermique'!J8=""),"",'Bilan thermique'!Q8*'Bilan thermique'!R8*'Bilan thermique'!J8) | Z8: =IF(OR('Bilan thermique'!S8="",'Bilan thermique'!T8="",'Bilan thermique'!J8=""),"",'Bilan thermique'!S8*'Bilan thermique'!T8*'Bilan thermique'!J8) | AA8: =IF(OR('Bilan thermique'!G8="",'Bilan thermique'!U8="",'Bilan thermique'!J8=""),"",'Paramètres'!$B$10*'Bilan thermique'!G8*'Bilan thermique'!U8*'Bilan thermique'!J8) | AB8: =IF(COUNTA('Bilan thermique'!C8,'Bilan thermique'!E8,'Bilan thermique'!F8,'Bilan thermique'!K8,'Bilan thermique'!M8,'Bilan thermique'!O8,'Bilan thermique'!Q8,'Bilan thermique'!S8,'Bilan thermique'!U8)<9,"",SUM('Bilan thermique'!V8:AA8)) | AC8: =IF('Bilan thermique'!B8="","",'Paramètres'!$B$11) | AD8: =IF(OR('Bilan thermique'!AB8="",'Bilan thermique'!AC8=""),"",'Bilan thermique'!AB8*(1+'Bilan thermique'!AC8)) | AE8: =IF('Bilan thermique'!AB8="","",IFERROR('Bilan thermique'!AB8/SUM('Bilan thermique'!$AB$3:$AB$102),0)) | AF8: =IF('Bilan thermique'!AD8="","",IF('Bilan thermique'!AD8>15000,"À vérifier",IF('Bilan thermique'!AD8>8000,"Élevée","Normale")))
A9: ZT-007 | B9: Entrée | C9: Lyon | D9: Manon | E9: 8 | F9: 2.5 | G9: =IF(OR('Bilan thermique'!E9="",'Bilan thermique'!F9=""),"",'Bilan thermique'!E9*'Bilan thermique'!F9) | H9: =IF('Bilan thermique'!B9="","",'Paramètres'!$B$9) | I9: =IF('Bilan thermique'!C9="","",IFERROR(VLOOKUP('Bilan thermique'!C9,'Paramètres'!$A$15:$B$23,2,FALSE),-5)) | J9: =IF(OR('Bilan thermique'!H9="",'Bilan thermique'!I9=""),"",'Bilan thermique'!H9-'Bilan thermique'!I9) | K9: 18 | L9: =IF('Bilan thermique'!B9="","",IFERROR(VLOOKUP('Paramètres'!$D$15,'Paramètres'!$D$15:$E$19,2,FALSE),0)) | M9: 8 | N9: =IF('Bilan thermique'!B9="","",IFERROR(VLOOKUP('Paramètres'!$D$16,'Paramètres'!$D$15:$E$19,2,FALSE),0)) | O9: 8 | P9: =IF('Bilan thermique'!B9="","",IFERROR(VLOOKUP('Paramètres'!$D$17,'Paramètres'!$D$15:$E$19,2,FALSE),0)) | Q9: 1.2 | R9: =IF('Bilan thermique'!B9="","",IFERROR(VLOOKUP('Paramètres'!$D$18,'Paramètres'!$D$15:$E$19,2,FALSE),0)) | S9: 1.8 | T9: =IF('Bilan thermique'!B9="","",IFERROR(VLOOKUP('Paramètres'!$D$19,'Paramètres'!$D$15:$E$19,2,FALSE),0)) | U9: 0.5 | V9: =IF(OR('Bilan thermique'!K9="",'Bilan thermique'!L9="",'Bilan thermique'!J9=""),"",'Bilan thermique'!K9*'Bilan thermique'!L9*'Bilan thermique'!J9) | W9: =IF(OR('Bilan thermique'!M9="",'Bilan thermique'!N9="",'Bilan thermique'!J9=""),"",'Bilan thermique'!M9*'Bilan thermique'!N9*'Bilan thermique'!J9) | X9: =IF(OR('Bilan thermique'!O9="",'Bilan thermique'!P9="",'Bilan thermique'!J9=""),"",'Bilan thermique'!O9*'Bilan thermique'!P9*'Bilan thermique'!J9) | Y9: =IF(OR('Bilan thermique'!Q9="",'Bilan thermique'!R9="",'Bilan thermique'!J9=""),"",'Bilan thermique'!Q9*'Bilan thermique'!R9*'Bilan thermique'!J9) | Z9: =IF(OR('Bilan thermique'!S9="",'Bilan thermique'!T9="",'Bilan thermique'!J9=""),"",'Bilan thermique'!S9*'Bilan thermique'!T9*'Bilan thermique'!J9) | AA9: =IF(OR('Bilan thermique'!G9="",'Bilan thermique'!U9="",'Bilan thermique'!J9=""),"",'Paramètres'!$B$10*'Bilan thermique'!G9*'Bilan thermique'!U9*'Bilan thermique'!J9) | AB9: =IF(COUNTA('Bilan thermique'!C9,'Bilan thermique'!E9,'Bilan thermique'!F9,'Bilan thermique'!K9,'Bilan thermique'!M9,'Bilan thermique'!O9,'Bilan thermique'!Q9,'Bilan thermique'!S9,'Bilan thermique'!U9)<9,"",SUM('Bilan thermique'!V9:AA9)) | AC9: =IF('Bilan thermique'!B9="","",'Paramètres'!$B$11) | AD9: =IF(OR('Bilan thermique'!AB9="",'Bilan thermique'!AC9=""),"",'Bilan thermique'!AB9*(1+'Bilan thermique'!AC9)) | AE9: =IF('Bilan thermique'!AB9="","",IFERROR('Bilan thermique'!AB9/SUM('Bilan thermique'!$AB$3:$AB$102),0)) | AF9: =IF('Bilan thermique'!AD9="","",IF('Bilan thermique'!AD9>15000,"À vérifier",IF('Bilan thermique'!AD9>8000,"Élevée","Normale")))
A10: ZT-008 | B10: Garage | C10: Lyon | D10: Antoine | E10: 22 | F10: 2.6 | G10: =IF(OR('Bilan thermique'!E10="",'Bilan thermique'!F10=""),"",'Bilan thermique'!E10*'Bilan thermique'!F10) | H10: =IF('Bilan thermique'!B10="","",'Paramètres'!$B$9) | I10: =IF('Bilan thermique'!C10="","",IFERROR(VLOOKUP('Bilan thermique'!C10,'Paramètres'!$A$15:$B$23,2,FALSE),-5)) | J10: =IF(OR('Bilan thermique'!H10="",'Bilan thermique'!I10=""),"",'Bilan thermique'!H10-'Bilan thermique'!I10) | K10: 38 | L10: =IF('Bilan thermique'!B10="","",IFERROR(VLOOKUP('Paramètres'!$D$15,'Paramètres'!$D$15:$E$19,2,FALSE),0)) | M10: 22 | N10: =IF('Bilan thermique'!B10="","",IFERROR(VLOOKUP('Paramètres'!$D$16,'Paramètres'!$D$15:$E$19,2,FALSE),0)) | O10: 22 | P10: =IF('Bilan thermique'!B10="","",IFERROR(VLOOKUP('Paramètres'!$D$17,'Paramètres'!$D$15:$E$19,2,FALSE),0)) | Q10: 1.5 | R10: =IF('Bilan thermique'!B10="","",IFERROR(VLOOKUP('Paramètres'!$D$18,'Paramètres'!$D$15:$E$19,2,FALSE),0)) | S10: 3 | T10: =IF('Bilan thermique'!B10="","",IFERROR(VLOOKUP('Paramètres'!$D$19,'Paramètres'!$D$15:$E$19,2,FALSE),0)) | U10: 0.6 | V10: =IF(OR('Bilan thermique'!K10="",'Bilan thermique'!L10="",'Bilan thermique'!J10=""),"",'Bilan thermique'!K10*'Bilan thermique'!L10*'Bilan thermique'!J10) | W10: =IF(OR('Bilan thermique'!M10="",'Bilan thermique'!N10="",'Bilan thermique'!J10=""),"",'Bilan thermique'!M10*'Bilan thermique'!N10*'Bilan thermique'!J10) | X10: =IF(OR('Bilan thermique'!O10="",'Bilan thermique'!P10="",'Bilan thermique'!J10=""),"",'Bilan thermique'!O10*'Bilan thermique'!P10*'Bilan thermique'!J10) | Y10: =IF(OR('Bilan thermique'!Q10="",'Bilan thermique'!R10="",'Bilan thermique'!J10=""),"",'Bilan thermique'!Q10*'Bilan thermique'!R10*'Bilan thermique'!J10) | Z10: =IF(OR('Bilan thermique'!S10="",'Bilan thermique'!T10="",'Bilan thermique'!J10=""),"",'Bilan thermique'!S10*'Bilan thermique'!T10*'Bilan thermique'!J10) | AA10: =IF(OR('Bilan thermique'!G10="",'Bilan thermique'!U10="",'Bilan thermique'!J10=""),"",'Paramètres'!$B$10*'Bilan thermique'!G10*'Bilan thermique'!U10*'Bilan thermique'!J10) | AB10: =IF(COUNTA('Bilan thermique'!C10,'Bilan thermique'!E10,'Bilan thermique'!F10,'Bilan thermique'!K10,'Bilan thermique'!M10,'Bilan thermique'!O10,'Bilan thermique'!Q10,'Bilan thermique'!S10,'Bilan thermique'!U10)<9,"",SUM('Bilan thermique'!V10:AA10)) | AC10: =IF('Bilan thermique'!B10="","",'Paramètres'!$B$11) | AD10: =IF(OR('Bilan thermique'!AB10="",'Bilan thermique'!AC10=""),"",'Bilan thermique'!AB10*(1+'Bilan thermique'!AC10)) | AE10: =IF('Bilan thermique'!AB10="","",IFERROR('Bilan thermique'!AB10/SUM('Bilan thermique'!$AB$3:$AB$102),0)) | AF10: =IF('Bilan thermique'!AD10="","",IF('Bilan thermique'!AD10>15000,"À vérifier",IF('Bilan thermique'!AD10>8000,"Élevée","Normale")))
A11: ZT-009 | B11: Véranda | C11: Lyon | D11: Sarah | E11: 16 | F11: 2.5 | G11: =IF(OR('Bilan thermique'!E11="",'Bilan thermique'!F11=""),"",'Bilan thermique'!E11*'Bilan thermique'!F11) | H11: =IF('Bilan thermique'!B11="","",'Paramètres'!$B$9) | I11: =IF('Bilan thermique'!C11="","",IFERROR(VLOOKUP('Bilan thermique'!C11,'Paramètres'!$A$15:$B$23,2,FALSE),-5)) | J11: =IF(OR('Bilan thermique'!H11="",'Bilan thermique'!I11=""),"",'Bilan thermique'!H11-'Bilan thermique'!I11) | K11: 14 | L11: =IF('Bilan thermique'!B11="","",IFERROR(VLOOKUP('Paramètres'!$D$15,'Paramètres'!$D$15:$E$19,2,FALSE),0)) | M11: 16 | N11: =IF('Bilan thermique'!B11="","",IFERROR(VLOOKUP('Paramètres'!$D$16,'Paramètres'!$D$15:$E$19,2,FALSE),0)) | O11: 16 | P11: =IF('Bilan thermique'!B11="","",IFERROR(VLOOKUP('Paramètres'!$D$17,'Paramètres'!$D$15:$E$19,2,FALSE),0)) | Q11: 30 | R11: =IF('Bilan thermique'!B11="","",IFERROR(VLOOKUP('Paramètres'!$D$18,'Paramètres'!$D$15:$E$19,2,FALSE),0)) | S11: 2 | T11: =IF('Bilan thermique'!B11="","",IFERROR(VLOOKUP('Paramètres'!$D$19,'Paramètres'!$D$15:$E$19,2,FALSE),0)) | U11: 0.6 | V11: =IF(OR('Bilan thermique'!K11="",'Bilan thermique'!L11="",'Bilan thermique'!J11=""),"",'Bilan thermique'!K11*'Bilan thermique'!L11*'Bilan thermique'!J11) | W11: =IF(OR('Bilan thermique'!M11="",'Bilan thermique'!N11="",'Bilan thermique'!J11=""),"",'Bilan thermique'!M11*'Bilan thermique'!N11*'Bilan thermique'!J11) | X11: =IF(OR('Bilan thermique'!O11="",'Bilan thermique'!P11="",'Bilan thermique'!J11=""),"",'Bilan thermique'!O11*'Bilan thermique'!P11*'Bilan thermique'!J11) | Y11: =IF(OR('Bilan thermique'!Q11="",'Bilan thermique'!R11="",'Bilan thermique'!J11=""),"",'Bilan thermique'!Q11*'Bilan thermique'!R11*'Bilan thermique'!J11) | Z11: =IF(OR('Bilan thermique'!S11="",'Bilan thermique'!T11="",'Bilan thermique'!J11=""),"",'Bilan thermique'!S11*'Bilan thermique'!T11*'Bilan thermique'!J11) | AA11: =IF(OR('Bilan thermique'!G11="",'Bilan thermique'!U11="",'Bilan thermique'!J11=""),"",'Paramètres'!$B$10*'Bilan thermique'!G11*'Bilan thermique'!U11*'Bilan thermique'!J11) | AB11: =IF(COUNTA('Bilan thermique'!C11,'Bilan thermique'!E11,'Bilan thermique'!F11,'Bilan thermique'!K11,'Bilan thermique'!M11,'Bilan thermique'!O11,'Bilan thermique'!Q11,'Bilan thermique'!S11,'Bilan thermique'!U11)<9,"",SUM('Bilan thermique'!V11:AA11)) | AC11: =IF('Bilan thermique'!B11="","",'Paramètres'!$B$11) | AD11: =IF(OR('Bilan thermique'!AB11="",'Bilan thermique'!AC11=""),"",'Bilan thermique'!AB11*(1+'Bilan thermique'!AC11)) | AE11: =IF('Bilan thermique'!AB11="","",IFERROR('Bilan thermique'!AB11/SUM('Bilan thermique'!$AB$3:$AB$102),0)) | AF11: =IF('Bilan thermique'!AD11="","",IF('Bilan thermique'!AD11>15000,"À vérifier",IF('Bilan thermique'!AD11>8000,"Élevée","Normale")))
G12: =IF(OR('Bilan thermique'!E12="",'Bilan thermique'!F12=""),"",'Bilan thermique'!E12*'Bilan thermique'!F12) | H12: =IF('Bilan thermique'!B12="","",'Paramètres'!$B$9) | I12: =IF('Bilan thermique'!C12="","",IFERROR(VLOOKUP('Bilan thermique'!C12,'Paramètres'!$A$15:$B$23,2,FALSE),-5)) | J12: =IF(OR('Bilan thermique'!H12="",'Bilan thermique'!I12=""),"",'Bilan thermique'!H12-'Bilan thermique'!I12) | L12: =IF('Bilan thermique'!B12="","",IFERROR(VLOOKUP('Paramètres'!$D$15,'Paramètres'!$D$15:$E$19,2,FALSE),0)) | N12: =IF('Bilan thermique'!B12="","",IFERROR(VLOOKUP('Paramètres'!$D$16,'Paramètres'!$D$15:$E$19,2,FALSE),0)) | P12: =IF('Bilan thermique'!B12="","",IFERROR(VLOOKUP('Paramètres'!$D$17,'Paramètres'!$D$15:$E$19,2,FALSE),0)) | R12: =IF('Bilan thermique'!B12="","",IFERROR(VLOOKUP('Paramètres'!$D$18,'Paramètres'!$D$15:$E$19,2,FALSE),0)) | T12: =IF('Bilan thermique'!B12="","",IFERROR(VLOOKUP('Paramètres'!$D$19,'Paramètres'!$D$15:$E$19,2,FALSE),0)) | V12: =IF(OR('Bilan thermique'!K12="",'Bilan thermique'!L12="",'Bilan thermique'!J12=""),"",'Bilan thermique'!K12*'Bilan thermique'!L12*'Bilan thermique'!J12) | W12: =IF(OR('Bilan thermique'!M12="",'Bilan thermique'!N12="",'Bilan thermique'!J12=""),"",'Bilan thermique'!M12*'Bilan thermique'!N12*'Bilan thermique'!J12) | X12: =IF(OR('Bilan thermique'!O12="",'Bilan thermique'!P12="",'Bilan thermique'!J12=""),"",'Bilan thermique'!O12*'Bilan thermique'!P12*'Bilan thermique'!J12) | Y12: =IF(OR('Bilan thermique'!Q12="",'Bilan thermique'!R12="",'Bilan thermique'!J12=""),"",'Bilan thermique'!Q12*'Bilan thermique'!R12*'Bilan thermique'!J12) | Z12: =IF(OR('Bilan thermique'!S12="",'Bilan thermique'!T12="",'Bilan thermique'!J12=""),"",'Bilan thermique'!S12*'Bilan thermique'!T12*'Bilan thermique'!J12) | AA12: =IF(OR('Bilan thermique'!G12="",'Bilan thermique'!U12="",'Bilan thermique'!J12=""),"",'Paramètres'!$B$10*'Bilan thermique'!G12*'Bilan thermique'!U12*'Bilan thermique'!J12) | AB12: =IF(COUNTA('Bilan thermique'!C12,'Bilan thermique'!E12,'Bilan thermique'!F12,'Bilan thermique'!K12,'Bilan thermique'!M12,'Bilan thermique'!O12,'Bilan thermique'!Q12,'Bilan thermique'!S12,'Bilan thermique'!U12)<9,"",SUM('Bilan thermique'!V12:AA12)) | AC12: =IF('Bilan thermique'!B12="","",'Paramètres'!$B$11) | AD12: =IF(OR('Bilan thermique'!AB12="",'Bilan thermique'!AC12=""),"",'Bilan thermique'!AB12*(1+'Bilan thermique'!AC12)) | AE12: =IF('Bilan thermique'!AB12="","",IFERROR('Bilan thermique'!AB12/SUM('Bilan thermique'!$AB$3:$AB$102),0)) | AF12: =IF('Bilan thermique'!AD12="","",IF('Bilan thermique'!AD12>15000,"À vérifier",IF('Bilan thermique'!AD12>8000,"Élevée","Normale")))
G13: =IF(OR('Bilan thermique'!E13="",'Bilan thermique'!F13=""),"",'Bilan thermique'!E13*'Bilan thermique'!F13) | H13: =IF('Bilan thermique'!B13="","",'Paramètres'!$B$9) | I13: =IF('Bilan thermique'!C13="","",IFERROR(VLOOKUP('Bilan thermique'!C13,'Paramètres'!$A$15:$B$23,2,FALSE),-5)) | J13: =IF(OR('Bilan thermique'!H13="",'Bilan thermique'!I13=""),"",'Bilan thermique'!H13-'Bilan thermique'!I13) | L13: =IF('Bilan thermique'!B13="","",IFERROR(VLOOKUP('Paramètres'!$D$15,'Paramètres'!$D$15:$E$19,2,FALSE),0)) | N13: =IF('Bilan thermique'!B13="","",IFERROR(VLOOKUP('Paramètres'!$D$16,'Paramètres'!$D$15:$E$19,2,FALSE),0)) | P13: =IF('Bilan thermique'!B13="","",IFERROR(VLOOKUP('Paramètres'!$D$17,'Paramètres'!$D$15:$E$19,2,FALSE),0)) | R13: =IF('Bilan thermique'!B13="","",IFERROR(VLOOKUP('Paramètres'!$D$18,'Paramètres'!$D$15:$E$19,2,FALSE),0)) | T13: =IF('Bilan thermique'!B13="","",IFERROR(VLOOKUP('Paramètres'!$D$19,'Paramètres'!$D$15:$E$19,2,FALSE),0)) | V13: =IF(OR('Bilan thermique'!K13="",'Bilan thermique'!L13="",'Bilan thermique'!J13=""),"",'Bilan thermique'!K13*'Bilan thermique'!L13*'Bilan thermique'!J13) | W13: =IF(OR('Bilan thermique'!M13="",'Bilan thermique'!N13="",'Bilan thermique'!J13=""),"",'Bilan thermique'!M13*'Bilan thermique'!N13*'Bilan thermique'!J13) | X13: =IF(OR('Bilan thermique'!O13="",'Bilan thermique'!P13="",'Bilan thermique'!J13=""),"",'Bilan thermique'!O13*'Bilan thermique'!P13*'Bilan thermique'!J13) | Y13: =IF(OR('Bilan thermique'!Q13="",'Bilan thermique'!R13="",'Bilan thermique'!J13=""),"",'Bilan thermique'!Q13*'Bilan thermique'!R13*'Bilan thermique'!J13) | Z13: =IF(OR('Bilan thermique'!S13="",'Bilan thermique'!T13="",'Bilan thermique'!J13=""),"",'Bilan thermique'!S13*'Bilan thermique'!T13*'Bilan thermique'!J13) | AA13: =IF(OR('Bilan thermique'!G13="",'Bilan thermique'!U13="",'Bilan thermique'!J13=""),"",'Paramètres'!$B$10*'Bilan thermique'!G13*'Bilan thermique'!U13*'Bilan thermique'!J13) | AB13: =IF(COUNTA('Bilan thermique'!C13,'Bilan thermique'!E13,'Bilan thermique'!F13,'Bilan thermique'!K13,'Bilan thermique'!M13,'Bilan thermique'!O13,'Bilan thermique'!Q13,'Bilan thermique'!S13,'Bilan thermique'!U13)<9,"",SUM('Bilan thermique'!V13:AA13)) | AC13: =IF('Bilan thermique'!B13="","",'Paramètres'!$B$11) | AD13: =IF(OR('Bilan thermique'!AB13="",'Bilan thermique'!AC13=""),"",'Bilan thermique'!AB13*(1+'Bilan thermique'!AC13)) | AE13: =IF('Bilan thermique'!AB13="","",IFERROR('Bilan thermique'!AB13/SUM('Bilan thermique'!$AB$3:$AB$102),0)) | AF13: =IF('Bilan thermique'!AD13="","",IF('Bilan thermique'!AD13>15000,"À vérifier",IF('Bilan thermique'!AD13>8000,"Élevée","Normale")))
G14: =IF(OR('Bilan thermique'!E14="",'Bilan thermique'!F14=""),"",'Bilan thermique'!E14*'Bilan thermique'!F14) | H14: =IF('Bilan thermique'!B14="","",'Paramètres'!$B$9) | I14: =IF('Bilan thermique'!C14="","",IFERROR(VLOOKUP('Bilan thermique'!C14,'Paramètres'!$A$15:$B$23,2,FALSE),-5)) | J14: =IF(OR('Bilan thermique'!H14="",'Bilan thermique'!I14=""),"",'Bilan thermique'!H14-'Bilan thermique'!I14) | L14: =IF('Bilan thermique'!B14="","",IFERROR(VLOOKUP('Paramètres'!$D$15,'Paramètres'!$D$15:$E$19,2,FALSE),0)) | N14: =IF('Bilan thermique'!B14="","",IFERROR(VLOOKUP('Paramètres'!$D$16,'Paramètres'!$D$15:$E$19,2,FALSE),0)) | P14: =IF('Bilan thermique'!B14="","",IFERROR(VLOOKUP('Paramètres'!$D$17,'Paramètres'!$D$15:$E$19,2,FALSE),0)) | R14: =IF('Bilan thermique'!B14="","",IFERROR(VLOOKUP('Paramètres'!$D$18,'Paramètres'!$D$15:$E$19,2,FALSE),0)) | T14: =IF('Bilan thermique'!B14="","",IFERROR(VLOOKUP('Paramètres'!$D$19,'Paramètres'!$D$15:$E$19,2,FALSE),0)) | V14: =IF(OR('Bilan thermique'!K14="",'Bilan thermique'!L14="",'Bilan thermique'!J14=""),"",'Bilan thermique'!K14*'Bilan thermique'!L14*'Bilan thermique'!J14) | W14: =IF(OR('Bilan thermique'!M14="",'Bilan thermique'!N14="",'Bilan thermique'!J14=""),"",'Bilan thermique'!M14*'Bilan thermique'!N14*'Bilan thermique'!J14) | X14: =IF(OR('Bilan thermique'!O14="",'Bilan thermique'!P14="",'Bilan thermique'!J14=""),"",'Bilan thermique'!O14*'Bilan thermique'!P14*'Bilan thermique'!J14) | Y14: =IF(OR('Bilan thermique'!Q14="",'Bilan thermique'!R14="",'Bilan thermique'!J14=""),"",'Bilan thermique'!Q14*'Bilan thermique'!R14*'Bilan thermique'!J14) | Z14: =IF(OR('Bilan thermique'!S14="",'Bilan thermique'!T14="",'Bilan thermique'!J14=""),"",'Bilan thermique'!S14*'Bilan thermique'!T14*'Bilan thermique'!J14) | AA14: =IF(OR('Bilan thermique'!G14="",'Bilan thermique'!U14="",'Bilan thermique'!J14=""),"",'Paramètres'!$B$10*'Bilan thermique'!G14*'Bilan thermique'!U14*'Bilan thermique'!J14) | AB14: =IF(COUNTA('Bilan thermique'!C14,'Bilan thermique'!E14,'Bilan thermique'!F14,'Bilan thermique'!K14,'Bilan thermique'!M14,'Bilan thermique'!O14,'Bilan thermique'!Q14,'Bilan thermique'!S14,'Bilan thermique'!U14)<9,"",SUM('Bilan thermique'!V14:AA14)) | AC14: =IF('Bilan thermique'!B14="","",'Paramètres'!$B$11) | AD14: =IF(OR('Bilan thermique'!AB14="",'Bilan thermique'!AC14=""),"",'Bilan thermique'!AB14*(1+'Bilan thermique'!AC14)) | AE14: =IF('Bilan thermique'!AB14="","",IFERROR('Bilan thermique'!AB14/SUM('Bilan thermique'!$AB$3:$AB$102),0)) | AF14: =IF('Bilan thermique'!AD14="","",IF('Bilan thermique'!AD14>15000,"À vérifier",IF('Bilan thermique'!AD14>8000,"Élevée","Normale")))
G15: =IF(OR('Bilan thermique'!E15="",'Bilan thermique'!F15=""),"",'Bilan thermique'!E15*'Bilan thermique'!F15) | H15: =IF('Bilan thermique'!B15="","",'Paramètres'!$B$9) | I15: =IF('Bilan thermique'!C15="","",IFERROR(VLOOKUP('Bilan thermique'!C15,'Paramètres'!$A$15:$B$23,2,FALSE),-5)) | J15: =IF(OR('Bilan thermique'!H15="",'Bilan thermique'!I15=""),"",'Bilan thermique'!H15-'Bilan thermique'!I15) | L15: =IF('Bilan thermique'!B15="","",IFERROR(VLOOKUP('Paramètres'!$D$15,'Paramètres'!$D$15:$E$19,2,FALSE),0)) | N15: =IF('Bilan thermique'!B15="","",IFERROR(VLOOKUP('Paramètres'!$D$16,'Paramètres'!$D$15:$E$19,2,FALSE),0)) | P15: =IF('Bilan thermique'!B15="","",IFERROR(VLOOKUP('Paramètres'!$D$17,'Paramètres'!$D$15:$E$19,2,FALSE),0)) | R15: =IF('Bilan thermique'!B15="","",IFERROR(VLOOKUP('Paramètres'!$D$18,'Paramètres'!$D$15:$E$19,2,FALSE),0)) | T15: =IF('Bilan thermique'!B15="","",IFERROR(VLOOKUP('Paramètres'!$D$19,'Paramètres'!$D$15:$E$19,2,FALSE),0)) | V15: =IF(OR('Bilan thermique'!K15="",'Bilan thermique'!L15="",'Bilan thermique'!J15=""),"",'Bilan thermique'!K15*'Bilan thermique'!L15*'Bilan thermique'!J15) | W15: =IF(OR('Bilan thermique'!M15="",'Bilan thermique'!N15="",'Bilan thermique'!J15=""),"",'Bilan thermique'!M15*'Bilan thermique'!N15*'Bilan thermique'!J15) | X15: =IF(OR('Bilan thermique'!O15="",'Bilan thermique'!P15="",'Bilan thermique'!J15=""),"",'Bilan thermique'!O15*'Bilan thermique'!P15*'Bilan thermique'!J15) | Y15: =IF(OR('Bilan thermique'!Q15="",'Bilan thermique'!R15="",'Bilan thermique'!J15=""),"",'Bilan thermique'!Q15*'Bilan thermique'!R15*'Bilan thermique'!J15) | Z15: =IF(OR('Bilan thermique'!S15="",'Bilan thermique'!T15="",'Bilan thermique'!J15=""),"",'Bilan thermique'!S15*'Bilan thermique'!T15*'Bilan thermique'!J15) | AA15: =IF(OR('Bilan thermique'!G15="",'Bilan thermique'!U15="",'Bilan thermique'!J15=""),"",'Paramètres'!$B$10*'Bilan thermique'!G15*'Bilan thermique'!U15*'Bilan thermique'!J15) | AB15: =IF(COUNTA('Bilan thermique'!C15,'Bilan thermique'!E15,'Bilan thermique'!F15,'Bilan thermique'!K15,'Bilan thermique'!M15,'Bilan thermique'!O15,'Bilan thermique'!Q15,'Bilan thermique'!S15,'Bilan thermique'!U15)<9,"",SUM('Bilan thermique'!V15:AA15)) | AC15: =IF('Bilan thermique'!B15="","",'Paramètres'!$B$11) | AD15: =IF(OR('Bilan thermique'!AB15="",'Bilan thermique'!AC15=""),"",'Bilan thermique'!AB15*(1+'Bilan thermique'!AC15)) | AE15: =IF('Bilan thermique'!AB15="","",IFERROR('Bilan thermique'!AB15/SUM('Bilan thermique'!$AB$3:$AB$102),0)) | AF15: =IF('Bilan thermique'!AD15="","",IF('Bilan thermique'!AD15>15000,"À vérifier",IF('Bilan thermique'!AD15>8000,"Élevée","Normale")))
G16: =IF(OR('Bilan thermique'!E16="",'Bilan thermique'!F16=""),"",'Bilan thermique'!E16*'Bilan thermique'!F16) | H16: =IF('Bilan thermique'!B16="","",'Paramètres'!$B$9) | I16: =IF('Bilan thermique'!C16="","",IFERROR(VLOOKUP('Bilan thermique'!C16,'Paramètres'!$A$15:$B$23,2,FALSE),-5)) | J16: =IF(OR('Bilan thermique'!H16="",'Bilan thermique'!I16=""),"",'Bilan thermique'!H16-'Bilan thermique'!I16) | L16: =IF('Bilan thermique'!B16="","",IFERROR(VLOOKUP('Paramètres'!$D$15,'Paramètres'!$D$15:$E$19,2,FALSE),0)) | N16: =IF('Bilan thermique'!B16="","",IFERROR(VLOOKUP('Paramètres'!$D$16,'Paramètres'!$D$15:$E$19,2,FALSE),0)) | P16: =IF('Bilan thermique'!B16="","",IFERROR(VLOOKUP('Paramètres'!$D$17,'Paramètres'!$D$15:$E$19,2,FALSE),0)) | R16: =IF('Bilan thermique'!B16="","",IFERROR(VLOOKUP('Paramètres'!$D$18,'Paramètres'!$D$15:$E$19,2,FALSE),0)) | T16: =IF('Bilan thermique'!B16="","",IFERROR(VLOOKUP('Paramètres'!$D$19,'Paramètres'!$D$15:$E$19,2,FALSE),0)) | V16: =IF(OR('Bilan thermique'!K16="",'Bilan thermique'!L16="",'Bilan thermique'!J16=""),"",'Bilan thermique'!K16*'Bilan thermique'!L16*'Bilan thermique'!J16) | W16: =IF(OR('Bilan thermique'!M16="",'Bilan thermique'!N16="",'Bilan thermique'!J16=""),"",'Bilan thermique'!M16*'Bilan thermique'!N16*'Bilan thermique'!J16) | X16: =IF(OR('Bilan thermique'!O16="",'Bilan thermique'!P16="",'Bilan thermique'!J16=""),"",'Bilan thermique'!O16*'Bilan thermique'!P16*'Bilan thermique'!J16) | Y16: =IF(OR('Bilan thermique'!Q16="",'Bilan thermique'!R16="",'Bilan thermique'!J16=""),"",'Bilan thermique'!Q16*'Bilan thermique'!R16*'Bilan thermique'!J16) | Z16: =IF(OR('Bilan thermique'!S16="",'Bilan thermique'!T16="",'Bilan thermique'!J16=""),"",'Bilan thermique'!S16*'Bilan thermique'!T16*'Bilan thermique'!J16) | AA16: =IF(OR('Bilan thermique'!G16="",'Bilan thermique'!U16="",'Bilan thermique'!J16=""),"",'Paramètres'!$B$10*'Bilan thermique'!G16*'Bilan thermique'!U16*'Bilan thermique'!J16) | AB16: =IF(COUNTA('Bilan thermique'!C16,'Bilan thermique'!E16,'Bilan thermique'!F16,'Bilan thermique'!K16,'Bilan thermique'!M16,'Bilan thermique'!O16,'Bilan thermique'!Q16,'Bilan thermique'!S16,'Bilan thermique'!U16)<9,"",SUM('Bilan thermique'!V16:AA16)) | AC16: =IF('Bilan thermique'!B16="","",'Paramètres'!$B$11) | AD16: =IF(OR('Bilan thermique'!AB16="",'Bilan thermique'!AC16=""),"",'Bilan thermique'!AB16*(1+'Bilan thermique'!AC16)) | AE16: =IF('Bilan thermique'!AB16="","",IFERROR('Bilan thermique'!AB16/SUM('Bilan thermique'!$AB$3:$AB$102),0)) | AF16: =IF('Bilan thermique'!AD16="","",IF('Bilan thermique'!AD16>15000,"À vérifier",IF('Bilan thermique'!AD16>8000,"Élevée","Normale")))
G17: =IF(OR('Bilan thermique'!E17="",'Bilan thermique'!F17=""),"",'Bilan thermique'!E17*'Bilan thermique'!F17) | H17: =IF('Bilan thermique'!B17="","",'Paramètres'!$B$9) | I17: =IF('Bilan thermique'!C17="","",IFERROR(VLOOKUP('Bilan thermique'!C17,'Paramètres'!$A$15:$B$23,2,FALSE),-5)) | J17: =IF(OR('Bilan thermique'!H17="",'Bilan thermique'!I17=""),"",'Bilan thermique'!H17-'Bilan thermique'!I17) | L17: =IF('Bilan thermique'!B17="","",IFERROR(VLOOKUP('Paramètres'!$D$15,'Paramètres'!$D$15:$E$19,2,FALSE),0)) | N17: =IF('Bilan thermique'!B17="","",IFERROR(VLOOKUP('Paramètres'!$D$16,'Paramètres'!$D$15:$E$19,2,FALSE),0)) | P17: =IF('Bilan thermique'!B17="","",IFERROR(VLOOKUP('Paramètres'!$D$17,'Paramètres'!$D$15:$E$19,2,FALSE),0)) | R17: =IF('Bilan thermique'!B17="","",IFERROR(VLOOKUP('Paramètres'!$D$18,'Paramètres'!$D$15:$E$19,2,FALSE),0)) | T17: =IF('Bilan thermique'!B17="","",IFERROR(VLOOKUP('Paramètres'!$D$19,'Paramètres'!$D$15:$E$19,2,FALSE),0)) | V17: =IF(OR('Bilan thermique'!K17="",'Bilan thermique'!L17="",'Bilan thermique'!J17=""),"",'Bilan thermique'!K17*'Bilan thermique'!L17*'Bilan thermique'!J17) | W17: =IF(OR('Bilan thermique'!M17="",'Bilan thermique'!N17="",'Bilan thermique'!J17=""),"",'Bilan thermique'!M17*'Bilan thermique'!N17*'Bilan thermique'!J17) | X17: =IF(OR('Bilan thermique'!O17="",'Bilan thermique'!P17="",'Bilan thermique'!J17=""),"",'Bilan thermique'!O17*'Bilan thermique'!P17*'Bilan thermique'!J17) | Y17: =IF(OR('Bilan thermique'!Q17="",'Bilan thermique'!R17="",'Bilan thermique'!J17=""),"",'Bilan thermique'!Q17*'Bilan thermique'!R17*'Bilan thermique'!J17) | Z17: =IF(OR('Bilan thermique'!S17="",'Bilan thermique'!T17="",'Bilan thermique'!J17=""),"",'Bilan thermique'!S17*'Bilan thermique'!T17*'Bilan thermique'!J17) | AA17: =IF(OR('Bilan thermique'!G17="",'Bilan thermique'!U17="",'Bilan thermique'!J17=""),"",'Paramètres'!$B$10*'Bilan thermique'!G17*'Bilan thermique'!U17*'Bilan thermique'!J17) | AB17: =IF(COUNTA('Bilan thermique'!C17,'Bilan thermique'!E17,'Bilan thermique'!F17,'Bilan thermique'!K17,'Bilan thermique'!M17,'Bilan thermique'!O17,'Bilan thermique'!Q17,'Bilan thermique'!S17,'Bilan thermique'!U17)<9,"",SUM('Bilan thermique'!V17:AA17)) | AC17: =IF('Bilan thermique'!B17="","",'Paramètres'!$B$11) | AD17: =IF(OR('Bilan thermique'!AB17="",'Bilan thermique'!AC17=""),"",'Bilan thermique'!AB17*(1+'Bilan thermique'!AC17)) | AE17: =IF('Bilan thermique'!AB17="","",IFERROR('Bilan thermique'!AB17/SUM('Bilan thermique'!$AB$3:$AB$102),0)) | AF17: =IF('Bilan thermique'!AD17="","",IF('Bilan thermique'!AD17>15000,"À vérifier",IF('Bilan thermique'!AD17>8000,"Élevée","Normale")))
G18: =IF(OR('Bilan thermique'!E18="",'Bilan thermique'!F18=""),"",'Bilan thermique'!E18*'Bilan thermique'!F18) | H18: =IF('Bilan thermique'!B18="","",'Paramètres'!$B$9) | I18: =IF('Bilan thermique'!C18="","",IFERROR(VLOOKUP('Bilan thermique'!C18,'Paramètres'!$A$15:$B$23,2,FALSE),-5)) | J18: =IF(OR('Bilan thermique'!H18="",'Bilan thermique'!I18=""),"",'Bilan thermique'!H18-'Bilan thermique'!I18) | L18: =IF('Bilan thermique'!B18="","",IFERROR(VLOOKUP('Paramètres'!$D$15,'Paramètres'!$D$15:$E$19,2,FALSE),0)) | N18: =IF('Bilan thermique'!B18="","",IFERROR(VLOOKUP('Paramètres'!$D$16,'Paramètres'!$D$15:$E$19,2,FALSE),0)) | P18: =IF('Bilan thermique'!B18="","",IFERROR(VLOOKUP('Paramètres'!$D$17,'Paramètres'!$D$15:$E$19,2,FALSE),0)) | R18: =IF('Bilan thermique'!B18="","",IFERROR(VLOOKUP('Paramètres'!$D$18,'Paramètres'!$D$15:$E$19,2,FALSE),0)) | T18: =IF('Bilan thermique'!B18="","",IFERROR(VLOOKUP('Paramètres'!$D$19,'Paramètres'!$D$15:$E$19,2,FALSE),0)) | V18: =IF(OR('Bilan thermique'!K18="",'Bilan thermique'!L18="",'Bilan thermique'!J18=""),"",'Bilan thermique'!K18*'Bilan thermique'!L18*'Bilan thermique'!J18) | W18: =IF(OR('Bilan thermique'!M18="",'Bilan thermique'!N18="",'Bilan thermique'!J18=""),"",'Bilan thermique'!M18*'Bilan thermique'!N18*'Bilan thermique'!J18) | X18: =IF(OR('Bilan thermique'!O18="",'Bilan thermique'!P18="",'Bilan thermique'!J18=""),"",'Bilan thermique'!O18*'Bilan thermique'!P18*'Bilan thermique'!J18) | Y18: =IF(OR('Bilan thermique'!Q18="",'Bilan thermique'!R18="",'Bilan thermique'!J18=""),"",'Bilan thermique'!Q18*'Bilan thermique'!R18*'Bilan thermique'!J18) | Z18: =IF(OR('Bilan thermique'!S18="",'Bilan thermique'!T18="",'Bilan thermique'!J18=""),"",'Bilan thermique'!S18*'Bilan thermique'!T18*'Bilan thermique'!J18) | AA18: =IF(OR('Bilan thermique'!G18="",'Bilan thermique'!U18="",'Bilan thermique'!J18=""),"",'Paramètres'!$B$10*'Bilan thermique'!G18*'Bilan thermique'!U18*'Bilan thermique'!J18) | AB18: =IF(COUNTA('Bilan thermique'!C18,'Bilan thermique'!E18,'Bilan thermique'!F18,'Bilan thermique'!K18,'Bilan thermique'!M18,'Bilan thermique'!O18,'Bilan thermique'!Q18,'Bilan thermique'!S18,'Bilan thermique'!U18)<9,"",SUM('Bilan thermique'!V18:AA18)) | AC18: =IF('Bilan thermique'!B18="","",'Paramètres'!$B$11) | AD18: =IF(OR('Bilan thermique'!AB18="",'Bilan thermique'!AC18=""),"",'Bilan thermique'!AB18*(1+'Bilan thermique'!AC18)) | AE18: =IF('Bilan thermique'!AB18="","",IFERROR('Bilan thermique'!AB18/SUM('Bilan thermique'!$AB$3:$AB$102),0)) | AF18: =IF('Bilan thermique'!AD18="","",IF('Bilan thermique'!AD18>15000,"À vérifier",IF('Bilan thermique'!AD18>8000,"Élevée","Normale")))
G19: =IF(OR('Bilan thermique'!E19="",'Bilan thermique'!F19=""),"",'Bilan thermique'!E19*'Bilan thermique'!F19) | H19: =IF('Bilan thermique'!B19="","",'Paramètres'!$B$9) | I19: =IF('Bilan thermique'!C19="","",IFERROR(VLOOKUP('Bilan thermique'!C19,'Paramètres'!$A$15:$B$23,2,FALSE),-5)) | J19: =IF(OR('Bilan thermique'!H19="",'Bilan thermique'!I19=""),"",'Bilan thermique'!H19-'Bilan thermique'!I19) | L19: =IF('Bilan thermique'!B19="","",IFERROR(VLOOKUP('Paramètres'!$D$15,'Paramètres'!$D$15:$E$19,2,FALSE),0)) | N19: =IF('Bilan thermique'!B19="","",IFERROR(VLOOKUP('Paramètres'!$D$16,'Paramètres'!$D$15:$E$19,2,FALSE),0)) | P19: =IF('Bilan thermique'!B19="","",IFERROR(VLOOKUP('Paramètres'!$D$17,'Paramètres'!$D$15:$E$19,2,FALSE),0)) | R19: =IF('Bilan thermique'!B19="","",IFERROR(VLOOKUP('Paramètres'!$D$18,'Paramètres'!$D$15:$E$19,2,FALSE),0)) | T19: =IF('Bilan thermique'!B19="","",IFERROR(VLOOKUP('Paramètres'!$D$19,'Paramètres'!$D$15:$E$19,2,FALSE),0)) | V19: =IF(OR('Bilan thermique'!K19="",'Bilan thermique'!L19="",'Bilan thermique'!J19=""),"",'Bilan thermique'!K19*'Bilan thermique'!L19*'Bilan thermique'!J19) | W19: =IF(OR('Bilan thermique'!M19="",'Bilan thermique'!N19="",'Bilan thermique'!J19=""),"",'Bilan thermique'!M19*'Bilan thermique'!N19*'Bilan thermique'!J19) | X19: =IF(OR('Bilan thermique'!O19="",'Bilan thermique'!P19="",'Bilan thermique'!J19=""),"",'Bilan thermique'!O19*'Bilan thermique'!P19*'Bilan thermique'!J19) | Y19: =IF(OR('Bilan thermique'!Q19="",'Bilan thermique'!R19="",'Bilan thermique'!J19=""),"",'Bilan thermique'!Q19*'Bilan thermique'!R19*'Bilan thermique'!J19) | Z19: =IF(OR('Bilan thermique'!S19="",'Bilan thermique'!T19="",'Bilan thermique'!J19=""),"",'Bilan thermique'!S19*'Bilan thermique'!T19*'Bilan thermique'!J19) | AA19: =IF(OR('Bilan thermique'!G19="",'Bilan thermique'!U19="",'Bilan thermique'!J19=""),"",'Paramètres'!$B$10*'Bilan thermique'!G19*'Bilan thermique'!U19*'Bilan thermique'!J19) | AB19: =IF(COUNTA('Bilan thermique'!C19,'Bilan thermique'!E19,'Bilan thermique'!F19,'Bilan thermique'!K19,'Bilan thermique'!M19,'Bilan thermique'!O19,'Bilan thermique'!Q19,'Bilan thermique'!S19,'Bilan thermique'!U19)<9,"",SUM('Bilan thermique'!V19:AA19)) | AC19: =IF('Bilan thermique'!B19="","",'Paramètres'!$B$11) | AD19: =IF(OR('Bilan thermique'!AB19="",'Bilan thermique'!AC19=""),"",'Bilan thermique'!AB19*(1+'Bilan thermique'!AC19)) | AE19: =IF('Bilan thermique'!AB19="","",IFERROR('Bilan thermique'!AB19/SUM('Bilan thermique'!$AB$3:$AB$102),0)) | AF19: =IF('Bilan thermique'!AD19="","",IF('Bilan thermique'!AD19>15000,"À vérifier",IF('Bilan thermique'!AD19>8000,"Élevée","Normale")))
G20: =IF(OR('Bilan thermique'!E20="",'Bilan thermique'!F20=""),"",'Bilan thermique'!E20*'Bilan thermique'!F20) | H20: =IF('Bilan thermique'!B20="","",'Paramètres'!$B$9) | I20: =IF('Bilan thermique'!C20="","",IFERROR(VLOOKUP('Bilan thermique'!C20,'Paramètres'!$A$15:$B$23,2,FALSE),-5)) | J20: =IF(OR('Bilan thermique'!H20="",'Bilan thermique'!I20=""),"",'Bilan thermique'!H20-'Bilan thermique'!I20) | L20: =IF('Bilan thermique'!B20="","",IFERROR(VLOOKUP('Paramètres'!$D$15,'Paramètres'!$D$15:$E$19,2,FALSE),0)) | N20: =IF('Bilan thermique'!B20="","",IFERROR(VLOOKUP('Paramètres'!$D$16,'Paramètres'!$D$15:$E$19,2,FALSE),0)) | P20: =IF('Bilan thermique'!B20="","",IFERROR(VLOOKUP('Paramètres'!$D$17,'Paramètres'!$D$15:$E$19,2,FALSE),0)) | R20: =IF('Bilan thermique'!B20="","",IFERROR(VLOOKUP('Paramètres'!$D$18,'Paramètres'!$D$15:$E$19,2,FALSE),0)) | T20: =IF('Bilan thermique'!B20="","",IFERROR(VLOOKUP('Paramètres'!$D$19,'Paramètres'!$D$15:$E$19,2,FALSE),0)) | V20: =IF(OR('Bilan thermique'!K20="",'Bilan thermique'!L20="",'Bilan thermique'!J20=""),"",'Bilan thermique'!K20*'Bilan thermique'!L20*'Bilan thermique'!J20) | W20: =IF(OR('Bilan thermique'!M20="",'Bilan thermique'!N20="",'Bilan thermique'!J20=""),"",'Bilan thermique'!M20*'Bilan thermique'!N20*'Bilan thermique'!J20) | X20: =IF(OR('Bilan thermique'!O20="",'Bilan thermique'!P20="",'Bilan thermique'!J20=""),"",'Bilan thermique'!O20*'Bilan thermique'!P20*'Bilan thermique'!J20) | Y20: =IF(OR('Bilan thermique'!Q20="",'Bilan thermique'!R20="",'Bilan thermique'!J20=""),"",'Bilan thermique'!Q20*'Bilan thermique'!R20*'Bilan thermique'!J20) | Z20: =IF(OR('Bilan thermique'!S20="",'Bilan thermique'!T20="",'Bilan thermique'!J20=""),"",'Bilan thermique'!S20*'Bilan thermique'!T20*'Bilan thermique'!J20) | AA20: =IF(OR('Bilan thermique'!G20="",'Bilan thermique'!U20="",'Bilan thermique'!J20=""),"",'Paramètres'!$B$10*'Bilan thermique'!G20*'Bilan thermique'!U20*'Bilan thermique'!J20) | AB20: =IF(COUNTA('Bilan thermique'!C20,'Bilan thermique'!E20,'Bilan thermique'!F20,'Bilan thermique'!K20,'Bilan thermique'!M20,'Bilan thermique'!O20,'Bilan thermique'!Q20,'Bilan thermique'!S20,'Bilan thermique'!U20)<9,"",SUM('Bilan thermique'!V20:AA20)) | AC20: =IF('Bilan thermique'!B20="","",'Paramètres'!$B$11) | AD20: =IF(OR('Bilan thermique'!AB20="",'Bilan thermique'!AC20=""),"",'Bilan thermique'!AB20*(1+'Bilan thermique'!AC20)) | AE20: =IF('Bilan thermique'!AB20="","",IFERROR('Bilan thermique'!AB20/SUM('Bilan thermique'!$AB$3:$AB$102),0)) | AF20: =IF('Bilan thermique'!AD20="","",IF('Bilan thermique'!AD20>15000,"À vérifier",IF('Bilan thermique'!AD20>8000,"Élevée","Normale")))
G21: =IF(OR('Bilan thermique'!E21="",'Bilan thermique'!F21=""),"",'Bilan thermique'!E21*'Bilan thermique'!F21) | H21: =IF('Bilan thermique'!B21="","",'Paramètres'!$B$9) | I21: =IF('Bilan thermique'!C21="","",IFERROR(VLOOKUP('Bilan thermique'!C21,'Paramètres'!$A$15:$B$23,2,FALSE),-5)) | J21: =IF(OR('Bilan thermique'!H21="",'Bilan thermique'!I21=""),"",'Bilan thermique'!H21-'Bilan thermique'!I21) | L21: =IF('Bilan thermique'!B21="","",IFERROR(VLOOKUP('Paramètres'!$D$15,'Paramètres'!$D$15:$E$19,2,FALSE),0)) | N21: =IF('Bilan thermique'!B21="","",IFERROR(VLOOKUP('Paramètres'!$D$16,'Paramètres'!$D$15:$E$19,2,FALSE),0)) | P21: =IF('Bilan thermique'!B21="","",IFERROR(VLOOKUP('Paramètres'!$D$17,'Paramètres'!$D$15:$E$19,2,FALSE),0)) | R21: =IF('Bilan thermique'!B21="","",IFERROR(VLOOKUP('Paramètres'!$D$18,'Paramètres'!$D$15:$E$19,2,FALSE),0)) | T21: =IF('Bilan thermique'!B21="","",IFERROR(VLOOKUP('Paramètres'!$D$19,'Paramètres'!$D$15:$E$19,2,FALSE),0)) | V21: =IF(OR('Bilan thermique'!K21="",'Bilan thermique'!L21="",'Bilan thermique'!J21=""),"",'Bilan thermique'!K21*'Bilan thermique'!L21*'Bilan thermique'!J21) | W21: =IF(OR('Bilan thermique'!M21="",'Bilan thermique'!N21="",'Bilan thermique'!J21=""),"",'Bilan thermique'!M21*'Bilan thermique'!N21*'Bilan thermique'!J21) | X21: =IF(OR('Bilan thermique'!O21="",'Bilan thermique'!P21="",'Bilan thermique'!J21=""),"",'Bilan thermique'!O21*'Bilan thermique'!P21*'Bilan thermique'!J21) | Y21: =IF(OR('Bilan thermique'!Q21="",'Bilan thermique'!R21="",'Bilan thermique'!J21=""),"",'Bilan thermique'!Q21*'Bilan thermique'!R21*'Bilan thermique'!J21) | Z21: =IF(OR('Bilan thermique'!S21="",'Bilan thermique'!T21="",'Bilan thermique'!J21=""),"",'Bilan thermique'!S21*'Bilan thermique'!T21*'Bilan thermique'!J21) | AA21: =IF(OR('Bilan thermique'!G21="",'Bilan thermique'!U21="",'Bilan thermique'!J21=""),"",'Paramètres'!$B$10*'Bilan thermique'!G21*'Bilan thermique'!U21*'Bilan thermique'!J21) | AB21: =IF(COUNTA('Bilan thermique'!C21,'Bilan thermique'!E21,'Bilan thermique'!F21,'Bilan thermique'!K21,'Bilan thermique'!M21,'Bilan thermique'!O21,'Bilan thermique'!Q21,'Bilan thermique'!S21,'Bilan thermique'!U21)<9,"",SUM('Bilan thermique'!V21:AA21)) | AC21: =IF('Bilan thermique'!B21="","",'Paramètres'!$B$11) | AD21: =IF(OR('Bilan thermique'!AB21="",'Bilan thermique'!AC21=""),"",'Bilan thermique'!AB21*(1+'Bilan thermique'!AC21)) | AE21: =IF('Bilan thermique'!AB21="","",IFERROR('Bilan thermique'!AB21/SUM('Bilan thermique'!$AB$3:$AB$102),0)) | AF21: =IF('Bilan thermique'!AD21="","",IF('Bilan thermique'!AD21>15000,"À vérifier",IF('Bilan thermique'!AD21>8000,"Élevée","Normale")))
G22: =IF(OR('Bilan thermique'!E22="",'Bilan thermique'!F22=""),"",'Bilan thermique'!E22*'Bilan thermique'!F22) | H22: =IF('Bilan thermique'!B22="","",'Paramètres'!$B$9) | I22: =IF('Bilan thermique'!C22="","",IFERROR(VLOOKUP('Bilan thermique'!C22,'Paramètres'!$A$15:$B$23,2,FALSE),-5)) | J22: =IF(OR('Bilan thermique'!H22="",'Bilan thermique'!I22=""),"",'Bilan thermique'!H22-'Bilan thermique'!I22) | L22: =IF('Bilan thermique'!B22="","",IFERROR(VLOOKUP('Paramètres'!$D$15,'Paramètres'!$D$15:$E$19,2,FALSE),0)) | N22: =IF('Bilan thermique'!B22="","",IFERROR(VLOOKUP('Paramètres'!$D$16,'Paramètres'!$D$15:$E$19,2,FALSE),0)) | P22: =IF('Bilan thermique'!B22="","",IFERROR(VLOOKUP('Paramètres'!$D$17,'Paramètres'!$D$15:$E$19,2,FALSE),0)) | R22: =IF('Bilan thermique'!B22="","",IFERROR(VLOOKUP('Paramètres'!$D$18,'Paramètres'!$D$15:$E$19,2,FALSE),0)) | T22: =IF('Bilan thermique'!B22="","",IFERROR(VLOOKUP('Paramètres'!$D$19,'Paramètres'!$D$15:$E$19,2,FALSE),0)) | V22: =IF(OR('Bilan thermique'!K22="",'Bilan thermique'!L22="",'Bilan thermique'!J22=""),"",'Bilan thermique'!K22*'Bilan thermique'!L22*'Bilan thermique'!J22) | W22: =IF(OR('Bilan thermique'!M22="",'Bilan thermique'!N22="",'Bilan thermique'!J22=""),"",'Bilan thermique'!M22*'Bilan thermique'!N22*'Bilan thermique'!J22) | X22: =IF(OR('Bilan thermique'!O22="",'Bilan thermique'!P22="",'Bilan thermique'!J22=""),"",'Bilan thermique'!O22*'Bilan thermique'!P22*'Bilan thermique'!J22) | Y22: =IF(OR('Bilan thermique'!Q22="",'Bilan thermique'!R22="",'Bilan thermique'!J22=""),"",'Bilan thermique'!Q22*'Bilan thermique'!R22*'Bilan thermique'!J22) | Z22: =IF(OR('Bilan thermique'!S22="",'Bilan thermique'!T22="",'Bilan thermique'!J22=""),"",'Bilan thermique'!S22*'Bilan thermique'!T22*'Bilan thermique'!J22) | AA22: =IF(OR('Bilan thermique'!G22="",'Bilan thermique'!U22="",'Bilan thermique'!J22=""),"",'Paramètres'!$B$10*'Bilan thermique'!G22*'Bilan thermique'!U22*'Bilan thermique'!J22) | AB22: =IF(COUNTA('Bilan thermique'!C22,'Bilan thermique'!E22,'Bilan thermique'!F22,'Bilan thermique'!K22,'Bilan thermique'!M22,'Bilan thermique'!O22,'Bilan thermique'!Q22,'Bilan thermique'!S22,'Bilan thermique'!U22)<9,"",SUM('Bilan thermique'!V22:AA22)) | AC22: =IF('Bilan thermique'!B22="","",'Paramètres'!$B$11) | AD22: =IF(OR('Bilan thermique'!AB22="",'Bilan thermique'!AC22=""),"",'Bilan thermique'!AB22*(1+'Bilan thermique'!AC22)) | AE22: =IF('Bilan thermique'!AB22="","",IFERROR('Bilan thermique'!AB22/SUM('Bilan thermique'!$AB$3:$AB$102),0)) | AF22: =IF('Bilan thermique'!AD22="","",IF('Bilan thermique'!AD22>15000,"À vérifier",IF('Bilan thermique'!AD22>8000,"Élevée","Normale")))
G23: =IF(OR('Bilan thermique'!E23="",'Bilan thermique'!F23=""),"",'Bilan thermique'!E23*'Bilan thermique'!F23) | H23: =IF('Bilan thermique'!B23="","",'Paramètres'!$B$9) | I23: =IF('Bilan thermique'!C23="","",IFERROR(VLOOKUP('Bilan thermique'!C23,'Paramètres'!$A$15:$B$23,2,FALSE),-5)) | J23: =IF(OR('Bilan thermique'!H23="",'Bilan thermique'!I23=""),"",'Bilan thermique'!H23-'Bilan thermique'!I23) | L23: =IF('Bilan thermique'!B23="","",IFERROR(VLOOKUP('Paramètres'!$D$15,'Paramètres'!$D$15:$E$19,2,FALSE),0)) | N23: =IF('Bilan thermique'!B23="","",IFERROR(VLOOKUP('Paramètres'!$D$16,'Paramètres'!$D$15:$E$19,2,FALSE),0)) | P23: =IF('Bilan thermique'!B23="","",IFERROR(VLOOKUP('Paramètres'!$D$17,'Paramètres'!$D$15:$E$19,2,FALSE),0)) | R23: =IF('Bilan thermique'!B23="","",IFERROR(VLOOKUP('Paramètres'!$D$18,'Paramètres'!$D$15:$E$19,2,FALSE),0)) | T23: =IF('Bilan thermique'!B23="","",IFERROR(VLOOKUP('Paramètres'!$D$19,'Paramètres'!$D$15:$E$19,2,FALSE),0)) | V23: =IF(OR('Bilan thermique'!K23="",'Bilan thermique'!L23="",'Bilan thermique'!J23=""),"",'Bilan thermique'!K23*'Bilan thermique'!L23*'Bilan thermique'!J23) | W23: =IF(OR('Bilan thermique'!M23="",'Bilan thermique'!N23="",'Bilan thermique'!J23=""),"",'Bilan thermique'!M23*'Bilan thermique'!N23*'Bilan thermique'!J23) | X23: =IF(OR('Bilan thermique'!O23="",'Bilan thermique'!P23="",'Bilan thermique'!J23=""),"",'Bilan thermique'!O23*'Bilan thermique'!P23*'Bilan thermique'!J23) | Y23: =IF(OR('Bilan thermique'!Q23="",'Bilan thermique'!R23="",'Bilan thermique'!J23=""),"",'Bilan thermique'!Q23*'Bilan thermique'!R23*'Bilan thermique'!J23) | Z23: =IF(OR('Bilan thermique'!S23="",'Bilan thermique'!T23="",'Bilan thermique'!J23=""),"",'Bilan thermique'!S23*'Bilan thermique'!T23*'Bilan thermique'!J23) | AA23: =IF(OR('Bilan thermique'!G23="",'Bilan thermique'!U23="",'Bilan thermique'!J23=""),"",'Paramètres'!$B$10*'Bilan thermique'!G23*'Bilan thermique'!U23*'Bilan thermique'!J23) | AB23: =IF(COUNTA('Bilan thermique'!C23,'Bilan thermique'!E23,'Bilan thermique'!F23,'Bilan thermique'!K23,'Bilan thermique'!M23,'Bilan thermique'!O23,'Bilan thermique'!Q23,'Bilan thermique'!S23,'Bilan thermique'!U23)<9,"",SUM('Bilan thermique'!V23:AA23)) | AC23: =IF('Bilan thermique'!B23="","",'Paramètres'!$B$11) | AD23: =IF(OR('Bilan thermique'!AB23="",'Bilan thermique'!AC23=""),"",'Bilan thermique'!AB23*(1+'Bilan thermique'!AC23)) | AE23: =IF('Bilan thermique'!AB23="","",IFERROR('Bilan thermique'!AB23/SUM('Bilan thermique'!$AB$3:$AB$102),0)) | AF23: =IF('Bilan thermique'!AD23="","",IF('Bilan thermique'!AD23>15000,"À vérifier",IF('Bilan thermique'!AD23>8000,"Élevée","Normale")))
... G102: =IF(OR('Bilan thermique'!E102="",'Bilan thermique'!F102=""),"",'Bilan thermique'!E102*'Bilan thermique'!F102) | H102: =IF('Bilan thermique'!B102="","",'Paramètres'!$B$9) | I102: =IF('Bilan thermique'!C102="","",IFERROR(VLOOKUP('Bilan thermique'!C102,'Paramètres'!$A$15:$B$23,2,FALSE),-5)) | J102: =IF(OR('Bilan thermique'!H102="",'Bilan thermique'!I102=""),"",'Bilan thermique'!H102-'Bilan thermique'!I102) | L102: =IF('Bilan thermique'!B102="","",IFERROR(VLOOKUP('Paramètres'!$D$15,'Paramètres'!$D$15:$E$19,2,FALSE),0)) | N102: =IF('Bilan thermique'!B102="","",IFERROR(VLOOKUP('Paramètres'!$D$16,'Paramètres'!$D$15:$E$19,2,FALSE),0)) | P102: =IF('Bilan thermique'!B102="","",IFERROR(VLOOKUP('Paramètres'!$D$17,'Paramètres'!$D$15:$E$19,2,FALSE),0)) | R102: =IF('Bilan thermique'!B102="","",IFERROR(VLOOKUP('Paramètres'!$D$18,'Paramètres'!$D$15:$E$19,2,FALSE),0)) | T102: =IF('Bilan thermique'!B102="","",IFERROR(VLOOKUP('Paramètres'!$D$19,'Paramètres'!$D$15:$E$19,2,FALSE),0)) | V102: =IF(OR('Bilan thermique'!K102="",'Bilan thermique'!L102="",'Bilan thermique'!J102=""),"",'Bilan thermique'!K102*'Bilan thermique'!L102*'Bilan thermique'!J102) | W102: =IF(OR('Bilan thermique'!M102="",'Bilan thermique'!N102="",'Bilan thermique'!J102=""),"",'Bilan thermique'!M102*'Bilan thermique'!N102*'Bilan thermique'!J102) | X102: =IF(OR('Bilan thermique'!O102="",'Bilan thermique'!P102="",'Bilan thermique'!J102=""),"",'Bilan thermique'!O102*'Bilan thermique'!P102*'Bilan thermique'!J102) | Y102: =IF(OR('Bilan thermique'!Q102="",'Bilan thermique'!R102="",'Bilan thermique'!J102=""),"",'Bilan thermique'!Q102*'Bilan thermique'!R102*'Bilan thermique'!J102) | Z102: =IF(OR('Bilan thermique'!S102="",'Bilan thermique'!T102="",'Bilan thermique'!J102=""),"",'Bilan thermique'!S102*'Bilan thermique'!T102*'Bilan thermique'!J102) | AA102: =IF(OR('Bilan thermique'!G102="",'Bilan thermique'!U102="",'Bilan thermique'!J102=""),"",'Paramètres'!$B$10*'Bilan thermique'!G102*'Bilan thermique'!U102*'Bilan thermique'!J102) | AB102: =IF(COUNTA('Bilan thermique'!C102,'Bilan thermique'!E102,'Bilan thermique'!F102,'Bilan thermique'!K102,'Bilan thermique'!M102,'Bilan thermique'!O102,'Bilan thermique'!Q102,'Bilan thermique'!S102,'Bilan thermique'!U102)<9,"",SUM('Bilan thermique'!V102:AA102)) | AC102: =IF('Bilan thermique'!B102="","",'Paramètres'!$B$11) | AD102: =IF(OR('Bilan thermique'!AB102="",'Bilan thermique'!AC102=""),"",'Bilan thermique'!AB102*(1+'Bilan thermique'!AC102)) | AE102: =IF('Bilan thermique'!AB102="","",IFERROR('Bilan thermique'!AB102/SUM('Bilan thermique'!$AB$3:$AB$102),0)) | AF102: =IF('Bilan thermique'!AD102="","",IF('Bilan thermique'!AD102>15000,"À vérifier",IF('Bilan thermique'!AD102>8000,"Élevée","Normale")))
