Workbook

Sheet Suivi EPI
A1: ID suivi | B1: Collaborateur | C1: Fonction | D1: Site | E1: Type d’EPI | F1: Référence produit | G1: Taille | H1: Date de remise | I1: Durée prévue (mois) | J1: Date de renouvellement | K1: Quantité | L1: Coût unitaire HT (€) | M1: Coût total HT (€) | N1: État | O1: Date du dernier contrôle | P1: Prochain contrôle | Q1: Statut automatique | R1: Commentaires
A2: EPI-2026-001 | B2: Camille Bernard | C2: Technicienne | D2: Paris | E2: Casque de sécurité | F2: =IF(E2="","",IFERROR(VLOOKUP(E2,'Référentiels'!$F$2:$G$7,2,FALSE),"Référence à compléter")) | G2: M | H2: 46254 | I2: 3 | J2: =IF(OR(H2="",I2=""),"",IFERROR(EDATE(H2,I2),"")) | K2: 1 | L2: 92 | M2: =IF(OR(K2="",L2=""),"",IFERROR(K2*L2,0)) | N2: Bon état | O2: 46263 | P2: =IF(O2="","",IFERROR(O2+180,"")) | Q2: =IF(B2="","",IF(J2="","À compléter",IF(J2<TODAY(),"Renouvellement en retard",IF(J2<=TODAY()+30,"À renouveler sous 30 jours","Conforme")))) | R2: Attribution initiale validée.
A3: EPI-2026-002 | B3: Julien Moreau | C3: Technicien | D3: Lyon | E3: Chaussures de sécurité | F3: =IF(E3="","",IFERROR(VLOOKUP(E3,'Référentiels'!$F$2:$G$7,2,FALSE),"Référence à compléter")) | G3: 43 | H3: 46249 | I3: 1 | J3: =IF(OR(H3="",I3=""),"",IFERROR(EDATE(H3,I3),"")) | K3: 1 | L3: 124 | M3: =IF(OR(K3="",L3=""),"",IFERROR(K3*L3,0)) | N3: Bon état | O3: 46253 | P3: =IF(O3="","",IFERROR(O3+180,"")) | Q3: =IF(B3="","",IF(J3="","À compléter",IF(J3<TODAY(),"Renouvellement en retard",IF(J3<=TODAY()+30,"À renouveler sous 30 jours","Conforme")))) | R3: Renouvellement à anticiper.
A4: EPI-2026-003 | B4: Léa Martin | C4: Responsable de site | D4: Marseille | E4: Gants de protection | F4: =IF(E4="","",IFERROR(VLOOKUP(E4,'Référentiels'!$F$2:$G$7,2,FALSE),"Référence à compléter")) | G4: M | H4: 46037 | I4: 6 | J4: =IF(OR(H4="",I4=""),"",IFERROR(EDATE(H4,I4),"")) | K4: 3 | L4: 9.5 | M4: =IF(OR(K4="",L4=""),"",IFERROR(K4*L4,0)) | N4: À remplacer | O4: 46083 | P4: =IF(O4="","",IFERROR(O4+180,"")) | Q4: =IF(B4="","",IF(J4="","À compléter",IF(J4<TODAY(),"Renouvellement en retard",IF(J4<=TODAY()+30,"À renouveler sous 30 jours","Conforme")))) | R4: Renouvellement dépassé, commande à lancer.
A5: EPI-2026-004 | B5: Thomas Leroy | C5: Magasinier | D5: Toulouse | E5: Lunettes de protection | F5: =IF(E5="","",IFERROR(VLOOKUP(E5,'Référentiels'!$F$2:$G$7,2,FALSE),"Référence à compléter")) | G5: M | H5: 46204 | I5: 12 | J5: =IF(OR(H5="",I5=""),"",IFERROR(EDATE(H5,I5),"")) | K5: 2 | L5: 14 | M5: =IF(OR(K5="",L5=""),"",IFERROR(K5*L5,0)) | N5: Neuf | O5: 46213 | P5: =IF(O5="","",IFERROR(O5+180,"")) | Q5: =IF(B5="","",IF(J5="","À compléter",IF(J5<TODAY(),"Renouvellement en retard",IF(J5<=TODAY()+30,"À renouveler sous 30 jours","Conforme")))) | R5: Stock remis au magasin.
A6: EPI-2026-005 | B6: Chloé Petit | C6: Conductrice de travaux | D6: Bordeaux | E6: Gilet haute visibilité | F6: =IF(E6="","",IFERROR(VLOOKUP(E6,'Référentiels'!$F$2:$G$7,2,FALSE),"Référence à compléter")) | G6: L | H6: 46101 | I6: 12 | J6: =IF(OR(H6="",I6=""),"",IFERROR(EDATE(H6,I6),"")) | K6: 2 | L6: 18.5 | M6: =IF(OR(K6="",L6=""),"",IFERROR(K6*L6,0)) | N6: Bon état | O6: 46113 | P6: =IF(O6="","",IFERROR(O6+180,"")) | Q6: =IF(B6="","",IF(J6="","À compléter",IF(J6<TODAY(),"Renouvellement en retard",IF(J6<=TODAY()+30,"À renouveler sous 30 jours","Conforme")))) | R6: Utilisation sur chantier extérieur.
A7: EPI-2026-006 | B7: Nicolas Roux | C7: Électricien | D7: Lille | E7: Protection auditive | F7: =IF(E7="","",IFERROR(VLOOKUP(E7,'Référentiels'!$F$2:$G$7,2,FALSE),"Référence à compléter")) | G7: M | H7: 46068 | I7: 12 | J7: =IF(OR(H7="",I7=""),"",IFERROR(EDATE(H7,I7),"")) | K7: 1 | L7: 45 | M7: =IF(OR(K7="",L7=""),"",IFERROR(K7*L7,0)) | N7: Bon état | O7: 46173 | P7: =IF(O7="","",IFERROR(O7+180,"")) | Q7: =IF(B7="","",IF(J7="","À compléter",IF(J7<TODAY(),"Renouvellement en retard",IF(J7<=TODAY()+30,"À renouveler sous 30 jours","Conforme")))) | R7: Contrôle visuel réalisé.
A8: EPI-2026-007 | B8: Manon Garcia | C8: Agent de maintenance | D8: Nantes | E8: Casque de sécurité | F8: =IF(E8="","",IFERROR(VLOOKUP(E8,'Référentiels'!$F$2:$G$7,2,FALSE),"Référence à compléter")) | G8: L | H8: 46244 | I8: 12 | J8: =IF(OR(H8="",I8=""),"",IFERROR(EDATE(H8,I8),"")) | K8: 1 | L8: 145 | M8: =IF(OR(K8="",L8=""),"",IFERROR(K8*L8,0)) | N8: Neuf | O8: 46246 | P8: =IF(O8="","",IFERROR(O8+180,"")) | Q8: =IF(B8="","",IF(J8="","À compléter",IF(J8<TODAY(),"Renouvellement en retard",IF(J8<=TODAY()+30,"À renouveler sous 30 jours","Conforme")))) | R8: Casque avec jugulaire.
A9: EPI-2026-008 | B9: Antoine Faure | C9: Technicien | D9: Strasbourg | E9: Chaussures de sécurité | F9: =IF(E9="","",IFERROR(VLOOKUP(E9,'Référentiels'!$F$2:$G$7,2,FALSE),"Référence à compléter")) | G9: 42 | H9: 46223 | I9: 12 | J9: =IF(OR(H9="",I9=""),"",IFERROR(EDATE(H9,I9),"")) | K9: 1 | L9: 118 | M9: =IF(OR(K9="",L9=""),"",IFERROR(K9*L9,0)) | N9: Bon état | O9: 46225 | P9: =IF(O9="","",IFERROR(O9+180,"")) | Q9: =IF(B9="","",IF(J9="","À compléter",IF(J9<TODAY(),"Renouvellement en retard",IF(J9<=TODAY()+30,"À renouveler sous 30 jours","Conforme")))) | R9: Pointure confirmée par le collaborateur.
A10: EPI-2026-009 | B10: Sarah André | C10: Technicienne | D10: Bordeaux | E10: Gants de protection | F10: =IF(E10="","",IFERROR(VLOOKUP(E10,'Référentiels'!$F$2:$G$7,2,FALSE),"Référence à compléter")) | G10: M | H10: 46122 | I10: 12 | J10: =IF(OR(H10="",I10=""),"",IFERROR(EDATE(H10,I10),"")) | K10: 3 | L10: 8.5 | M10: =IF(OR(K10="",L10=""),"",IFERROR(K10*L10,0)) | N10: À contrôler | P10: =IF(O10="","",IFERROR(O10+180,"")) | Q10: =IF(B10="","",IF(J10="","À compléter",IF(J10<TODAY(),"Renouvellement en retard",IF(J10<=TODAY()+30,"À renouveler sous 30 jours","Conforme")))) | R10: Contrôle à planifier avant la prochaine intervention.
A11: EPI-2026-010 | B11: Maxime Girard | C11: Agent de maintenance | D11: Marseille | E11: Protection auditive | F11: =IF(E11="","",IFERROR(VLOOKUP(E11,'Référentiels'!$F$2:$G$7,2,FALSE),"Référence à compléter")) | G11: XL | H11: 46193 | I11: 12 | J11: =IF(OR(H11="",I11=""),"",IFERROR(EDATE(H11,I11),"")) | K11: 1 | L11: 35 | M11: =IF(OR(K11="",L11=""),"",IFERROR(K11*L11,0)) | N11: Bon état | O11: 46198 | P11: =IF(O11="","",IFERROR(O11+180,"")) | Q11: =IF(B11="","",IF(J11="","À compléter",IF(J11<TODAY(),"Renouvellement en retard",IF(J11<=TODAY()+30,"À renouveler sous 30 jours","Conforme")))) | R11: Bouchons moulés remis avec étui.
F12: =IF(E12="","",IFERROR(VLOOKUP(E12,'Référentiels'!$F$2:$G$7,2,FALSE),"Référence à compléter")) | J12: =IF(OR(H12="",I12=""),"",IFERROR(EDATE(H12,I12),"")) | M12: =IF(OR(K12="",L12=""),"",IFERROR(K12*L12,0)) | P12: =IF(O12="","",IFERROR(O12+180,"")) | Q12: =IF(B12="","",IF(J12="","À compléter",IF(J12<TODAY(),"Renouvellement en retard",IF(J12<=TODAY()+30,"À renouveler sous 30 jours","Conforme"))))
F13: =IF(E13="","",IFERROR(VLOOKUP(E13,'Référentiels'!$F$2:$G$7,2,FALSE),"Référence à compléter")) | J13: =IF(OR(H13="",I13=""),"",IFERROR(EDATE(H13,I13),"")) | M13: =IF(OR(K13="",L13=""),"",IFERROR(K13*L13,0)) | P13: =IF(O13="","",IFERROR(O13+180,"")) | Q13: =IF(B13="","",IF(J13="","À compléter",IF(J13<TODAY(),"Renouvellement en retard",IF(J13<=TODAY()+30,"À renouveler sous 30 jours","Conforme"))))
F14: =IF(E14="","",IFERROR(VLOOKUP(E14,'Référentiels'!$F$2:$G$7,2,FALSE),"Référence à compléter")) | J14: =IF(OR(H14="",I14=""),"",IFERROR(EDATE(H14,I14),"")) | M14: =IF(OR(K14="",L14=""),"",IFERROR(K14*L14,0)) | P14: =IF(O14="","",IFERROR(O14+180,"")) | Q14: =IF(B14="","",IF(J14="","À compléter",IF(J14<TODAY(),"Renouvellement en retard",IF(J14<=TODAY()+30,"À renouveler sous 30 jours","Conforme"))))
F15: =IF(E15="","",IFERROR(VLOOKUP(E15,'Référentiels'!$F$2:$G$7,2,FALSE),"Référence à compléter")) | J15: =IF(OR(H15="",I15=""),"",IFERROR(EDATE(H15,I15),"")) | M15: =IF(OR(K15="",L15=""),"",IFERROR(K15*L15,0)) | P15: =IF(O15="","",IFERROR(O15+180,"")) | Q15: =IF(B15="","",IF(J15="","À compléter",IF(J15<TODAY(),"Renouvellement en retard",IF(J15<=TODAY()+30,"À renouveler sous 30 jours","Conforme"))))
F16: =IF(E16="","",IFERROR(VLOOKUP(E16,'Référentiels'!$F$2:$G$7,2,FALSE),"Référence à compléter")) | J16: =IF(OR(H16="",I16=""),"",IFERROR(EDATE(H16,I16),"")) | M16: =IF(OR(K16="",L16=""),"",IFERROR(K16*L16,0)) | P16: =IF(O16="","",IFERROR(O16+180,"")) | Q16: =IF(B16="","",IF(J16="","À compléter",IF(J16<TODAY(),"Renouvellement en retard",IF(J16<=TODAY()+30,"À renouveler sous 30 jours","Conforme"))))
F17: =IF(E17="","",IFERROR(VLOOKUP(E17,'Référentiels'!$F$2:$G$7,2,FALSE),"Référence à compléter")) | J17: =IF(OR(H17="",I17=""),"",IFERROR(EDATE(H17,I17),"")) | M17: =IF(OR(K17="",L17=""),"",IFERROR(K17*L17,0)) | P17: =IF(O17="","",IFERROR(O17+180,"")) | Q17: =IF(B17="","",IF(J17="","À compléter",IF(J17<TODAY(),"Renouvellement en retard",IF(J17<=TODAY()+30,"À renouveler sous 30 jours","Conforme"))))
F18: =IF(E18="","",IFERROR(VLOOKUP(E18,'Référentiels'!$F$2:$G$7,2,FALSE),"Référence à compléter")) | J18: =IF(OR(H18="",I18=""),"",IFERROR(EDATE(H18,I18),"")) | M18: =IF(OR(K18="",L18=""),"",IFERROR(K18*L18,0)) | P18: =IF(O18="","",IFERROR(O18+180,"")) | Q18: =IF(B18="","",IF(J18="","À compléter",IF(J18<TODAY(),"Renouvellement en retard",IF(J18<=TODAY()+30,"À renouveler sous 30 jours","Conforme"))))
F19: =IF(E19="","",IFERROR(VLOOKUP(E19,'Référentiels'!$F$2:$G$7,2,FALSE),"Référence à compléter")) | J19: =IF(OR(H19="",I19=""),"",IFERROR(EDATE(H19,I19),"")) | M19: =IF(OR(K19="",L19=""),"",IFERROR(K19*L19,0)) | P19: =IF(O19="","",IFERROR(O19+180,"")) | Q19: =IF(B19="","",IF(J19="","À compléter",IF(J19<TODAY(),"Renouvellement en retard",IF(J19<=TODAY()+30,"À renouveler sous 30 jours","Conforme"))))
F20: =IF(E20="","",IFERROR(VLOOKUP(E20,'Référentiels'!$F$2:$G$7,2,FALSE),"Référence à compléter")) | J20: =IF(OR(H20="",I20=""),"",IFERROR(EDATE(H20,I20),"")) | M20: =IF(OR(K20="",L20=""),"",IFERROR(K20*L20,0)) | P20: =IF(O20="","",IFERROR(O20+180,"")) | Q20: =IF(B20="","",IF(J20="","À compléter",IF(J20<TODAY(),"Renouvellement en retard",IF(J20<=TODAY()+30,"À renouveler sous 30 jours","Conforme"))))
F21: =IF(E21="","",IFERROR(VLOOKUP(E21,'Référentiels'!$F$2:$G$7,2,FALSE),"Référence à compléter")) | J21: =IF(OR(H21="",I21=""),"",IFERROR(EDATE(H21,I21),"")) | M21: =IF(OR(K21="",L21=""),"",IFERROR(K21*L21,0)) | P21: =IF(O21="","",IFERROR(O21+180,"")) | Q21: =IF(B21="","",IF(J21="","À compléter",IF(J21<TODAY(),"Renouvellement en retard",IF(J21<=TODAY()+30,"À renouveler sous 30 jours","Conforme"))))
F22: =IF(E22="","",IFERROR(VLOOKUP(E22,'Référentiels'!$F$2:$G$7,2,FALSE),"Référence à compléter")) | J22: =IF(OR(H22="",I22=""),"",IFERROR(EDATE(H22,I22),"")) | M22: =IF(OR(K22="",L22=""),"",IFERROR(K22*L22,0)) | P22: =IF(O22="","",IFERROR(O22+180,"")) | Q22: =IF(B22="","",IF(J22="","À compléter",IF(J22<TODAY(),"Renouvellement en retard",IF(J22<=TODAY()+30,"À renouveler sous 30 jours","Conforme"))))
F23: =IF(E23="","",IFERROR(VLOOKUP(E23,'Référentiels'!$F$2:$G$7,2,FALSE),"Référence à compléter")) | J23: =IF(OR(H23="",I23=""),"",IFERROR(EDATE(H23,I23),"")) | M23: =IF(OR(K23="",L23=""),"",IFERROR(K23*L23,0)) | P23: =IF(O23="","",IFERROR(O23+180,"")) | Q23: =IF(B23="","",IF(J23="","À compléter",IF(J23<TODAY(),"Renouvellement en retard",IF(J23<=TODAY()+30,"À renouveler sous 30 jours","Conforme"))))
... F111: =IF(E111="","",IFERROR(VLOOKUP(E111,'Référentiels'!$F$2:$G$7,2,FALSE),"Référence à compléter")) | J111: =IF(OR(H111="",I111=""),"",IFERROR(EDATE(H111,I111),"")) | M111: =IF(OR(K111="",L111=""),"",IFERROR(K111*L111,0)) | P111: =IF(O111="","",IFERROR(O111+180,"")) | Q111: =IF(B111="","",IF(J111="","À compléter",IF(J111<TODAY(),"Renouvellement en retard",IF(J111<=TODAY()+30,"À renouveler sous 30 jours","Conforme"))))
A112: Totaux / moyenne | J112: Quantité totale | K112: =SUM(K2:K111) | L112: Coût total HT | M112: =SUM(M2:M111) | N112: Coût moyen / attribution | O112: =AVERAGE(M2:M111)

Sheet Tableau de bord
A1: Tableau de bord — Suivi des équipements de protection individuelle
A3: Indicateurs clés | E3: Synthèse par type d’EPI | J3: Répartition des statuts
A4: Nombre total d’attributions | B4: =COUNTA('Suivi EPI'!$A$2:$A$111) | E4: Type d’EPI | F4: Attributions | G4: Quantité | H4: Coût total HT | J4: Statut automatique | K4: Nombre
A5: Quantité totale d’EPI | B5: =SUM('Suivi EPI'!$K$2:$K$111) | E5: Casque de sécurité | F5: =COUNTIF('Suivi EPI'!$E$2:$E$111,E5) | G5: =SUMIF('Suivi EPI'!$E$2:$E$111,E5,'Suivi EPI'!$K$2:$K$111) | H5: =SUMIF('Suivi EPI'!$E$2:$E$111,E5,'Suivi EPI'!$M$2:$M$111) | J5: Conforme | K5: =COUNTIF('Suivi EPI'!$Q$2:$Q$111,J5)
A6: Coût total HT | B6: =SUM('Suivi EPI'!$M$2:$M$111) | E6: Chaussures de sécurité | F6: =COUNTIF('Suivi EPI'!$E$2:$E$111,E6) | G6: =SUMIF('Suivi EPI'!$E$2:$E$111,E6,'Suivi EPI'!$K$2:$K$111) | H6: =SUMIF('Suivi EPI'!$E$2:$E$111,E6,'Suivi EPI'!$M$2:$M$111) | J6: À renouveler sous 30 jours | K6: =COUNTIF('Suivi EPI'!$Q$2:$Q$111,J6)
A7: Attributions conformes | B7: =COUNTIF('Suivi EPI'!$Q$2:$Q$111,"Conforme") | E7: Gants de protection | F7: =COUNTIF('Suivi EPI'!$E$2:$E$111,E7) | G7: =SUMIF('Suivi EPI'!$E$2:$E$111,E7,'Suivi EPI'!$K$2:$K$111) | H7: =SUMIF('Suivi EPI'!$E$2:$E$111,E7,'Suivi EPI'!$M$2:$M$111) | J7: Renouvellement en retard | K7: =COUNTIF('Suivi EPI'!$Q$2:$Q$111,J7)
A8: Renouvellements en retard | B8: =COUNTIF('Suivi EPI'!$Q$2:$Q$111,"Renouvellement en retard") | E8: Lunettes de protection | F8: =COUNTIF('Suivi EPI'!$E$2:$E$111,E8) | G8: =SUMIF('Suivi EPI'!$E$2:$E$111,E8,'Suivi EPI'!$K$2:$K$111) | H8: =SUMIF('Suivi EPI'!$E$2:$E$111,E8,'Suivi EPI'!$M$2:$M$111) | J8: À compléter | K8: =COUNTIF('Suivi EPI'!$Q$2:$Q$111,J8)
A9: À renouveler sous 30 jours | B9: =COUNTIF('Suivi EPI'!$Q$2:$Q$111,"À renouveler sous 30 jours") | E9: Gilet haute visibilité | F9: =COUNTIF('Suivi EPI'!$E$2:$E$111,E9) | G9: =SUMIF('Suivi EPI'!$E$2:$E$111,E9,'Suivi EPI'!$K$2:$K$111) | H9: =SUMIF('Suivi EPI'!$E$2:$E$111,E9,'Suivi EPI'!$M$2:$M$111)
A10: Taux de conformité | B10: =IFERROR(COUNTIF('Suivi EPI'!$Q$2:$Q$111,"Conforme")/COUNTA('Suivi EPI'!$A$2:$A$111),0) | E10: Protection auditive | F10: =COUNTIF('Suivi EPI'!$E$2:$E$111,E10) | G10: =SUMIF('Suivi EPI'!$E$2:$E$111,E10,'Suivi EPI'!$K$2:$K$111) | H10: =SUMIF('Suivi EPI'!$E$2:$E$111,E10,'Suivi EPI'!$M$2:$M$111)
J11: Coût total HT par site
J12: Site | K12: Coût total HT
J13: Paris | K13: =SUMIF('Suivi EPI'!$D$2:$D$111,J13,'Suivi EPI'!$M$2:$M$111)
J14: Lyon | K14: =SUMIF('Suivi EPI'!$D$2:$D$111,J14,'Suivi EPI'!$M$2:$M$111)
J15: Marseille | K15: =SUMIF('Suivi EPI'!$D$2:$D$111,J15,'Suivi EPI'!$M$2:$M$111)
J16: Toulouse | K16: =SUMIF('Suivi EPI'!$D$2:$D$111,J16,'Suivi EPI'!$M$2:$M$111)
J17: Bordeaux | K17: =SUMIF('Suivi EPI'!$D$2:$D$111,J17,'Suivi EPI'!$M$2:$M$111)
J18: Lille | K18: =SUMIF('Suivi EPI'!$D$2:$D$111,J18,'Suivi EPI'!$M$2:$M$111)
J19: Nantes | K19: =SUMIF('Suivi EPI'!$D$2:$D$111,J19,'Suivi EPI'!$M$2:$M$111)
J20: Strasbourg | K20: =SUMIF('Suivi EPI'!$D$2:$D$111,J20,'Suivi EPI'!$M$2:$M$111)

Sheet Référentiels
A1: Collaborateurs | B1: Fonctions | C1: Sites | D1: Types d’EPI | E1: États | F1: Type d’EPI - correspondance | G1: Référence produit
A2: Camille Bernard | B2: Technicienne | C2: Paris | D2: Casque de sécurité | E2: Neuf | F2: Casque de sécurité | G2: CASQ-SEC-2026
A3: Julien Moreau | B3: Technicien | C3: Lyon | D3: Chaussures de sécurité | E3: Bon état | F3: Chaussures de sécurité | G3: CHAUS-PRO-2026
A4: Léa Martin | B4: Responsable de site | C4: Marseille | D4: Gants de protection | E4: À contrôler | F4: Gants de protection | G4: GANTS-NIT-2026
A5: Thomas Leroy | B5: Magasinier | C5: Toulouse | D5: Lunettes de protection | E5: À remplacer | F5: Lunettes de protection | G5: LUN-VIS-2026
A6: Chloé Petit | B6: Conductrice de travaux | C6: Bordeaux | D6: Gilet haute visibilité | E6: Perdu | F6: Gilet haute visibilité | G6: GILET-HV-2026
A7: Nicolas Roux | B7: Électricien | C7: Lille | D7: Protection auditive | F7: Protection auditive | G7: AUD-PRO-2026
A8: Manon Garcia | B8: Agent de maintenance | C8: Nantes
A9: Antoine Faure | C9: Strasbourg
A10: Sarah André
A11: Maxime Girard
