Workbook

Sheet Journal de trading
A1: ID opération | B1: Date d’entrée | C1: Date de sortie | D1: Trader | E1: Ville | F1: Marché | G1: Instrument | H1: Sens | I1: Stratégie | J1: Unité de temps | K1: Quantité | L1: Prix d’entrée | M1: Stop initial | N1: Objectif initial | O1: Prix de sortie | P1: Valeur nominale | Q1: P&L brut (€) | R1: Commissions (€) | S1: P&L net (€) | T1: Risque initial (€) | U1: Ratio R | V1: Résultat | W1: Respect du plan | X1: Commentaire
A2: TRD-2026-001 | B2: 46027 | C2: 46029 | D2: Camille | E2: Paris | F2: Indices | G2: CAC 40 | H2: Achat | I2: Cassure | J2: H1 | K2: 2 | L2: 7480 | M2: 7430 | N2: 7580 | O2: 7560 | P2: =IF(A2="","",K2*L2) | Q2: =IF(A2="","",IF(H2="Achat",(O2-L2)*K2,IF(H2="Vente",(L2-O2)*K2,0))) | R2: =IF(A2="","",IFERROR(P2*VLOOKUP(F2,'Référentiels'!$A$2:$C$6,3,FALSE),0)) | S2: =IF(A2="","",Q2-R2) | T2: =IF(A2="","",MAX(L2-M2,M2-L2)*K2) | U2: =IF(A2="","",IFERROR(S2/T2,0)) | V2: =IF(A2="","",IF(S2>0,"Gagnant",IF(S2<0,"Perdant","Égalité"))) | W2: Oui | X2: Cassure confirmée après ouverture européenne.
A3: TRD-2026-002 | B3: 46044 | C3: 46045 | D3: Julien | E3: Lyon | F3: Indices | G3: DAX | H3: Vente | I3: Pullback | J3: H1 | K3: 1 | L3: 16000 | M3: 16120 | N3: 15750 | O3: 16150 | P3: =IF(A3="","",K3*L3) | Q3: =IF(A3="","",IF(H3="Achat",(O3-L3)*K3,IF(H3="Vente",(L3-O3)*K3,0))) | R3: =IF(A3="","",IFERROR(P3*VLOOKUP(F3,'Référentiels'!$A$2:$C$6,3,FALSE),0)) | S3: =IF(A3="","",Q3-R3) | T3: =IF(A3="","",MAX(L3-M3,M3-L3)*K3) | U3: =IF(A3="","",IFERROR(S3/T3,0)) | V3: =IF(A3="","",IF(S3>0,"Gagnant",IF(S3<0,"Perdant","Égalité"))) | W3: Non | X3: Sortie tardive après invalidation du scénario.
A4: TRD-2026-003 | B4: 46063 | C4: 46065 | D4: Léa | E4: Marseille | F4: Forex | G4: EUR/USD | H4: Achat | I4: Suivi de tendance | J4: H4 | K4: 10000 | L4: 1.085 | M4: 1.079 | N4: 1.097 | O4: 1.092 | P4: =IF(A4="","",K4*L4) | Q4: =IF(A4="","",IF(H4="Achat",(O4-L4)*K4,IF(H4="Vente",(L4-O4)*K4,0))) | R4: =IF(A4="","",IFERROR(P4*VLOOKUP(F4,'Référentiels'!$A$2:$C$6,3,FALSE),0)) | S4: =IF(A4="","",Q4-R4) | T4: =IF(A4="","",MAX(L4-M4,M4-L4)*K4) | U4: =IF(A4="","",IFERROR(S4/T4,0)) | V4: =IF(A4="","",IF(S4>0,"Gagnant",IF(S4<0,"Perdant","Égalité"))) | W4: Oui | X4: Tendance haussière respectée avec prise partielle.
A5: TRD-2026-004 | B5: 46085 | C5: 46086 | D5: Thomas | E5: Toulouse | F5: Matières premières | G5: Brent | H5: Vente | I5: Rebond sur support | J5: H1 | K5: 10 | L5: 76.4 | M5: 78 | N5: 73 | O5: 77.8 | P5: =IF(A5="","",K5*L5) | Q5: =IF(A5="","",IF(H5="Achat",(O5-L5)*K5,IF(H5="Vente",(L5-O5)*K5,0))) | R5: =IF(A5="","",IFERROR(P5*VLOOKUP(F5,'Référentiels'!$A$2:$C$6,3,FALSE),0)) | S5: =IF(A5="","",Q5-R5) | T5: =IF(A5="","",MAX(L5-M5,M5-L5)*K5) | U5: =IF(A5="","",IFERROR(S5/T5,0)) | V5: =IF(A5="","",IF(S5>0,"Gagnant",IF(S5<0,"Perdant","Égalité"))) | W5: Oui | X5: Stop exécuté après rebond inattendu.
A6: TRD-2026-005 | B6: 46128 | C6: 46132 | D6: Chloé | E6: Bordeaux | F6: Actions françaises | G6: Air Liquide | H6: Achat | I6: Pullback | J6: Journalier | K6: 20 | L6: 174 | M6: 169 | N6: 184 | O6: 183 | P6: =IF(A6="","",K6*L6) | Q6: =IF(A6="","",IF(H6="Achat",(O6-L6)*K6,IF(H6="Vente",(L6-O6)*K6,0))) | R6: =IF(A6="","",IFERROR(P6*VLOOKUP(F6,'Référentiels'!$A$2:$C$6,3,FALSE),0)) | S6: =IF(A6="","",Q6-R6) | T6: =IF(A6="","",MAX(L6-M6,M6-L6)*K6) | U6: =IF(A6="","",IFERROR(S6/T6,0)) | V6: =IF(A6="","",IF(S6>0,"Gagnant",IF(S6<0,"Perdant","Égalité"))) | W6: Oui | X6: Entrée sur support journalier avec volume.
A7: TRD-2026-006 | B7: 46154 | C7: 46156 | D7: Nicolas | E7: Lille | F7: Actions françaises | G7: LVMH | H7: Vente | I7: Cassure | J7: H4 | K7: 5 | L7: 700 | M7: 720 | N7: 675 | O7: 685 | P7: =IF(A7="","",K7*L7) | Q7: =IF(A7="","",IF(H7="Achat",(O7-L7)*K7,IF(H7="Vente",(L7-O7)*K7,0))) | R7: =IF(A7="","",IFERROR(P7*VLOOKUP(F7,'Référentiels'!$A$2:$C$6,3,FALSE),0)) | S7: =IF(A7="","",Q7-R7) | T7: =IF(A7="","",MAX(L7-M7,M7-L7)*K7) | U7: =IF(A7="","",IFERROR(S7/T7,0)) | V7: =IF(A7="","",IF(S7>0,"Gagnant",IF(S7<0,"Perdant","Égalité"))) | W7: Oui | X7: Cassure du support confirmée en clôture H4.
A8: TRD-2026-007 | B8: 46181 | C8: 46182 | D8: Manon | E8: Nantes | F8: Actions françaises | G8: Airbus | H8: Achat | I8: Rebond sur support | J8: H1 | K8: 30 | L8: 128 | M8: 123 | N8: 136 | O8: 121 | P8: =IF(A8="","",K8*L8) | Q8: =IF(A8="","",IF(H8="Achat",(O8-L8)*K8,IF(H8="Vente",(L8-O8)*K8,0))) | R8: =IF(A8="","",IFERROR(P8*VLOOKUP(F8,'Référentiels'!$A$2:$C$6,3,FALSE),0)) | S8: =IF(A8="","",Q8-R8) | T8: =IF(A8="","",MAX(L8-M8,M8-L8)*K8) | U8: =IF(A8="","",IFERROR(S8/T8,0)) | V8: =IF(A8="","",IF(S8>0,"Gagnant",IF(S8<0,"Perdant","Égalité"))) | W8: Non | X8: Position conservée malgré la rupture du support.
A9: TRD-2026-008 | B9: 46209 | C9: 46211 | D9: Antoine | E9: Strasbourg | F9: Indices | G9: Euro Stoxx 50 | H9: Vente | I9: Suivi de tendance | J9: H1 | K9: 2 | L9: 5100 | M9: 5140 | N9: 5020 | O9: 5040 | P9: =IF(A9="","",K9*L9) | Q9: =IF(A9="","",IF(H9="Achat",(O9-L9)*K9,IF(H9="Vente",(L9-O9)*K9,0))) | R9: =IF(A9="","",IFERROR(P9*VLOOKUP(F9,'Référentiels'!$A$2:$C$6,3,FALSE),0)) | S9: =IF(A9="","",Q9-R9) | T9: =IF(A9="","",MAX(L9-M9,M9-L9)*K9) | U9: =IF(A9="","",IFERROR(S9/T9,0)) | V9: =IF(A9="","",IF(S9>0,"Gagnant",IF(S9<0,"Perdant","Égalité"))) | W9: Oui | X9: Suivi de tendance baissière discipliné.
A10: TRD-2026-009 | B10: 46252 | C10: 46253 | D10: Sarah | E10: Rennes | F10: Indices | G10: CAC 40 | H10: Achat | I10: Cassure | J10: M15 | K10: 1 | L10: 7800 | M10: 7750 | N10: 7900 | O10: 7750 | P10: =IF(A10="","",K10*L10) | Q10: =IF(A10="","",IF(H10="Achat",(O10-L10)*K10,IF(H10="Vente",(L10-O10)*K10,0))) | R10: =IF(A10="","",IFERROR(P10*VLOOKUP(F10,'Référentiels'!$A$2:$C$6,3,FALSE),0)) | S10: =IF(A10="","",Q10-R10) | T10: =IF(A10="","",MAX(L10-M10,M10-L10)*K10) | U10: =IF(A10="","",IFERROR(S10/T10,0)) | V10: =IF(A10="","",IF(S10>0,"Gagnant",IF(S10<0,"Perdant","Égalité"))) | W10: Oui | X10: Stop atteint sans dépassement du risque prévu.
A11: TRD-2026-010 | B11: 46293 | C11: 46295 | D11: Maxime | E11: Montpellier | F11: Forex | G11: EUR/USD | H11: Vente | I11: Pullback | J11: H4 | K11: 15000 | L11: 1.102 | M11: 1.108 | N11: 1.09 | O11: 1.096 | P11: =IF(A11="","",K11*L11) | Q11: =IF(A11="","",IF(H11="Achat",(O11-L11)*K11,IF(H11="Vente",(L11-O11)*K11,0))) | R11: =IF(A11="","",IFERROR(P11*VLOOKUP(F11,'Référentiels'!$A$2:$C$6,3,FALSE),0)) | S11: =IF(A11="","",Q11-R11) | T11: =IF(A11="","",MAX(L11-M11,M11-L11)*K11) | U11: =IF(A11="","",IFERROR(S11/T11,0)) | V11: =IF(A11="","",IF(S11>0,"Gagnant",IF(S11<0,"Perdant","Égalité"))) | W11: Oui | X11: Pullback sous résistance puis poursuite baissière.
P12: =IF(A12="","",K12*L12) | Q12: =IF(A12="","",IF(H12="Achat",(O12-L12)*K12,IF(H12="Vente",(L12-O12)*K12,0))) | R12: =IF(A12="","",IFERROR(P12*VLOOKUP(F12,'Référentiels'!$A$2:$C$6,3,FALSE),0)) | S12: =IF(A12="","",Q12-R12) | T12: =IF(A12="","",MAX(L12-M12,M12-L12)*K12) | U12: =IF(A12="","",IFERROR(S12/T12,0)) | V12: =IF(A12="","",IF(S12>0,"Gagnant",IF(S12<0,"Perdant","Égalité")))
P13: =IF(A13="","",K13*L13) | Q13: =IF(A13="","",IF(H13="Achat",(O13-L13)*K13,IF(H13="Vente",(L13-O13)*K13,0))) | R13: =IF(A13="","",IFERROR(P13*VLOOKUP(F13,'Référentiels'!$A$2:$C$6,3,FALSE),0)) | S13: =IF(A13="","",Q13-R13) | T13: =IF(A13="","",MAX(L13-M13,M13-L13)*K13) | U13: =IF(A13="","",IFERROR(S13/T13,0)) | V13: =IF(A13="","",IF(S13>0,"Gagnant",IF(S13<0,"Perdant","Égalité")))
P14: =IF(A14="","",K14*L14) | Q14: =IF(A14="","",IF(H14="Achat",(O14-L14)*K14,IF(H14="Vente",(L14-O14)*K14,0))) | R14: =IF(A14="","",IFERROR(P14*VLOOKUP(F14,'Référentiels'!$A$2:$C$6,3,FALSE),0)) | S14: =IF(A14="","",Q14-R14) | T14: =IF(A14="","",MAX(L14-M14,M14-L14)*K14) | U14: =IF(A14="","",IFERROR(S14/T14,0)) | V14: =IF(A14="","",IF(S14>0,"Gagnant",IF(S14<0,"Perdant","Égalité")))
P15: =IF(A15="","",K15*L15) | Q15: =IF(A15="","",IF(H15="Achat",(O15-L15)*K15,IF(H15="Vente",(L15-O15)*K15,0))) | R15: =IF(A15="","",IFERROR(P15*VLOOKUP(F15,'Référentiels'!$A$2:$C$6,3,FALSE),0)) | S15: =IF(A15="","",Q15-R15) | T15: =IF(A15="","",MAX(L15-M15,M15-L15)*K15) | U15: =IF(A15="","",IFERROR(S15/T15,0)) | V15: =IF(A15="","",IF(S15>0,"Gagnant",IF(S15<0,"Perdant","Égalité")))
P16: =IF(A16="","",K16*L16) | Q16: =IF(A16="","",IF(H16="Achat",(O16-L16)*K16,IF(H16="Vente",(L16-O16)*K16,0))) | R16: =IF(A16="","",IFERROR(P16*VLOOKUP(F16,'Référentiels'!$A$2:$C$6,3,FALSE),0)) | S16: =IF(A16="","",Q16-R16) | T16: =IF(A16="","",MAX(L16-M16,M16-L16)*K16) | U16: =IF(A16="","",IFERROR(S16/T16,0)) | V16: =IF(A16="","",IF(S16>0,"Gagnant",IF(S16<0,"Perdant","Égalité")))
P17: =IF(A17="","",K17*L17) | Q17: =IF(A17="","",IF(H17="Achat",(O17-L17)*K17,IF(H17="Vente",(L17-O17)*K17,0))) | R17: =IF(A17="","",IFERROR(P17*VLOOKUP(F17,'Référentiels'!$A$2:$C$6,3,FALSE),0)) | S17: =IF(A17="","",Q17-R17) | T17: =IF(A17="","",MAX(L17-M17,M17-L17)*K17) | U17: =IF(A17="","",IFERROR(S17/T17,0)) | V17: =IF(A17="","",IF(S17>0,"Gagnant",IF(S17<0,"Perdant","Égalité")))
P18: =IF(A18="","",K18*L18) | Q18: =IF(A18="","",IF(H18="Achat",(O18-L18)*K18,IF(H18="Vente",(L18-O18)*K18,0))) | R18: =IF(A18="","",IFERROR(P18*VLOOKUP(F18,'Référentiels'!$A$2:$C$6,3,FALSE),0)) | S18: =IF(A18="","",Q18-R18) | T18: =IF(A18="","",MAX(L18-M18,M18-L18)*K18) | U18: =IF(A18="","",IFERROR(S18/T18,0)) | V18: =IF(A18="","",IF(S18>0,"Gagnant",IF(S18<0,"Perdant","Égalité")))
P19: =IF(A19="","",K19*L19) | Q19: =IF(A19="","",IF(H19="Achat",(O19-L19)*K19,IF(H19="Vente",(L19-O19)*K19,0))) | R19: =IF(A19="","",IFERROR(P19*VLOOKUP(F19,'Référentiels'!$A$2:$C$6,3,FALSE),0)) | S19: =IF(A19="","",Q19-R19) | T19: =IF(A19="","",MAX(L19-M19,M19-L19)*K19) | U19: =IF(A19="","",IFERROR(S19/T19,0)) | V19: =IF(A19="","",IF(S19>0,"Gagnant",IF(S19<0,"Perdant","Égalité")))
P20: =IF(A20="","",K20*L20) | Q20: =IF(A20="","",IF(H20="Achat",(O20-L20)*K20,IF(H20="Vente",(L20-O20)*K20,0))) | R20: =IF(A20="","",IFERROR(P20*VLOOKUP(F20,'Référentiels'!$A$2:$C$6,3,FALSE),0)) | S20: =IF(A20="","",Q20-R20) | T20: =IF(A20="","",MAX(L20-M20,M20-L20)*K20) | U20: =IF(A20="","",IFERROR(S20/T20,0)) | V20: =IF(A20="","",IF(S20>0,"Gagnant",IF(S20<0,"Perdant","Égalité")))
P21: =IF(A21="","",K21*L21) | Q21: =IF(A21="","",IF(H21="Achat",(O21-L21)*K21,IF(H21="Vente",(L21-O21)*K21,0))) | R21: =IF(A21="","",IFERROR(P21*VLOOKUP(F21,'Référentiels'!$A$2:$C$6,3,FALSE),0)) | S21: =IF(A21="","",Q21-R21) | T21: =IF(A21="","",MAX(L21-M21,M21-L21)*K21) | U21: =IF(A21="","",IFERROR(S21/T21,0)) | V21: =IF(A21="","",IF(S21>0,"Gagnant",IF(S21<0,"Perdant","Égalité")))
P22: =IF(A22="","",K22*L22) | Q22: =IF(A22="","",IF(H22="Achat",(O22-L22)*K22,IF(H22="Vente",(L22-O22)*K22,0))) | R22: =IF(A22="","",IFERROR(P22*VLOOKUP(F22,'Référentiels'!$A$2:$C$6,3,FALSE),0)) | S22: =IF(A22="","",Q22-R22) | T22: =IF(A22="","",MAX(L22-M22,M22-L22)*K22) | U22: =IF(A22="","",IFERROR(S22/T22,0)) | V22: =IF(A22="","",IF(S22>0,"Gagnant",IF(S22<0,"Perdant","Égalité")))
P23: =IF(A23="","",K23*L23) | Q23: =IF(A23="","",IF(H23="Achat",(O23-L23)*K23,IF(H23="Vente",(L23-O23)*K23,0))) | R23: =IF(A23="","",IFERROR(P23*VLOOKUP(F23,'Référentiels'!$A$2:$C$6,3,FALSE),0)) | S23: =IF(A23="","",Q23-R23) | T23: =IF(A23="","",MAX(L23-M23,M23-L23)*K23) | U23: =IF(A23="","",IFERROR(S23/T23,0)) | V23: =IF(A23="","",IF(S23>0,"Gagnant",IF(S23<0,"Perdant","Égalité")))
... P1000: =IF(A1000="","",K1000*L1000) | Q1000: =IF(A1000="","",IF(H1000="Achat",(O1000-L1000)*K1000,IF(H1000="Vente",(L1000-O1000)*K1000,0))) | R1000: =IF(A1000="","",IFERROR(P1000*VLOOKUP(F1000,'Référentiels'!$A$2:$C$6,3,FALSE),0)) | S1000: =IF(A1000="","",Q1000-R1000) | T1000: =IF(A1000="","",MAX(L1000-M1000,M1000-L1000)*K1000) | U1000: =IF(A1000="","",IFERROR(S1000/T1000,0)) | V1000: =IF(A1000="","",IF(S1000>0,"Gagnant",IF(S1000<0,"Perdant","Égalité")))

Sheet Tableau de bord
A1: Tableau de bord du journal de trading
A3: Nombre total d’opérations | B3: =COUNTA('Journal de trading'!$A$2:$A$1000) | D3: Nombre de perdants | E3: =COUNTIF('Journal de trading'!$V$2:$V$1000,"Perdant")
A4: P&L net total (€) | B4: =SUM('Journal de trading'!$S$2:$S$1000) | D4: Ratio R moyen | E4: =IFERROR(AVERAGE('Journal de trading'!$U$2:$U$1000),0)
A5: P&L net moyen (€) | B5: =IFERROR(AVERAGE('Journal de trading'!$S$2:$S$1000),0) | D5: Meilleure opération | E5: =IFERROR(MAX('Journal de trading'!$S$2:$S$1000),0)
A6: Taux de réussite | B6: =IFERROR(COUNTIF('Journal de trading'!$V$2:$V$1000,"Gagnant")/COUNTA('Journal de trading'!$A$2:$A$1000),0) | D6: Pire opération | E6: =IFERROR(MIN('Journal de trading'!$S$2:$S$1000),0)
A7: Nombre de gagnants | B7: =COUNTIF('Journal de trading'!$V$2:$V$1000,"Gagnant")
A13: Synthèse par stratégie | F13: Répartition par résultat | J13: Évolution cumulative par date
A14: Stratégie | B14: Nombre d’opérations | C14: P&L net (€) | D14: Taux de réussite | F14: Résultat | G14: Nombre d’opérations | J14: Date d’entrée | K14: P&L net cumulé (€)
A15: Cassure | B15: =COUNTIF('Journal de trading'!$I$2:$I$1000,A15) | C15: =SUMIF('Journal de trading'!$I$2:$I$1000,A15,'Journal de trading'!$S$2:$S$1000) | D15: =IFERROR(COUNTIFS('Journal de trading'!$I$2:$I$1000,A15,'Journal de trading'!$V$2:$V$1000,"Gagnant")/B15,0) | F15: Gagnant | G15: =COUNTIF('Journal de trading'!$V$2:$V$1000,F15) | J15: =IF('Journal de trading'!$B$2="","",'Journal de trading'!$B$2) | K15: =IF(J15="","",SUMIFS('Journal de trading'!$S$2:$S$1000,'Journal de trading'!$B$2:$B$1000,"<="&J15))
A16: Pullback | B16: =COUNTIF('Journal de trading'!$I$2:$I$1000,A16) | C16: =SUMIF('Journal de trading'!$I$2:$I$1000,A16,'Journal de trading'!$S$2:$S$1000) | D16: =IFERROR(COUNTIFS('Journal de trading'!$I$2:$I$1000,A16,'Journal de trading'!$V$2:$V$1000,"Gagnant")/B16,0) | F16: Perdant | G16: =COUNTIF('Journal de trading'!$V$2:$V$1000,F16) | J16: =IF('Journal de trading'!$B$3="","",'Journal de trading'!$B$3) | K16: =IF(J16="","",SUMIFS('Journal de trading'!$S$2:$S$1000,'Journal de trading'!$B$2:$B$1000,"<="&J16))
A17: Suivi de tendance | B17: =COUNTIF('Journal de trading'!$I$2:$I$1000,A17) | C17: =SUMIF('Journal de trading'!$I$2:$I$1000,A17,'Journal de trading'!$S$2:$S$1000) | D17: =IFERROR(COUNTIFS('Journal de trading'!$I$2:$I$1000,A17,'Journal de trading'!$V$2:$V$1000,"Gagnant")/B17,0) | F17: Égalité | G17: =COUNTIF('Journal de trading'!$V$2:$V$1000,F17) | J17: =IF('Journal de trading'!$B$4="","",'Journal de trading'!$B$4) | K17: =IF(J17="","",SUMIFS('Journal de trading'!$S$2:$S$1000,'Journal de trading'!$B$2:$B$1000,"<="&J17))
A18: Rebond sur support | B18: =COUNTIF('Journal de trading'!$I$2:$I$1000,A18) | C18: =SUMIF('Journal de trading'!$I$2:$I$1000,A18,'Journal de trading'!$S$2:$S$1000) | D18: =IFERROR(COUNTIFS('Journal de trading'!$I$2:$I$1000,A18,'Journal de trading'!$V$2:$V$1000,"Gagnant")/B18,0) | J18: =IF('Journal de trading'!$B$5="","",'Journal de trading'!$B$5) | K18: =IF(J18="","",SUMIFS('Journal de trading'!$S$2:$S$1000,'Journal de trading'!$B$2:$B$1000,"<="&J18))
J19: =IF('Journal de trading'!$B$6="","",'Journal de trading'!$B$6) | K19: =IF(J19="","",SUMIFS('Journal de trading'!$S$2:$S$1000,'Journal de trading'!$B$2:$B$1000,"<="&J19))
J20: =IF('Journal de trading'!$B$7="","",'Journal de trading'!$B$7) | K20: =IF(J20="","",SUMIFS('Journal de trading'!$S$2:$S$1000,'Journal de trading'!$B$2:$B$1000,"<="&J20))
J21: =IF('Journal de trading'!$B$8="","",'Journal de trading'!$B$8) | K21: =IF(J21="","",SUMIFS('Journal de trading'!$S$2:$S$1000,'Journal de trading'!$B$2:$B$1000,"<="&J21))
J22: =IF('Journal de trading'!$B$9="","",'Journal de trading'!$B$9) | K22: =IF(J22="","",SUMIFS('Journal de trading'!$S$2:$S$1000,'Journal de trading'!$B$2:$B$1000,"<="&J22))
J23: =IF('Journal de trading'!$B$10="","",'Journal de trading'!$B$10) | K23: =IF(J23="","",SUMIFS('Journal de trading'!$S$2:$S$1000,'Journal de trading'!$B$2:$B$1000,"<="&J23))
J24: =IF('Journal de trading'!$B$11="","",'Journal de trading'!$B$11) | K24: =IF(J24="","",SUMIFS('Journal de trading'!$S$2:$S$1000,'Journal de trading'!$B$2:$B$1000,"<="&J24))
J25: =IF('Journal de trading'!$B$12="","",'Journal de trading'!$B$12) | K25: =IF(J25="","",SUMIFS('Journal de trading'!$S$2:$S$1000,'Journal de trading'!$B$2:$B$1000,"<="&J25))
J26: =IF('Journal de trading'!$B$13="","",'Journal de trading'!$B$13) | K26: =IF(J26="","",SUMIFS('Journal de trading'!$S$2:$S$1000,'Journal de trading'!$B$2:$B$1000,"<="&J26))
J27: =IF('Journal de trading'!$B$14="","",'Journal de trading'!$B$14) | K27: =IF(J27="","",SUMIFS('Journal de trading'!$S$2:$S$1000,'Journal de trading'!$B$2:$B$1000,"<="&J27))
J28: =IF('Journal de trading'!$B$15="","",'Journal de trading'!$B$15) | K28: =IF(J28="","",SUMIFS('Journal de trading'!$S$2:$S$1000,'Journal de trading'!$B$2:$B$1000,"<="&J28))
J29: =IF('Journal de trading'!$B$16="","",'Journal de trading'!$B$16) | K29: =IF(J29="","",SUMIFS('Journal de trading'!$S$2:$S$1000,'Journal de trading'!$B$2:$B$1000,"<="&J29))
J30: =IF('Journal de trading'!$B$17="","",'Journal de trading'!$B$17) | K30: =IF(J30="","",SUMIFS('Journal de trading'!$S$2:$S$1000,'Journal de trading'!$B$2:$B$1000,"<="&J30))
J31: =IF('Journal de trading'!$B$18="","",'Journal de trading'!$B$18) | K31: =IF(J31="","",SUMIFS('Journal de trading'!$S$2:$S$1000,'Journal de trading'!$B$2:$B$1000,"<="&J31))
J32: =IF('Journal de trading'!$B$19="","",'Journal de trading'!$B$19) | K32: =IF(J32="","",SUMIFS('Journal de trading'!$S$2:$S$1000,'Journal de trading'!$B$2:$B$1000,"<="&J32))
J33: =IF('Journal de trading'!$B$20="","",'Journal de trading'!$B$20) | K33: =IF(J33="","",SUMIFS('Journal de trading'!$S$2:$S$1000,'Journal de trading'!$B$2:$B$1000,"<="&J33))
J34: =IF('Journal de trading'!$B$21="","",'Journal de trading'!$B$21) | K34: =IF(J34="","",SUMIFS('Journal de trading'!$S$2:$S$1000,'Journal de trading'!$B$2:$B$1000,"<="&J34))
J35: =IF('Journal de trading'!$B$22="","",'Journal de trading'!$B$22) | K35: =IF(J35="","",SUMIFS('Journal de trading'!$S$2:$S$1000,'Journal de trading'!$B$2:$B$1000,"<="&J35))
J36: =IF('Journal de trading'!$B$23="","",'Journal de trading'!$B$23) | K36: =IF(J36="","",SUMIFS('Journal de trading'!$S$2:$S$1000,'Journal de trading'!$B$2:$B$1000,"<="&J36))
J37: =IF('Journal de trading'!$B$24="","",'Journal de trading'!$B$24) | K37: =IF(J37="","",SUMIFS('Journal de trading'!$S$2:$S$1000,'Journal de trading'!$B$2:$B$1000,"<="&J37))
J38: =IF('Journal de trading'!$B$25="","",'Journal de trading'!$B$25) | K38: =IF(J38="","",SUMIFS('Journal de trading'!$S$2:$S$1000,'Journal de trading'!$B$2:$B$1000,"<="&J38))
J39: =IF('Journal de trading'!$B$26="","",'Journal de trading'!$B$26) | K39: =IF(J39="","",SUMIFS('Journal de trading'!$S$2:$S$1000,'Journal de trading'!$B$2:$B$1000,"<="&J39))
J40: =IF('Journal de trading'!$B$27="","",'Journal de trading'!$B$27) | K40: =IF(J40="","",SUMIFS('Journal de trading'!$S$2:$S$1000,'Journal de trading'!$B$2:$B$1000,"<="&J40))
J41: =IF('Journal de trading'!$B$28="","",'Journal de trading'!$B$28) | K41: =IF(J41="","",SUMIFS('Journal de trading'!$S$2:$S$1000,'Journal de trading'!$B$2:$B$1000,"<="&J41))
J42: =IF('Journal de trading'!$B$29="","",'Journal de trading'!$B$29) | K42: =IF(J42="","",SUMIFS('Journal de trading'!$S$2:$S$1000,'Journal de trading'!$B$2:$B$1000,"<="&J42))
J43: =IF('Journal de trading'!$B$30="","",'Journal de trading'!$B$30) | K43: =IF(J43="","",SUMIFS('Journal de trading'!$S$2:$S$1000,'Journal de trading'!$B$2:$B$1000,"<="&J43))
J44: =IF('Journal de trading'!$B$31="","",'Journal de trading'!$B$31) | K44: =IF(J44="","",SUMIFS('Journal de trading'!$S$2:$S$1000,'Journal de trading'!$B$2:$B$1000,"<="&J44))
J45: =IF('Journal de trading'!$B$32="","",'Journal de trading'!$B$32) | K45: =IF(J45="","",SUMIFS('Journal de trading'!$S$2:$S$1000,'Journal de trading'!$B$2:$B$1000,"<="&J45))
J46: =IF('Journal de trading'!$B$33="","",'Journal de trading'!$B$33) | K46: =IF(J46="","",SUMIFS('Journal de trading'!$S$2:$S$1000,'Journal de trading'!$B$2:$B$1000,"<="&J46))
J47: =IF('Journal de trading'!$B$34="","",'Journal de trading'!$B$34) | K47: =IF(J47="","",SUMIFS('Journal de trading'!$S$2:$S$1000,'Journal de trading'!$B$2:$B$1000,"<="&J47))
J48: =IF('Journal de trading'!$B$35="","",'Journal de trading'!$B$35) | K48: =IF(J48="","",SUMIFS('Journal de trading'!$S$2:$S$1000,'Journal de trading'!$B$2:$B$1000,"<="&J48))
J49: =IF('Journal de trading'!$B$36="","",'Journal de trading'!$B$36) | K49: =IF(J49="","",SUMIFS('Journal de trading'!$S$2:$S$1000,'Journal de trading'!$B$2:$B$1000,"<="&J49))
J50: =IF('Journal de trading'!$B$37="","",'Journal de trading'!$B$37) | K50: =IF(J50="","",SUMIFS('Journal de trading'!$S$2:$S$1000,'Journal de trading'!$B$2:$B$1000,"<="&J50))
J51: =IF('Journal de trading'!$B$38="","",'Journal de trading'!$B$38) | K51: =IF(J51="","",SUMIFS('Journal de trading'!$S$2:$S$1000,'Journal de trading'!$B$2:$B$1000,"<="&J51))
J52: =IF('Journal de trading'!$B$39="","",'Journal de trading'!$B$39) | K52: =IF(J52="","",SUMIFS('Journal de trading'!$S$2:$S$1000,'Journal de trading'!$B$2:$B$1000,"<="&J52))
J53: =IF('Journal de trading'!$B$40="","",'Journal de trading'!$B$40) | K53: =IF(J53="","",SUMIFS('Journal de trading'!$S$2:$S$1000,'Journal de trading'!$B$2:$B$1000,"<="&J53))
J54: =IF('Journal de trading'!$B$41="","",'Journal de trading'!$B$41) | K54: =IF(J54="","",SUMIFS('Journal de trading'!$S$2:$S$1000,'Journal de trading'!$B$2:$B$1000,"<="&J54))
J55: =IF('Journal de trading'!$B$42="","",'Journal de trading'!$B$42) | K55: =IF(J55="","",SUMIFS('Journal de trading'!$S$2:$S$1000,'Journal de trading'!$B$2:$B$1000,"<="&J55))
J56: =IF('Journal de trading'!$B$43="","",'Journal de trading'!$B$43) | K56: =IF(J56="","",SUMIFS('Journal de trading'!$S$2:$S$1000,'Journal de trading'!$B$2:$B$1000,"<="&J56))
J57: =IF('Journal de trading'!$B$44="","",'Journal de trading'!$B$44) | K57: =IF(J57="","",SUMIFS('Journal de trading'!$S$2:$S$1000,'Journal de trading'!$B$2:$B$1000,"<="&J57))
J58: =IF('Journal de trading'!$B$45="","",'Journal de trading'!$B$45) | K58: =IF(J58="","",SUMIFS('Journal de trading'!$S$2:$S$1000,'Journal de trading'!$B$2:$B$1000,"<="&J58))
J59: =IF('Journal de trading'!$B$46="","",'Journal de trading'!$B$46) | K59: =IF(J59="","",SUMIFS('Journal de trading'!$S$2:$S$1000,'Journal de trading'!$B$2:$B$1000,"<="&J59))
J60: =IF('Journal de trading'!$B$47="","",'Journal de trading'!$B$47) | K60: =IF(J60="","",SUMIFS('Journal de trading'!$S$2:$S$1000,'Journal de trading'!$B$2:$B$1000,"<="&J60))
J61: =IF('Journal de trading'!$B$48="","",'Journal de trading'!$B$48) | K61: =IF(J61="","",SUMIFS('Journal de trading'!$S$2:$S$1000,'Journal de trading'!$B$2:$B$1000,"<="&J61))
J62: =IF('Journal de trading'!$B$49="","",'Journal de trading'!$B$49) | K62: =IF(J62="","",SUMIFS('Journal de trading'!$S$2:$S$1000,'Journal de trading'!$B$2:$B$1000,"<="&J62))
J63: =IF('Journal de trading'!$B$50="","",'Journal de trading'!$B$50) | K63: =IF(J63="","",SUMIFS('Journal de trading'!$S$2:$S$1000,'Journal de trading'!$B$2:$B$1000,"<="&J63))
J64: =IF('Journal de trading'!$B$51="","",'Journal de trading'!$B$51) | K64: =IF(J64="","",SUMIFS('Journal de trading'!$S$2:$S$1000,'Journal de trading'!$B$2:$B$1000,"<="&J64))
J65: =IF('Journal de trading'!$B$52="","",'Journal de trading'!$B$52) | K65: =IF(J65="","",SUMIFS('Journal de trading'!$S$2:$S$1000,'Journal de trading'!$B$2:$B$1000,"<="&J65))
J66: =IF('Journal de trading'!$B$53="","",'Journal de trading'!$B$53) | K66: =IF(J66="","",SUMIFS('Journal de trading'!$S$2:$S$1000,'Journal de trading'!$B$2:$B$1000,"<="&J66))
J67: =IF('Journal de trading'!$B$54="","",'Journal de trading'!$B$54) | K67: =IF(J67="","",SUMIFS('Journal de trading'!$S$2:$S$1000,'Journal de trading'!$B$2:$B$1000,"<="&J67))
J68: =IF('Journal de trading'!$B$55="","",'Journal de trading'!$B$55) | K68: =IF(J68="","",SUMIFS('Journal de trading'!$S$2:$S$1000,'Journal de trading'!$B$2:$B$1000,"<="&J68))
J69: =IF('Journal de trading'!$B$56="","",'Journal de trading'!$B$56) | K69: =IF(J69="","",SUMIFS('Journal de trading'!$S$2:$S$1000,'Journal de trading'!$B$2:$B$1000,"<="&J69))
J70: =IF('Journal de trading'!$B$57="","",'Journal de trading'!$B$57) | K70: =IF(J70="","",SUMIFS('Journal de trading'!$S$2:$S$1000,'Journal de trading'!$B$2:$B$1000,"<="&J70))
J71: =IF('Journal de trading'!$B$58="","",'Journal de trading'!$B$58) | K71: =IF(J71="","",SUMIFS('Journal de trading'!$S$2:$S$1000,'Journal de trading'!$B$2:$B$1000,"<="&J71))
J72: =IF('Journal de trading'!$B$59="","",'Journal de trading'!$B$59) | K72: =IF(J72="","",SUMIFS('Journal de trading'!$S$2:$S$1000,'Journal de trading'!$B$2:$B$1000,"<="&J72))
J73: =IF('Journal de trading'!$B$60="","",'Journal de trading'!$B$60) | K73: =IF(J73="","",SUMIFS('Journal de trading'!$S$2:$S$1000,'Journal de trading'!$B$2:$B$1000,"<="&J73))
J74: =IF('Journal de trading'!$B$61="","",'Journal de trading'!$B$61) | K74: =IF(J74="","",SUMIFS('Journal de trading'!$S$2:$S$1000,'Journal de trading'!$B$2:$B$1000,"<="&J74))
J75: =IF('Journal de trading'!$B$62="","",'Journal de trading'!$B$62) | K75: =IF(J75="","",SUMIFS('Journal de trading'!$S$2:$S$1000,'Journal de trading'!$B$2:$B$1000,"<="&J75))
J76: =IF('Journal de trading'!$B$63="","",'Journal de trading'!$B$63) | K76: =IF(J76="","",SUMIFS('Journal de trading'!$S$2:$S$1000,'Journal de trading'!$B$2:$B$1000,"<="&J76))
J77: =IF('Journal de trading'!$B$64="","",'Journal de trading'!$B$64) | K77: =IF(J77="","",SUMIFS('Journal de trading'!$S$2:$S$1000,'Journal de trading'!$B$2:$B$1000,"<="&J77))
J78: =IF('Journal de trading'!$B$65="","",'Journal de trading'!$B$65) | K78: =IF(J78="","",SUMIFS('Journal de trading'!$S$2:$S$1000,'Journal de trading'!$B$2:$B$1000,"<="&J78))
J79: =IF('Journal de trading'!$B$66="","",'Journal de trading'!$B$66) | K79: =IF(J79="","",SUMIFS('Journal de trading'!$S$2:$S$1000,'Journal de trading'!$B$2:$B$1000,"<="&J79))
J80: =IF('Journal de trading'!$B$67="","",'Journal de trading'!$B$67) | K80: =IF(J80="","",SUMIFS('Journal de trading'!$S$2:$S$1000,'Journal de trading'!$B$2:$B$1000,"<="&J80))
J81: =IF('Journal de trading'!$B$68="","",'Journal de trading'!$B$68) | K81: =IF(J81="","",SUMIFS('Journal de trading'!$S$2:$S$1000,'Journal de trading'!$B$2:$B$1000,"<="&J81))
J82: =IF('Journal de trading'!$B$69="","",'Journal de trading'!$B$69) | K82: =IF(J82="","",SUMIFS('Journal de trading'!$S$2:$S$1000,'Journal de trading'!$B$2:$B$1000,"<="&J82))
J83: =IF('Journal de trading'!$B$70="","",'Journal de trading'!$B$70) | K83: =IF(J83="","",SUMIFS('Journal de trading'!$S$2:$S$1000,'Journal de trading'!$B$2:$B$1000,"<="&J83))
J84: =IF('Journal de trading'!$B$71="","",'Journal de trading'!$B$71) | K84: =IF(J84="","",SUMIFS('Journal de trading'!$S$2:$S$1000,'Journal de trading'!$B$2:$B$1000,"<="&J84))
J85: =IF('Journal de trading'!$B$72="","",'Journal de trading'!$B$72) | K85: =IF(J85="","",SUMIFS('Journal de trading'!$S$2:$S$1000,'Journal de trading'!$B$2:$B$1000,"<="&J85))
J86: =IF('Journal de trading'!$B$73="","",'Journal de trading'!$B$73) | K86: =IF(J86="","",SUMIFS('Journal de trading'!$S$2:$S$1000,'Journal de trading'!$B$2:$B$1000,"<="&J86))
J87: =IF('Journal de trading'!$B$74="","",'Journal de trading'!$B$74) | K87: =IF(J87="","",SUMIFS('Journal de trading'!$S$2:$S$1000,'Journal de trading'!$B$2:$B$1000,"<="&J87))
J88: =IF('Journal de trading'!$B$75="","",'Journal de trading'!$B$75) | K88: =IF(J88="","",SUMIFS('Journal de trading'!$S$2:$S$1000,'Journal de trading'!$B$2:$B$1000,"<="&J88))
J89: =IF('Journal de trading'!$B$76="","",'Journal de trading'!$B$76) | K89: =IF(J89="","",SUMIFS('Journal de trading'!$S$2:$S$1000,'Journal de trading'!$B$2:$B$1000,"<="&J89))
J90: =IF('Journal de trading'!$B$77="","",'Journal de trading'!$B$77) | K90: =IF(J90="","",SUMIFS('Journal de trading'!$S$2:$S$1000,'Journal de trading'!$B$2:$B$1000,"<="&J90))
J91: =IF('Journal de trading'!$B$78="","",'Journal de trading'!$B$78) | K91: =IF(J91="","",SUMIFS('Journal de trading'!$S$2:$S$1000,'Journal de trading'!$B$2:$B$1000,"<="&J91))
J92: =IF('Journal de trading'!$B$79="","",'Journal de trading'!$B$79) | K92: =IF(J92="","",SUMIFS('Journal de trading'!$S$2:$S$1000,'Journal de trading'!$B$2:$B$1000,"<="&J92))
J93: =IF('Journal de trading'!$B$80="","",'Journal de trading'!$B$80) | K93: =IF(J93="","",SUMIFS('Journal de trading'!$S$2:$S$1000,'Journal de trading'!$B$2:$B$1000,"<="&J93))
J94: =IF('Journal de trading'!$B$81="","",'Journal de trading'!$B$81) | K94: =IF(J94="","",SUMIFS('Journal de trading'!$S$2:$S$1000,'Journal de trading'!$B$2:$B$1000,"<="&J94))
J95: =IF('Journal de trading'!$B$82="","",'Journal de trading'!$B$82) | K95: =IF(J95="","",SUMIFS('Journal de trading'!$S$2:$S$1000,'Journal de trading'!$B$2:$B$1000,"<="&J95))
J96: =IF('Journal de trading'!$B$83="","",'Journal de trading'!$B$83) | K96: =IF(J96="","",SUMIFS('Journal de trading'!$S$2:$S$1000,'Journal de trading'!$B$2:$B$1000,"<="&J96))
J97: =IF('Journal de trading'!$B$84="","",'Journal de trading'!$B$84) | K97: =IF(J97="","",SUMIFS('Journal de trading'!$S$2:$S$1000,'Journal de trading'!$B$2:$B$1000,"<="&J97))
J98: =IF('Journal de trading'!$B$85="","",'Journal de trading'!$B$85) | K98: =IF(J98="","",SUMIFS('Journal de trading'!$S$2:$S$1000,'Journal de trading'!$B$2:$B$1000,"<="&J98))
J99: =IF('Journal de trading'!$B$86="","",'Journal de trading'!$B$86) | K99: =IF(J99="","",SUMIFS('Journal de trading'!$S$2:$S$1000,'Journal de trading'!$B$2:$B$1000,"<="&J99))
J100: =IF('Journal de trading'!$B$87="","",'Journal de trading'!$B$87) | K100: =IF(J100="","",SUMIFS('Journal de trading'!$S$2:$S$1000,'Journal de trading'!$B$2:$B$1000,"<="&J100))
J101: =IF('Journal de trading'!$B$88="","",'Journal de trading'!$B$88) | K101: =IF(J101="","",SUMIFS('Journal de trading'!$S$2:$S$1000,'Journal de trading'!$B$2:$B$1000,"<="&J101))
J102: =IF('Journal de trading'!$B$89="","",'Journal de trading'!$B$89) | K102: =IF(J102="","",SUMIFS('Journal de trading'!$S$2:$S$1000,'Journal de trading'!$B$2:$B$1000,"<="&J102))
J103: =IF('Journal de trading'!$B$90="","",'Journal de trading'!$B$90) | K103: =IF(J103="","",SUMIFS('Journal de trading'!$S$2:$S$1000,'Journal de trading'!$B$2:$B$1000,"<="&J103))
J104: =IF('Journal de trading'!$B$91="","",'Journal de trading'!$B$91) | K104: =IF(J104="","",SUMIFS('Journal de trading'!$S$2:$S$1000,'Journal de trading'!$B$2:$B$1000,"<="&J104))
J105: =IF('Journal de trading'!$B$92="","",'Journal de trading'!$B$92) | K105: =IF(J105="","",SUMIFS('Journal de trading'!$S$2:$S$1000,'Journal de trading'!$B$2:$B$1000,"<="&J105))
J106: =IF('Journal de trading'!$B$93="","",'Journal de trading'!$B$93) | K106: =IF(J106="","",SUMIFS('Journal de trading'!$S$2:$S$1000,'Journal de trading'!$B$2:$B$1000,"<="&J106))
...

Sheet Référentiels
A1: Marché | B1: Type | C1: Taux de commission | E1: Sens | F1: Stratégies | G1: Unités de temps | H1: Respect du plan | I1: Résultat
A2: Actions françaises | B2: Actions | C2: 0.001 | E2: Achat | F2: Cassure | G2: M5 | H2: Oui | I2: Gagnant
A3: Indices | B3: CFD | C3: 0.0005 | E3: Vente | F3: Pullback | G3: M15 | H3: Non | I3: Perdant
A4: Forex | B4: Forex | C4: 0.0003 | F4: Suivi de tendance | G4: H1 | I4: Égalité
A5: Matières premières | B5: CFD | C5: 0.0005 | F5: Rebond sur support | G5: H4
A6: ETF | B6: ETF | C6: 0.001 | G6: Journalier

Sheet Mode d'emploi
A1: Mode d'emploi — Journal de trading
A3: Élément | B3: Consignes d’utilisation
A4: Journal de trading | B4: Saisissez une opération par ligne dans les cellules jaunes. Les colonnes Valeur nominale, P&L brut, Commissions, P&L net, Risque initial, Ratio R et Résultat sont calculées automatiquement.
A5: Données de marché | B5: Renseignez les dates, le trader, la ville, le marché, l’instrument, le sens, la stratégie, l’unité de temps, la quantité et les prix. Les listes déroulantes facilitent une saisie homogène.
A6: Respect du plan | B6: Choisissez Oui ou Non après l’opération. Utilisez le commentaire pour documenter le contexte, les erreurs éventuelles et les enseignements à retenir.
A7: Tableau de bord | B7: Consultez les indicateurs de performance, la synthèse par stratégie et les graphiques. Pour une lecture chronologique, triez le journal par Date d’entrée.
A8: Référentiels | B8: Modifiez les taux de commission et les listes proposées selon votre méthode de trading. Les commissions du journal sont recalculées en fonction du marché sélectionné.
A9: Formats | B9: Les prix et résultats sont affichés en euros. Les dates suivent le format JJ/MM/AAAA. Les gains sont mis en évidence en vert et les pertes en rouge.
