Workbook

Sheet Planning garde
A1: Planning quotidien de garde - Nounou
A2: Saisir les données quotidiennes dans les cellules jaunes. Les colonnes calculées se mettent à jour automatiquement.
A4: Date | B4: Jour | C4: Enfant | D4: Nounou | E4: Ville | F4: Heure d’arrivée prévue | G4: Heure de départ prévue | H4: Heure d’arrivée réelle | I4: Heure de départ réelle | J4: Pause (heures) | K4: Heures prévues | L4: Heures réalisées | M4: Écart d’heures | N4: Tarif horaire (€) | O4: Rémunération brute (€) | P4: Frais kilométriques (€) | Q4: Indemnité d’entretien (€) | R4: Total journée (€) | S4: Statut | T4: Commentaires | U4: Type de garde | V4: Kilomètres
A5: 46027 | B5: =IF(A5="","",IF(MOD(A5-1,7)=1,"Lundi",IF(MOD(A5-1,7)=2,"Mardi",IF(MOD(A5-1,7)=3,"Mercredi",IF(MOD(A5-1,7)=4,"Jeudi",IF(MOD(A5-1,7)=5,"Vendredi",IF(MOD(A5-1,7)=6,"Samedi","Dimanche")))))) | C5: Emma Dubois | D5: Camille Martin | E5: Paris | F5: 0.33333333 | G5: 0.72916667 | H5: 0.33333333 | I5: 0.75 | J5: 0.5 | K5: =IF(A5="","",IF(OR(F5="",G5=""),0,IFERROR((G5-F5)*24,0))) | L5: =IF(A5="","",IF(OR(H5="",I5=""),0,IFERROR((I5-H5)*24-J5,0))) | M5: =IF(A5="","",IF(L5=0,0,L5-K5)) | N5: =IF(A5="","",IFERROR(VLOOKUP(U5,'Paramètres & consignes'!$D$5:$E$7,2,FALSE),0)) | O5: =IF(A5="","",IFERROR(MIN(L5,K5)*N5+MAX(M5,0)*N5*(1+'Paramètres & consignes'!$B$13),0)) | P5: =IF(A5="","",IFERROR(V5*'Paramètres & consignes'!$B$12,0)) | Q5: =IF(A5="","",IF(L5>0,'Paramètres & consignes'!$B$9,0)) | R5: =IF(A5="","",IFERROR(O5+P5+Q5,0)) | S5: =IF(A5="","",IF(L5=0,"Absence",IF(M5>0,"Heures supplémentaires",IF(M5<0,"Départ anticipé","Conforme")))) | T5: Journée habituelle | U5: Accueil régulier | V5: 4
A6: 46028 | B6: =IF(A6="","",IF(MOD(A6-1,7)=1,"Lundi",IF(MOD(A6-1,7)=2,"Mardi",IF(MOD(A6-1,7)=3,"Mercredi",IF(MOD(A6-1,7)=4,"Jeudi",IF(MOD(A6-1,7)=5,"Vendredi",IF(MOD(A6-1,7)=6,"Samedi","Dimanche")))))) | C6: Emma Dubois | D6: Camille Martin | E6: Paris | F6: 0.35416667 | G6: 0.75 | H6: 0.35416667 | I6: 0.77083333 | J6: 0.5 | K6: =IF(A6="","",IF(OR(F6="",G6=""),0,IFERROR((G6-F6)*24,0))) | L6: =IF(A6="","",IF(OR(H6="",I6=""),0,IFERROR((I6-H6)*24-J6,0))) | M6: =IF(A6="","",IF(L6=0,0,L6-K6)) | N6: =IF(A6="","",IFERROR(VLOOKUP(U6,'Paramètres & consignes'!$D$5:$E$7,2,FALSE),0)) | O6: =IF(A6="","",IFERROR(MIN(L6,K6)*N6+MAX(M6,0)*N6*(1+'Paramètres & consignes'!$B$13),0)) | P6: =IF(A6="","",IFERROR(V6*'Paramètres & consignes'!$B$12,0)) | Q6: =IF(A6="","",IF(L6>0,'Paramètres & consignes'!$B$9,0)) | R6: =IF(A6="","",IFERROR(O6+P6+Q6,0)) | S6: =IF(A6="","",IF(L6=0,"Absence",IF(M6>0,"Heures supplémentaires",IF(M6<0,"Départ anticipé","Conforme")))) | T6: Trajet habituel | U6: Accueil régulier | V6: 6
A7: 46029 | B7: =IF(A7="","",IF(MOD(A7-1,7)=1,"Lundi",IF(MOD(A7-1,7)=2,"Mardi",IF(MOD(A7-1,7)=3,"Mercredi",IF(MOD(A7-1,7)=4,"Jeudi",IF(MOD(A7-1,7)=5,"Vendredi",IF(MOD(A7-1,7)=6,"Samedi","Dimanche")))))) | C7: Emma Dubois | D7: Camille Martin | E7: Paris | F7: 0.33333333 | G7: 0.72916667 | H7: 0.33333333 | I7: 0.70833333 | J7: 0.5 | K7: =IF(A7="","",IF(OR(F7="",G7=""),0,IFERROR((G7-F7)*24,0))) | L7: =IF(A7="","",IF(OR(H7="",I7=""),0,IFERROR((I7-H7)*24-J7,0))) | M7: =IF(A7="","",IF(L7=0,0,L7-K7)) | N7: =IF(A7="","",IFERROR(VLOOKUP(U7,'Paramètres & consignes'!$D$5:$E$7,2,FALSE),0)) | O7: =IF(A7="","",IFERROR(MIN(L7,K7)*N7+MAX(M7,0)*N7*(1+'Paramètres & consignes'!$B$13),0)) | P7: =IF(A7="","",IFERROR(V7*'Paramètres & consignes'!$B$12,0)) | Q7: =IF(A7="","",IF(L7>0,'Paramètres & consignes'!$B$9,0)) | R7: =IF(A7="","",IFERROR(O7+P7+Q7,0)) | S7: =IF(A7="","",IF(L7=0,"Absence",IF(M7>0,"Heures supplémentaires",IF(M7<0,"Départ anticipé","Conforme")))) | T7: Rendez-vous médical | U7: Accueil régulier | V7: 2
A8: 46030 | B8: =IF(A8="","",IF(MOD(A8-1,7)=1,"Lundi",IF(MOD(A8-1,7)=2,"Mardi",IF(MOD(A8-1,7)=3,"Mercredi",IF(MOD(A8-1,7)=4,"Jeudi",IF(MOD(A8-1,7)=5,"Vendredi",IF(MOD(A8-1,7)=6,"Samedi","Dimanche")))))) | C8: Emma Dubois | D8: Camille Martin | E8: Paris | F8: 0.35416667 | G8: 0.75 | H8: 0.35416667 | I8: 0.8125 | J8: 0.5 | K8: =IF(A8="","",IF(OR(F8="",G8=""),0,IFERROR((G8-F8)*24,0))) | L8: =IF(A8="","",IF(OR(H8="",I8=""),0,IFERROR((I8-H8)*24-J8,0))) | M8: =IF(A8="","",IF(L8=0,0,L8-K8)) | N8: =IF(A8="","",IFERROR(VLOOKUP(U8,'Paramètres & consignes'!$D$5:$E$7,2,FALSE),0)) | O8: =IF(A8="","",IFERROR(MIN(L8,K8)*N8+MAX(M8,0)*N8*(1+'Paramètres & consignes'!$B$13),0)) | P8: =IF(A8="","",IFERROR(V8*'Paramètres & consignes'!$B$12,0)) | Q8: =IF(A8="","",IF(L8>0,'Paramètres & consignes'!$B$9,0)) | R8: =IF(A8="","",IFERROR(O8+P8+Q8,0)) | S8: =IF(A8="","",IF(L8=0,"Absence",IF(M8>0,"Heures supplémentaires",IF(M8<0,"Départ anticipé","Conforme")))) | T8: Retard des parents | U8: Accueil régulier | V8: 8
A9: 46031 | B9: =IF(A9="","",IF(MOD(A9-1,7)=1,"Lundi",IF(MOD(A9-1,7)=2,"Mardi",IF(MOD(A9-1,7)=3,"Mercredi",IF(MOD(A9-1,7)=4,"Jeudi",IF(MOD(A9-1,7)=5,"Vendredi",IF(MOD(A9-1,7)=6,"Samedi","Dimanche")))))) | C9: Emma Dubois | D9: Camille Martin | E9: Paris | F9: 0.33333333 | G9: 0.72916667 | J9: 0 | K9: =IF(A9="","",IF(OR(F9="",G9=""),0,IFERROR((G9-F9)*24,0))) | L9: =IF(A9="","",IF(OR(H9="",I9=""),0,IFERROR((I9-H9)*24-J9,0))) | M9: =IF(A9="","",IF(L9=0,0,L9-K9)) | N9: =IF(A9="","",IFERROR(VLOOKUP(U9,'Paramètres & consignes'!$D$5:$E$7,2,FALSE),0)) | O9: =IF(A9="","",IFERROR(MIN(L9,K9)*N9+MAX(M9,0)*N9*(1+'Paramètres & consignes'!$B$13),0)) | P9: =IF(A9="","",IFERROR(V9*'Paramètres & consignes'!$B$12,0)) | Q9: =IF(A9="","",IF(L9>0,'Paramètres & consignes'!$B$9,0)) | R9: =IF(A9="","",IFERROR(O9+P9+Q9,0)) | S9: =IF(A9="","",IF(L9=0,"Absence",IF(M9>0,"Heures supplémentaires",IF(M9<0,"Départ anticipé","Conforme")))) | T9: Absence : congé exceptionnel | U9: Accueil régulier | V9: 0
A10: 46034 | B10: =IF(A10="","",IF(MOD(A10-1,7)=1,"Lundi",IF(MOD(A10-1,7)=2,"Mardi",IF(MOD(A10-1,7)=3,"Mercredi",IF(MOD(A10-1,7)=4,"Jeudi",IF(MOD(A10-1,7)=5,"Vendredi",IF(MOD(A10-1,7)=6,"Samedi","Dimanche")))))) | C10: Emma Dubois | D10: Camille Martin | E10: Paris | F10: 0.33333333 | G10: 0.72916667 | H10: 0.33333333 | I10: 0.75 | J10: 0.5 | K10: =IF(A10="","",IF(OR(F10="",G10=""),0,IFERROR((G10-F10)*24,0))) | L10: =IF(A10="","",IF(OR(H10="",I10=""),0,IFERROR((I10-H10)*24-J10,0))) | M10: =IF(A10="","",IF(L10=0,0,L10-K10)) | N10: =IF(A10="","",IFERROR(VLOOKUP(U10,'Paramètres & consignes'!$D$5:$E$7,2,FALSE),0)) | O10: =IF(A10="","",IFERROR(MIN(L10,K10)*N10+MAX(M10,0)*N10*(1+'Paramètres & consignes'!$B$13),0)) | P10: =IF(A10="","",IFERROR(V10*'Paramètres & consignes'!$B$12,0)) | Q10: =IF(A10="","",IF(L10>0,'Paramètres & consignes'!$B$9,0)) | R10: =IF(A10="","",IFERROR(O10+P10+Q10,0)) | S10: =IF(A10="","",IF(L10=0,"Absence",IF(M10>0,"Heures supplémentaires",IF(M10<0,"Départ anticipé","Conforme")))) | T10: Journée habituelle | U10: Accueil régulier | V10: 4
A11: 46035 | B11: =IF(A11="","",IF(MOD(A11-1,7)=1,"Lundi",IF(MOD(A11-1,7)=2,"Mardi",IF(MOD(A11-1,7)=3,"Mercredi",IF(MOD(A11-1,7)=4,"Jeudi",IF(MOD(A11-1,7)=5,"Vendredi",IF(MOD(A11-1,7)=6,"Samedi","Dimanche")))))) | C11: Emma Dubois | D11: Camille Martin | E11: Paris | F11: 0.35416667 | G11: 0.75 | H11: 0.35416667 | I11: 0.77083333 | J11: 0.5 | K11: =IF(A11="","",IF(OR(F11="",G11=""),0,IFERROR((G11-F11)*24,0))) | L11: =IF(A11="","",IF(OR(H11="",I11=""),0,IFERROR((I11-H11)*24-J11,0))) | M11: =IF(A11="","",IF(L11=0,0,L11-K11)) | N11: =IF(A11="","",IFERROR(VLOOKUP(U11,'Paramètres & consignes'!$D$5:$E$7,2,FALSE),0)) | O11: =IF(A11="","",IFERROR(MIN(L11,K11)*N11+MAX(M11,0)*N11*(1+'Paramètres & consignes'!$B$13),0)) | P11: =IF(A11="","",IFERROR(V11*'Paramètres & consignes'!$B$12,0)) | Q11: =IF(A11="","",IF(L11>0,'Paramètres & consignes'!$B$9,0)) | R11: =IF(A11="","",IFERROR(O11+P11+Q11,0)) | S11: =IF(A11="","",IF(L11=0,"Absence",IF(M11>0,"Heures supplémentaires",IF(M11<0,"Départ anticipé","Conforme")))) | T11: Sortie au parc | U11: Accueil régulier | V11: 6
A12: 46036 | B12: =IF(A12="","",IF(MOD(A12-1,7)=1,"Lundi",IF(MOD(A12-1,7)=2,"Mardi",IF(MOD(A12-1,7)=3,"Mercredi",IF(MOD(A12-1,7)=4,"Jeudi",IF(MOD(A12-1,7)=5,"Vendredi",IF(MOD(A12-1,7)=6,"Samedi","Dimanche")))))) | C12: Emma Dubois | D12: Camille Martin | E12: Paris | F12: 0.33333333 | G12: 0.72916667 | H12: 0.33333333 | I12: 0.6875 | J12: 0.5 | K12: =IF(A12="","",IF(OR(F12="",G12=""),0,IFERROR((G12-F12)*24,0))) | L12: =IF(A12="","",IF(OR(H12="",I12=""),0,IFERROR((I12-H12)*24-J12,0))) | M12: =IF(A12="","",IF(L12=0,0,L12-K12)) | N12: =IF(A12="","",IFERROR(VLOOKUP(U12,'Paramètres & consignes'!$D$5:$E$7,2,FALSE),0)) | O12: =IF(A12="","",IFERROR(MIN(L12,K12)*N12+MAX(M12,0)*N12*(1+'Paramètres & consignes'!$B$13),0)) | P12: =IF(A12="","",IFERROR(V12*'Paramètres & consignes'!$B$12,0)) | Q12: =IF(A12="","",IF(L12>0,'Paramètres & consignes'!$B$9,0)) | R12: =IF(A12="","",IFERROR(O12+P12+Q12,0)) | S12: =IF(A12="","",IF(L12=0,"Absence",IF(M12>0,"Heures supplémentaires",IF(M12<0,"Départ anticipé","Conforme")))) | T12: Départ anticipé des parents | U12: Accueil régulier | V12: 2
A13: 46037 | B13: =IF(A13="","",IF(MOD(A13-1,7)=1,"Lundi",IF(MOD(A13-1,7)=2,"Mardi",IF(MOD(A13-1,7)=3,"Mercredi",IF(MOD(A13-1,7)=4,"Jeudi",IF(MOD(A13-1,7)=5,"Vendredi",IF(MOD(A13-1,7)=6,"Samedi","Dimanche")))))) | C13: Emma Dubois | D13: Camille Martin | E13: Paris | F13: 0.35416667 | G13: 0.75 | H13: 0.35416667 | I13: 0.79166667 | J13: 0.5 | K13: =IF(A13="","",IF(OR(F13="",G13=""),0,IFERROR((G13-F13)*24,0))) | L13: =IF(A13="","",IF(OR(H13="",I13=""),0,IFERROR((I13-H13)*24-J13,0))) | M13: =IF(A13="","",IF(L13=0,0,L13-K13)) | N13: =IF(A13="","",IFERROR(VLOOKUP(U13,'Paramètres & consignes'!$D$5:$E$7,2,FALSE),0)) | O13: =IF(A13="","",IFERROR(MIN(L13,K13)*N13+MAX(M13,0)*N13*(1+'Paramètres & consignes'!$B$13),0)) | P13: =IF(A13="","",IFERROR(V13*'Paramètres & consignes'!$B$12,0)) | Q13: =IF(A13="","",IF(L13>0,'Paramètres & consignes'!$B$9,0)) | R13: =IF(A13="","",IFERROR(O13+P13+Q13,0)) | S13: =IF(A13="","",IF(L13=0,"Absence",IF(M13>0,"Heures supplémentaires",IF(M13<0,"Départ anticipé","Conforme")))) | T13: Retard des parents | U13: Accueil régulier | V13: 8
A14: 46038 | B14: =IF(A14="","",IF(MOD(A14-1,7)=1,"Lundi",IF(MOD(A14-1,7)=2,"Mardi",IF(MOD(A14-1,7)=3,"Mercredi",IF(MOD(A14-1,7)=4,"Jeudi",IF(MOD(A14-1,7)=5,"Vendredi",IF(MOD(A14-1,7)=6,"Samedi","Dimanche")))))) | C14: Emma Dubois | D14: Camille Martin | E14: Paris | F14: 0.33333333 | G14: 0.72916667 | H14: 0.33333333 | I14: 0.75 | J14: 0.5 | K14: =IF(A14="","",IF(OR(F14="",G14=""),0,IFERROR((G14-F14)*24,0))) | L14: =IF(A14="","",IF(OR(H14="",I14=""),0,IFERROR((I14-H14)*24-J14,0))) | M14: =IF(A14="","",IF(L14=0,0,L14-K14)) | N14: =IF(A14="","",IFERROR(VLOOKUP(U14,'Paramètres & consignes'!$D$5:$E$7,2,FALSE),0)) | O14: =IF(A14="","",IFERROR(MIN(L14,K14)*N14+MAX(M14,0)*N14*(1+'Paramètres & consignes'!$B$13),0)) | P14: =IF(A14="","",IFERROR(V14*'Paramètres & consignes'!$B$12,0)) | Q14: =IF(A14="","",IF(L14>0,'Paramètres & consignes'!$B$9,0)) | R14: =IF(A14="","",IFERROR(O14+P14+Q14,0)) | S14: =IF(A14="","",IF(L14=0,"Absence",IF(M14>0,"Heures supplémentaires",IF(M14<0,"Départ anticipé","Conforme")))) | T14: Fin de semaine | U14: Accueil régulier | V14: 4
B15: =IF(A15="","",IF(MOD(A15-1,7)=1,"Lundi",IF(MOD(A15-1,7)=2,"Mardi",IF(MOD(A15-1,7)=3,"Mercredi",IF(MOD(A15-1,7)=4,"Jeudi",IF(MOD(A15-1,7)=5,"Vendredi",IF(MOD(A15-1,7)=6,"Samedi","Dimanche")))))) | K15: =IF(A15="","",IF(OR(F15="",G15=""),0,IFERROR((G15-F15)*24,0))) | L15: =IF(A15="","",IF(OR(H15="",I15=""),0,IFERROR((I15-H15)*24-J15,0))) | M15: =IF(A15="","",IF(L15=0,0,L15-K15)) | N15: =IF(A15="","",IFERROR(VLOOKUP(U15,'Paramètres & consignes'!$D$5:$E$7,2,FALSE),0)) | O15: =IF(A15="","",IFERROR(MIN(L15,K15)*N15+MAX(M15,0)*N15*(1+'Paramètres & consignes'!$B$13),0)) | P15: =IF(A15="","",IFERROR(V15*'Paramètres & consignes'!$B$12,0)) | Q15: =IF(A15="","",IF(L15>0,'Paramètres & consignes'!$B$9,0)) | R15: =IF(A15="","",IFERROR(O15+P15+Q15,0)) | S15: =IF(A15="","",IF(L15=0,"Absence",IF(M15>0,"Heures supplémentaires",IF(M15<0,"Départ anticipé","Conforme"))))
B16: =IF(A16="","",IF(MOD(A16-1,7)=1,"Lundi",IF(MOD(A16-1,7)=2,"Mardi",IF(MOD(A16-1,7)=3,"Mercredi",IF(MOD(A16-1,7)=4,"Jeudi",IF(MOD(A16-1,7)=5,"Vendredi",IF(MOD(A16-1,7)=6,"Samedi","Dimanche")))))) | K16: =IF(A16="","",IF(OR(F16="",G16=""),0,IFERROR((G16-F16)*24,0))) | L16: =IF(A16="","",IF(OR(H16="",I16=""),0,IFERROR((I16-H16)*24-J16,0))) | M16: =IF(A16="","",IF(L16=0,0,L16-K16)) | N16: =IF(A16="","",IFERROR(VLOOKUP(U16,'Paramètres & consignes'!$D$5:$E$7,2,FALSE),0)) | O16: =IF(A16="","",IFERROR(MIN(L16,K16)*N16+MAX(M16,0)*N16*(1+'Paramètres & consignes'!$B$13),0)) | P16: =IF(A16="","",IFERROR(V16*'Paramètres & consignes'!$B$12,0)) | Q16: =IF(A16="","",IF(L16>0,'Paramètres & consignes'!$B$9,0)) | R16: =IF(A16="","",IFERROR(O16+P16+Q16,0)) | S16: =IF(A16="","",IF(L16=0,"Absence",IF(M16>0,"Heures supplémentaires",IF(M16<0,"Départ anticipé","Conforme"))))
B17: =IF(A17="","",IF(MOD(A17-1,7)=1,"Lundi",IF(MOD(A17-1,7)=2,"Mardi",IF(MOD(A17-1,7)=3,"Mercredi",IF(MOD(A17-1,7)=4,"Jeudi",IF(MOD(A17-1,7)=5,"Vendredi",IF(MOD(A17-1,7)=6,"Samedi","Dimanche")))))) | K17: =IF(A17="","",IF(OR(F17="",G17=""),0,IFERROR((G17-F17)*24,0))) | L17: =IF(A17="","",IF(OR(H17="",I17=""),0,IFERROR((I17-H17)*24-J17,0))) | M17: =IF(A17="","",IF(L17=0,0,L17-K17)) | N17: =IF(A17="","",IFERROR(VLOOKUP(U17,'Paramètres & consignes'!$D$5:$E$7,2,FALSE),0)) | O17: =IF(A17="","",IFERROR(MIN(L17,K17)*N17+MAX(M17,0)*N17*(1+'Paramètres & consignes'!$B$13),0)) | P17: =IF(A17="","",IFERROR(V17*'Paramètres & consignes'!$B$12,0)) | Q17: =IF(A17="","",IF(L17>0,'Paramètres & consignes'!$B$9,0)) | R17: =IF(A17="","",IFERROR(O17+P17+Q17,0)) | S17: =IF(A17="","",IF(L17=0,"Absence",IF(M17>0,"Heures supplémentaires",IF(M17<0,"Départ anticipé","Conforme"))))
B18: =IF(A18="","",IF(MOD(A18-1,7)=1,"Lundi",IF(MOD(A18-1,7)=2,"Mardi",IF(MOD(A18-1,7)=3,"Mercredi",IF(MOD(A18-1,7)=4,"Jeudi",IF(MOD(A18-1,7)=5,"Vendredi",IF(MOD(A18-1,7)=6,"Samedi","Dimanche")))))) | K18: =IF(A18="","",IF(OR(F18="",G18=""),0,IFERROR((G18-F18)*24,0))) | L18: =IF(A18="","",IF(OR(H18="",I18=""),0,IFERROR((I18-H18)*24-J18,0))) | M18: =IF(A18="","",IF(L18=0,0,L18-K18)) | N18: =IF(A18="","",IFERROR(VLOOKUP(U18,'Paramètres & consignes'!$D$5:$E$7,2,FALSE),0)) | O18: =IF(A18="","",IFERROR(MIN(L18,K18)*N18+MAX(M18,0)*N18*(1+'Paramètres & consignes'!$B$13),0)) | P18: =IF(A18="","",IFERROR(V18*'Paramètres & consignes'!$B$12,0)) | Q18: =IF(A18="","",IF(L18>0,'Paramètres & consignes'!$B$9,0)) | R18: =IF(A18="","",IFERROR(O18+P18+Q18,0)) | S18: =IF(A18="","",IF(L18=0,"Absence",IF(M18>0,"Heures supplémentaires",IF(M18<0,"Départ anticipé","Conforme"))))
B19: =IF(A19="","",IF(MOD(A19-1,7)=1,"Lundi",IF(MOD(A19-1,7)=2,"Mardi",IF(MOD(A19-1,7)=3,"Mercredi",IF(MOD(A19-1,7)=4,"Jeudi",IF(MOD(A19-1,7)=5,"Vendredi",IF(MOD(A19-1,7)=6,"Samedi","Dimanche")))))) | K19: =IF(A19="","",IF(OR(F19="",G19=""),0,IFERROR((G19-F19)*24,0))) | L19: =IF(A19="","",IF(OR(H19="",I19=""),0,IFERROR((I19-H19)*24-J19,0))) | M19: =IF(A19="","",IF(L19=0,0,L19-K19)) | N19: =IF(A19="","",IFERROR(VLOOKUP(U19,'Paramètres & consignes'!$D$5:$E$7,2,FALSE),0)) | O19: =IF(A19="","",IFERROR(MIN(L19,K19)*N19+MAX(M19,0)*N19*(1+'Paramètres & consignes'!$B$13),0)) | P19: =IF(A19="","",IFERROR(V19*'Paramètres & consignes'!$B$12,0)) | Q19: =IF(A19="","",IF(L19>0,'Paramètres & consignes'!$B$9,0)) | R19: =IF(A19="","",IFERROR(O19+P19+Q19,0)) | S19: =IF(A19="","",IF(L19=0,"Absence",IF(M19>0,"Heures supplémentaires",IF(M19<0,"Départ anticipé","Conforme"))))
B20: =IF(A20="","",IF(MOD(A20-1,7)=1,"Lundi",IF(MOD(A20-1,7)=2,"Mardi",IF(MOD(A20-1,7)=3,"Mercredi",IF(MOD(A20-1,7)=4,"Jeudi",IF(MOD(A20-1,7)=5,"Vendredi",IF(MOD(A20-1,7)=6,"Samedi","Dimanche")))))) | K20: =IF(A20="","",IF(OR(F20="",G20=""),0,IFERROR((G20-F20)*24,0))) | L20: =IF(A20="","",IF(OR(H20="",I20=""),0,IFERROR((I20-H20)*24-J20,0))) | M20: =IF(A20="","",IF(L20=0,0,L20-K20)) | N20: =IF(A20="","",IFERROR(VLOOKUP(U20,'Paramètres & consignes'!$D$5:$E$7,2,FALSE),0)) | O20: =IF(A20="","",IFERROR(MIN(L20,K20)*N20+MAX(M20,0)*N20*(1+'Paramètres & consignes'!$B$13),0)) | P20: =IF(A20="","",IFERROR(V20*'Paramètres & consignes'!$B$12,0)) | Q20: =IF(A20="","",IF(L20>0,'Paramètres & consignes'!$B$9,0)) | R20: =IF(A20="","",IFERROR(O20+P20+Q20,0)) | S20: =IF(A20="","",IF(L20=0,"Absence",IF(M20>0,"Heures supplémentaires",IF(M20<0,"Départ anticipé","Conforme"))))
B21: =IF(A21="","",IF(MOD(A21-1,7)=1,"Lundi",IF(MOD(A21-1,7)=2,"Mardi",IF(MOD(A21-1,7)=3,"Mercredi",IF(MOD(A21-1,7)=4,"Jeudi",IF(MOD(A21-1,7)=5,"Vendredi",IF(MOD(A21-1,7)=6,"Samedi","Dimanche")))))) | K21: =IF(A21="","",IF(OR(F21="",G21=""),0,IFERROR((G21-F21)*24,0))) | L21: =IF(A21="","",IF(OR(H21="",I21=""),0,IFERROR((I21-H21)*24-J21,0))) | M21: =IF(A21="","",IF(L21=0,0,L21-K21)) | N21: =IF(A21="","",IFERROR(VLOOKUP(U21,'Paramètres & consignes'!$D$5:$E$7,2,FALSE),0)) | O21: =IF(A21="","",IFERROR(MIN(L21,K21)*N21+MAX(M21,0)*N21*(1+'Paramètres & consignes'!$B$13),0)) | P21: =IF(A21="","",IFERROR(V21*'Paramètres & consignes'!$B$12,0)) | Q21: =IF(A21="","",IF(L21>0,'Paramètres & consignes'!$B$9,0)) | R21: =IF(A21="","",IFERROR(O21+P21+Q21,0)) | S21: =IF(A21="","",IF(L21=0,"Absence",IF(M21>0,"Heures supplémentaires",IF(M21<0,"Départ anticipé","Conforme"))))
B22: =IF(A22="","",IF(MOD(A22-1,7)=1,"Lundi",IF(MOD(A22-1,7)=2,"Mardi",IF(MOD(A22-1,7)=3,"Mercredi",IF(MOD(A22-1,7)=4,"Jeudi",IF(MOD(A22-1,7)=5,"Vendredi",IF(MOD(A22-1,7)=6,"Samedi","Dimanche")))))) | K22: =IF(A22="","",IF(OR(F22="",G22=""),0,IFERROR((G22-F22)*24,0))) | L22: =IF(A22="","",IF(OR(H22="",I22=""),0,IFERROR((I22-H22)*24-J22,0))) | M22: =IF(A22="","",IF(L22=0,0,L22-K22)) | N22: =IF(A22="","",IFERROR(VLOOKUP(U22,'Paramètres & consignes'!$D$5:$E$7,2,FALSE),0)) | O22: =IF(A22="","",IFERROR(MIN(L22,K22)*N22+MAX(M22,0)*N22*(1+'Paramètres & consignes'!$B$13),0)) | P22: =IF(A22="","",IFERROR(V22*'Paramètres & consignes'!$B$12,0)) | Q22: =IF(A22="","",IF(L22>0,'Paramètres & consignes'!$B$9,0)) | R22: =IF(A22="","",IFERROR(O22+P22+Q22,0)) | S22: =IF(A22="","",IF(L22=0,"Absence",IF(M22>0,"Heures supplémentaires",IF(M22<0,"Départ anticipé","Conforme"))))
B23: =IF(A23="","",IF(MOD(A23-1,7)=1,"Lundi",IF(MOD(A23-1,7)=2,"Mardi",IF(MOD(A23-1,7)=3,"Mercredi",IF(MOD(A23-1,7)=4,"Jeudi",IF(MOD(A23-1,7)=5,"Vendredi",IF(MOD(A23-1,7)=6,"Samedi","Dimanche")))))) | K23: =IF(A23="","",IF(OR(F23="",G23=""),0,IFERROR((G23-F23)*24,0))) | L23: =IF(A23="","",IF(OR(H23="",I23=""),0,IFERROR((I23-H23)*24-J23,0))) | M23: =IF(A23="","",IF(L23=0,0,L23-K23)) | N23: =IF(A23="","",IFERROR(VLOOKUP(U23,'Paramètres & consignes'!$D$5:$E$7,2,FALSE),0)) | O23: =IF(A23="","",IFERROR(MIN(L23,K23)*N23+MAX(M23,0)*N23*(1+'Paramètres & consignes'!$B$13),0)) | P23: =IF(A23="","",IFERROR(V23*'Paramètres & consignes'!$B$12,0)) | Q23: =IF(A23="","",IF(L23>0,'Paramètres & consignes'!$B$9,0)) | R23: =IF(A23="","",IFERROR(O23+P23+Q23,0)) | S23: =IF(A23="","",IF(L23=0,"Absence",IF(M23>0,"Heures supplémentaires",IF(M23<0,"Départ anticipé","Conforme"))))
B24: =IF(A24="","",IF(MOD(A24-1,7)=1,"Lundi",IF(MOD(A24-1,7)=2,"Mardi",IF(MOD(A24-1,7)=3,"Mercredi",IF(MOD(A24-1,7)=4,"Jeudi",IF(MOD(A24-1,7)=5,"Vendredi",IF(MOD(A24-1,7)=6,"Samedi","Dimanche")))))) | K24: =IF(A24="","",IF(OR(F24="",G24=""),0,IFERROR((G24-F24)*24,0))) | L24: =IF(A24="","",IF(OR(H24="",I24=""),0,IFERROR((I24-H24)*24-J24,0))) | M24: =IF(A24="","",IF(L24=0,0,L24-K24)) | N24: =IF(A24="","",IFERROR(VLOOKUP(U24,'Paramètres & consignes'!$D$5:$E$7,2,FALSE),0)) | O24: =IF(A24="","",IFERROR(MIN(L24,K24)*N24+MAX(M24,0)*N24*(1+'Paramètres & consignes'!$B$13),0)) | P24: =IF(A24="","",IFERROR(V24*'Paramètres & consignes'!$B$12,0)) | Q24: =IF(A24="","",IF(L24>0,'Paramètres & consignes'!$B$9,0)) | R24: =IF(A24="","",IFERROR(O24+P24+Q24,0)) | S24: =IF(A24="","",IF(L24=0,"Absence",IF(M24>0,"Heures supplémentaires",IF(M24<0,"Départ anticipé","Conforme"))))
B25: =IF(A25="","",IF(MOD(A25-1,7)=1,"Lundi",IF(MOD(A25-1,7)=2,"Mardi",IF(MOD(A25-1,7)=3,"Mercredi",IF(MOD(A25-1,7)=4,"Jeudi",IF(MOD(A25-1,7)=5,"Vendredi",IF(MOD(A25-1,7)=6,"Samedi","Dimanche")))))) | K25: =IF(A25="","",IF(OR(F25="",G25=""),0,IFERROR((G25-F25)*24,0))) | L25: =IF(A25="","",IF(OR(H25="",I25=""),0,IFERROR((I25-H25)*24-J25,0))) | M25: =IF(A25="","",IF(L25=0,0,L25-K25)) | N25: =IF(A25="","",IFERROR(VLOOKUP(U25,'Paramètres & consignes'!$D$5:$E$7,2,FALSE),0)) | O25: =IF(A25="","",IFERROR(MIN(L25,K25)*N25+MAX(M25,0)*N25*(1+'Paramètres & consignes'!$B$13),0)) | P25: =IF(A25="","",IFERROR(V25*'Paramètres & consignes'!$B$12,0)) | Q25: =IF(A25="","",IF(L25>0,'Paramètres & consignes'!$B$9,0)) | R25: =IF(A25="","",IFERROR(O25+P25+Q25,0)) | S25: =IF(A25="","",IF(L25=0,"Absence",IF(M25>0,"Heures supplémentaires",IF(M25<0,"Départ anticipé","Conforme"))))
B26: =IF(A26="","",IF(MOD(A26-1,7)=1,"Lundi",IF(MOD(A26-1,7)=2,"Mardi",IF(MOD(A26-1,7)=3,"Mercredi",IF(MOD(A26-1,7)=4,"Jeudi",IF(MOD(A26-1,7)=5,"Vendredi",IF(MOD(A26-1,7)=6,"Samedi","Dimanche")))))) | K26: =IF(A26="","",IF(OR(F26="",G26=""),0,IFERROR((G26-F26)*24,0))) | L26: =IF(A26="","",IF(OR(H26="",I26=""),0,IFERROR((I26-H26)*24-J26,0))) | M26: =IF(A26="","",IF(L26=0,0,L26-K26)) | N26: =IF(A26="","",IFERROR(VLOOKUP(U26,'Paramètres & consignes'!$D$5:$E$7,2,FALSE),0)) | O26: =IF(A26="","",IFERROR(MIN(L26,K26)*N26+MAX(M26,0)*N26*(1+'Paramètres & consignes'!$B$13),0)) | P26: =IF(A26="","",IFERROR(V26*'Paramètres & consignes'!$B$12,0)) | Q26: =IF(A26="","",IF(L26>0,'Paramètres & consignes'!$B$9,0)) | R26: =IF(A26="","",IFERROR(O26+P26+Q26,0)) | S26: =IF(A26="","",IF(L26=0,"Absence",IF(M26>0,"Heures supplémentaires",IF(M26<0,"Départ anticipé","Conforme"))))
... B104: =IF(A104="","",IF(MOD(A104-1,7)=1,"Lundi",IF(MOD(A104-1,7)=2,"Mardi",IF(MOD(A104-1,7)=3,"Mercredi",IF(MOD(A104-1,7)=4,"Jeudi",IF(MOD(A104-1,7)=5,"Vendredi",IF(MOD(A104-1,7)=6,"Samedi","Dimanche")))))) | K104: =IF(A104="","",IF(OR(F104="",G104=""),0,IFERROR((G104-F104)*24,0))) | L104: =IF(A104="","",IF(OR(H104="",I104=""),0,IFERROR((I104-H104)*24-J104,0))) | M104: =IF(A104="","",IF(L104=0,0,L104-K104)) | N104: =IF(A104="","",IFERROR(VLOOKUP(U104,'Paramètres & consignes'!$D$5:$E$7,2,FALSE),0)) | O104: =IF(A104="","",IFERROR(MIN(L104,K104)*N104+MAX(M104,0)*N104*(1+'Paramètres & consignes'!$B$13),0)) | P104: =IF(A104="","",IFERROR(V104*'Paramètres & consignes'!$B$12,0)) | Q104: =IF(A104="","",IF(L104>0,'Paramètres & consignes'!$B$9,0)) | R104: =IF(A104="","",IFERROR(O104+P104+Q104,0)) | S104: =IF(A104="","",IF(L104=0,"Absence",IF(M104>0,"Heures supplémentaires",IF(M104<0,"Départ anticipé","Conforme"))))

Sheet Synthèse mensuelle
A1: Synthèse mensuelle - Suivi de la garde
A2: Total à payer (période) | B2: =SUM(K6:K11) | D2: Moyenne d’heures / jour | E2: =IFERROR(AVERAGE('Planning garde'!$L$5:$L$104),0) | G2: Taux moyen de présence | H2: =IFERROR(AVERAGE(G6:G11),0)
A5: Mois | B5: Nombre de jours planifiés | C5: Jours réellement gardés | D5: Heures prévues | E5: Heures réalisées | F5: Heures supplémentaires | G5: Taux de présence | H5: Rémunération brute (€) | I5: Frais kilométriques (€) | J5: Indemnités d’entretien (€) | K5: Total à payer (€) | L5: Écart budgétaire (€) | O5: Statut | P5: Nombre
A6: Janvier 2026 | B6: =COUNTIFS('Planning garde'!$A$5:$A$104,">="&DATE(2026,1,1),'Planning garde'!$A$5:$A$104,"<"&DATE(2026,2,1)) | C6: =COUNTIFS('Planning garde'!$A$5:$A$104,">="&DATE(2026,1,1),'Planning garde'!$A$5:$A$104,"<"&DATE(2026,2,1),'Planning garde'!$L$5:$L$104,">0") | D6: =SUMIFS('Planning garde'!$K$5:$K$104,'Planning garde'!$A$5:$A$104,">="&DATE(2026,1,1),'Planning garde'!$A$5:$A$104,"<"&DATE(2026,2,1)) | E6: =SUMIFS('Planning garde'!$L$5:$L$104,'Planning garde'!$A$5:$A$104,">="&DATE(2026,1,1),'Planning garde'!$A$5:$A$104,"<"&DATE(2026,2,1)) | F6: =SUMIFS('Planning garde'!$M$5:$M$104,'Planning garde'!$A$5:$A$104,">="&DATE(2026,1,1),'Planning garde'!$A$5:$A$104,"<"&DATE(2026,2,1),'Planning garde'!$M$5:$M$104,">0") | G6: =IFERROR(C6/B6,0) | H6: =SUMIFS('Planning garde'!$O$5:$O$104,'Planning garde'!$A$5:$A$104,">="&DATE(2026,1,1),'Planning garde'!$A$5:$A$104,"<"&DATE(2026,2,1)) | I6: =SUMIFS('Planning garde'!$P$5:$P$104,'Planning garde'!$A$5:$A$104,">="&DATE(2026,1,1),'Planning garde'!$A$5:$A$104,"<"&DATE(2026,2,1)) | J6: =SUMIFS('Planning garde'!$Q$5:$Q$104,'Planning garde'!$A$5:$A$104,">="&DATE(2026,1,1),'Planning garde'!$A$5:$A$104,"<"&DATE(2026,2,1)) | K6: =SUM(H6:J6) | L6: =K6-'Paramètres & consignes'!$B$10 | O6: Conforme | P6: =COUNTIF('Planning garde'!$S$5:$S$104,O6)
A7: Février 2026 | B7: =COUNTIFS('Planning garde'!$A$5:$A$104,">="&DATE(2026,2,1),'Planning garde'!$A$5:$A$104,"<"&DATE(2026,3,1)) | C7: =COUNTIFS('Planning garde'!$A$5:$A$104,">="&DATE(2026,2,1),'Planning garde'!$A$5:$A$104,"<"&DATE(2026,3,1),'Planning garde'!$L$5:$L$104,">0") | D7: =SUMIFS('Planning garde'!$K$5:$K$104,'Planning garde'!$A$5:$A$104,">="&DATE(2026,2,1),'Planning garde'!$A$5:$A$104,"<"&DATE(2026,3,1)) | E7: =SUMIFS('Planning garde'!$L$5:$L$104,'Planning garde'!$A$5:$A$104,">="&DATE(2026,2,1),'Planning garde'!$A$5:$A$104,"<"&DATE(2026,3,1)) | F7: =SUMIFS('Planning garde'!$M$5:$M$104,'Planning garde'!$A$5:$A$104,">="&DATE(2026,2,1),'Planning garde'!$A$5:$A$104,"<"&DATE(2026,3,1),'Planning garde'!$M$5:$M$104,">0") | G7: =IFERROR(C7/B7,0) | H7: =SUMIFS('Planning garde'!$O$5:$O$104,'Planning garde'!$A$5:$A$104,">="&DATE(2026,2,1),'Planning garde'!$A$5:$A$104,"<"&DATE(2026,3,1)) | I7: =SUMIFS('Planning garde'!$P$5:$P$104,'Planning garde'!$A$5:$A$104,">="&DATE(2026,2,1),'Planning garde'!$A$5:$A$104,"<"&DATE(2026,3,1)) | J7: =SUMIFS('Planning garde'!$Q$5:$Q$104,'Planning garde'!$A$5:$A$104,">="&DATE(2026,2,1),'Planning garde'!$A$5:$A$104,"<"&DATE(2026,3,1)) | K7: =SUM(H7:J7) | L7: =K7-'Paramètres & consignes'!$B$10 | O7: Heures supplémentaires | P7: =COUNTIF('Planning garde'!$S$5:$S$104,O7)
A8: Mars 2026 | B8: =COUNTIFS('Planning garde'!$A$5:$A$104,">="&DATE(2026,3,1),'Planning garde'!$A$5:$A$104,"<"&DATE(2026,4,1)) | C8: =COUNTIFS('Planning garde'!$A$5:$A$104,">="&DATE(2026,3,1),'Planning garde'!$A$5:$A$104,"<"&DATE(2026,4,1),'Planning garde'!$L$5:$L$104,">0") | D8: =SUMIFS('Planning garde'!$K$5:$K$104,'Planning garde'!$A$5:$A$104,">="&DATE(2026,3,1),'Planning garde'!$A$5:$A$104,"<"&DATE(2026,4,1)) | E8: =SUMIFS('Planning garde'!$L$5:$L$104,'Planning garde'!$A$5:$A$104,">="&DATE(2026,3,1),'Planning garde'!$A$5:$A$104,"<"&DATE(2026,4,1)) | F8: =SUMIFS('Planning garde'!$M$5:$M$104,'Planning garde'!$A$5:$A$104,">="&DATE(2026,3,1),'Planning garde'!$A$5:$A$104,"<"&DATE(2026,4,1),'Planning garde'!$M$5:$M$104,">0") | G8: =IFERROR(C8/B8,0) | H8: =SUMIFS('Planning garde'!$O$5:$O$104,'Planning garde'!$A$5:$A$104,">="&DATE(2026,3,1),'Planning garde'!$A$5:$A$104,"<"&DATE(2026,4,1)) | I8: =SUMIFS('Planning garde'!$P$5:$P$104,'Planning garde'!$A$5:$A$104,">="&DATE(2026,3,1),'Planning garde'!$A$5:$A$104,"<"&DATE(2026,4,1)) | J8: =SUMIFS('Planning garde'!$Q$5:$Q$104,'Planning garde'!$A$5:$A$104,">="&DATE(2026,3,1),'Planning garde'!$A$5:$A$104,"<"&DATE(2026,4,1)) | K8: =SUM(H8:J8) | L8: =K8-'Paramètres & consignes'!$B$10 | O8: Absence | P8: =COUNTIF('Planning garde'!$S$5:$S$104,O8)
A9: Avril 2026 | B9: =COUNTIFS('Planning garde'!$A$5:$A$104,">="&DATE(2026,4,1),'Planning garde'!$A$5:$A$104,"<"&DATE(2026,5,1)) | C9: =COUNTIFS('Planning garde'!$A$5:$A$104,">="&DATE(2026,4,1),'Planning garde'!$A$5:$A$104,"<"&DATE(2026,5,1),'Planning garde'!$L$5:$L$104,">0") | D9: =SUMIFS('Planning garde'!$K$5:$K$104,'Planning garde'!$A$5:$A$104,">="&DATE(2026,4,1),'Planning garde'!$A$5:$A$104,"<"&DATE(2026,5,1)) | E9: =SUMIFS('Planning garde'!$L$5:$L$104,'Planning garde'!$A$5:$A$104,">="&DATE(2026,4,1),'Planning garde'!$A$5:$A$104,"<"&DATE(2026,5,1)) | F9: =SUMIFS('Planning garde'!$M$5:$M$104,'Planning garde'!$A$5:$A$104,">="&DATE(2026,4,1),'Planning garde'!$A$5:$A$104,"<"&DATE(2026,5,1),'Planning garde'!$M$5:$M$104,">0") | G9: =IFERROR(C9/B9,0) | H9: =SUMIFS('Planning garde'!$O$5:$O$104,'Planning garde'!$A$5:$A$104,">="&DATE(2026,4,1),'Planning garde'!$A$5:$A$104,"<"&DATE(2026,5,1)) | I9: =SUMIFS('Planning garde'!$P$5:$P$104,'Planning garde'!$A$5:$A$104,">="&DATE(2026,4,1),'Planning garde'!$A$5:$A$104,"<"&DATE(2026,5,1)) | J9: =SUMIFS('Planning garde'!$Q$5:$Q$104,'Planning garde'!$A$5:$A$104,">="&DATE(2026,4,1),'Planning garde'!$A$5:$A$104,"<"&DATE(2026,5,1)) | K9: =SUM(H9:J9) | L9: =K9-'Paramètres & consignes'!$B$10 | O9: Départ anticipé | P9: =COUNTIF('Planning garde'!$S$5:$S$104,O9)
A10: Mai 2026 | B10: =COUNTIFS('Planning garde'!$A$5:$A$104,">="&DATE(2026,5,1),'Planning garde'!$A$5:$A$104,"<"&DATE(2026,6,1)) | C10: =COUNTIFS('Planning garde'!$A$5:$A$104,">="&DATE(2026,5,1),'Planning garde'!$A$5:$A$104,"<"&DATE(2026,6,1),'Planning garde'!$L$5:$L$104,">0") | D10: =SUMIFS('Planning garde'!$K$5:$K$104,'Planning garde'!$A$5:$A$104,">="&DATE(2026,5,1),'Planning garde'!$A$5:$A$104,"<"&DATE(2026,6,1)) | E10: =SUMIFS('Planning garde'!$L$5:$L$104,'Planning garde'!$A$5:$A$104,">="&DATE(2026,5,1),'Planning garde'!$A$5:$A$104,"<"&DATE(2026,6,1)) | F10: =SUMIFS('Planning garde'!$M$5:$M$104,'Planning garde'!$A$5:$A$104,">="&DATE(2026,5,1),'Planning garde'!$A$5:$A$104,"<"&DATE(2026,6,1),'Planning garde'!$M$5:$M$104,">0") | G10: =IFERROR(C10/B10,0) | H10: =SUMIFS('Planning garde'!$O$5:$O$104,'Planning garde'!$A$5:$A$104,">="&DATE(2026,5,1),'Planning garde'!$A$5:$A$104,"<"&DATE(2026,6,1)) | I10: =SUMIFS('Planning garde'!$P$5:$P$104,'Planning garde'!$A$5:$A$104,">="&DATE(2026,5,1),'Planning garde'!$A$5:$A$104,"<"&DATE(2026,6,1)) | J10: =SUMIFS('Planning garde'!$Q$5:$Q$104,'Planning garde'!$A$5:$A$104,">="&DATE(2026,5,1),'Planning garde'!$A$5:$A$104,"<"&DATE(2026,6,1)) | K10: =SUM(H10:J10) | L10: =K10-'Paramètres & consignes'!$B$10
A11: Juin 2026 | B11: =COUNTIFS('Planning garde'!$A$5:$A$104,">="&DATE(2026,6,1),'Planning garde'!$A$5:$A$104,"<"&DATE(2026,7,1)) | C11: =COUNTIFS('Planning garde'!$A$5:$A$104,">="&DATE(2026,6,1),'Planning garde'!$A$5:$A$104,"<"&DATE(2026,7,1),'Planning garde'!$L$5:$L$104,">0") | D11: =SUMIFS('Planning garde'!$K$5:$K$104,'Planning garde'!$A$5:$A$104,">="&DATE(2026,6,1),'Planning garde'!$A$5:$A$104,"<"&DATE(2026,7,1)) | E11: =SUMIFS('Planning garde'!$L$5:$L$104,'Planning garde'!$A$5:$A$104,">="&DATE(2026,6,1),'Planning garde'!$A$5:$A$104,"<"&DATE(2026,7,1)) | F11: =SUMIFS('Planning garde'!$M$5:$M$104,'Planning garde'!$A$5:$A$104,">="&DATE(2026,6,1),'Planning garde'!$A$5:$A$104,"<"&DATE(2026,7,1),'Planning garde'!$M$5:$M$104,">0") | G11: =IFERROR(C11/B11,0) | H11: =SUMIFS('Planning garde'!$O$5:$O$104,'Planning garde'!$A$5:$A$104,">="&DATE(2026,6,1),'Planning garde'!$A$5:$A$104,"<"&DATE(2026,7,1)) | I11: =SUMIFS('Planning garde'!$P$5:$P$104,'Planning garde'!$A$5:$A$104,">="&DATE(2026,6,1),'Planning garde'!$A$5:$A$104,"<"&DATE(2026,7,1)) | J11: =SUMIFS('Planning garde'!$Q$5:$Q$104,'Planning garde'!$A$5:$A$104,">="&DATE(2026,6,1),'Planning garde'!$A$5:$A$104,"<"&DATE(2026,7,1)) | K11: =SUM(H11:J11) | L11: =K11-'Paramètres & consignes'!$B$10

Sheet Paramètres & consignes
A1: Paramètres du contrat et consignes
A3: Paramètre | B3: Valeur | D3: Table de correspondance des tarifs
A4: Nom de l’employeur | B4: Julien Dubois | D4: Type de garde | E4: Tarif horaire (€)
A5: Nom de la nounou | B5: Camille Martin | D5: Accueil régulier | E5: =$B$8
A6: Nom de l’enfant | B6: Emma Dubois | D6: Accueil occasionnel | E6: =IFERROR($B$8*1.08,0)
A7: Ville | B7: Paris | D7: Heures supplémentaires | E7: =IFERROR($B$8*(1+$B$13),0)
A8: Tarif horaire brut (€) | B8: 12.5
A9: Indemnité d’entretien par jour (€) | B9: 4.5
A10: Budget mensuel (€) | B10: 850
A11: Kilomètres remboursés par défaut | B11: 6
A12: Barème kilométrique (€ / km) | B12: 0.45
A13: Taux d’heures supplémentaires | B13: 0.25
A16: Consignes importantes
A17: Mensualisation : conserver le contrat, les horaires de référence et les éventuels avenants à jour.
A18: Bulletin de paie : vérifier chaque mois les heures, les indemnités et les éventuelles majorations avant validation.
A19: Congés payés : saisir les absences, congés et jours non travaillés selon les modalités prévues au contrat.
A20: Déclaration : effectuer la déclaration mensuelle via Pajemploi ou l’URSSAF selon le régime applicable.
A21: Confidentialité : limiter l’accès au classeur aux personnes autorisées et éviter le partage des données personnelles.
A22: RGPD / CNIL : conserver uniquement les informations nécessaires à la gestion de la garde et les supprimer selon la durée utile.

Sheet Mode d'emploi
A1: Mode d'emploi du classeur Planning nounou
A3: Élément | B3: Utilisation | C3: À vérifier | D3: Fréquence | E3: Responsable
A4: Planning garde | B4: Saisir une ligne par journée de garde dans les cellules jaunes. | C4: Date, horaires réels, pause, kilomètres et commentaires. | D4: À chaque journée | E4: Parents employeurs
A5: Heures prévues | B5: Les heures prévues sont calculées à partir des horaires contractuels. | C5: Heure d’arrivée et heure de départ prévues. | D5: À chaque modification | E5: Parents employeurs
A6: Heures réalisées | B6: Les heures réalisées déduisent automatiquement la pause saisie. | C6: Horaires réels et durée de la pause. | D6: À chaque journée | E6: Nounou et parents
A7: Statut | B7: Le statut identifie automatiquement une absence, un écart ou une conformité. | C7: Toute situation exceptionnelle à préciser dans les commentaires. | D7: À chaque journée | E7: Parents employeurs
A8: Frais | B8: Les frais kilométriques et l’indemnité d’entretien sont calculés automatiquement. | C8: Kilométrage quotidien et barème à jour. | D8: Chaque mois | E8: Parents employeurs
A9: Synthèse mensuelle | B9: Consulter les montants, heures, présence et écart par rapport au budget. | C9: Vérifier les données avant le paiement et la déclaration. | D9: Fin de mois | E9: Parents employeurs
A10: Paramètres | B10: Mettre à jour le tarif, le budget, les indemnités et les données du contrat. | C10: Conformité avec le contrat signé et les règles applicables. | D10: À chaque avenant | E10: Parents employeurs
A11: Archivage | B11: Conserver une copie mensuelle validée avec les justificatifs utiles. | C11: Respect de la confidentialité des données personnelles. | D11: Mensuel | E11: Parents employeurs
